BEGIN:VCALENDAR
VERSION:2.0
PRODID:-// - ECPv6.15.20//NONSGML v1.0//EN
CALSCALE:GREGORIAN
METHOD:PUBLISH
X-ORIGINAL-URL:https://iwcbda.com
X-WR-CALDESC:Events for 
REFRESH-INTERVAL;VALUE=DURATION:PT1H
X-Robots-Tag:noindex
X-PUBLISHED-TTL:PT1H
BEGIN:VTIMEZONE
TZID:Atlantic/Bermuda
BEGIN:DAYLIGHT
TZOFFSETFROM:-0400
TZOFFSETTO:-0300
TZNAME:ADT
DTSTART:20260308T060000
END:DAYLIGHT
BEGIN:STANDARD
TZOFFSETFROM:-0300
TZOFFSETTO:-0400
TZNAME:AST
DTSTART:20261101T050000
END:STANDARD
BEGIN:DAYLIGHT
TZOFFSETFROM:-0400
TZOFFSETTO:-0300
TZNAME:ADT
DTSTART:20270314T060000
END:DAYLIGHT
BEGIN:STANDARD
TZOFFSETFROM:-0300
TZOFFSETTO:-0400
TZNAME:AST
DTSTART:20271107T050000
END:STANDARD
BEGIN:DAYLIGHT
TZOFFSETFROM:-0400
TZOFFSETTO:-0300
TZNAME:ADT
DTSTART:20280312T060000
END:DAYLIGHT
BEGIN:STANDARD
TZOFFSETFROM:-0300
TZOFFSETTO:-0400
TZNAME:AST
DTSTART:20281105T050000
END:STANDARD
END:VTIMEZONE
BEGIN:VEVENT
DTSTART;TZID=Atlantic/Bermuda:20270429T090000
DTEND;TZID=Atlantic/Bermuda:20270429T103000
DTSTAMP:20260420T175924
CREATED:20250618T170618Z
LAST-MODIFIED:20250618T170618Z
UID:10006446-1808989200-1808994600@iwcbda.com
SUMMARY:IWC Tennis
DESCRIPTION:
URL:https://iwcbda.com/event/iwc-tennis/2027-04-29/
LOCATION:W.E.R. Joell Tennis Stadium\, 2 Marsh Folly Rd\, Pembroke\, Bermuda
CATEGORIES:sports,weekly
END:VEVENT
BEGIN:VEVENT
DTSTART;TZID=Atlantic/Bermuda:20270429T170000
DTEND;TZID=Atlantic/Bermuda:20270429T190000
DTSTAMP:20260420T175924
CREATED:20250618T164459Z
LAST-MODIFIED:20250618T164459Z
UID:10005655-1809018000-1809025200@iwcbda.com
SUMMARY:IWC Happy Hour
DESCRIPTION:
URL:https://iwcbda.com/event/iwc-happy-hour/2027-04-29/
CATEGORIES:social,weekly
END:VEVENT
BEGIN:VEVENT
DTSTART;TZID=Atlantic/Bermuda:20270430T093000
DTEND;TZID=Atlantic/Bermuda:20270430T113000
DTSTAMP:20260420T175924
CREATED:20250618T163933Z
LAST-MODIFIED:20250618T164315Z
UID:10004981-1809077400-1809084600@iwcbda.com
SUMMARY:Art Group
DESCRIPTION:
URL:https://iwcbda.com/event/art-group/2027-04-30/
CATEGORIES:weekly
END:VEVENT
BEGIN:VEVENT
DTSTART;TZID=Atlantic/Bermuda:20270503T090000
DTEND;TZID=Atlantic/Bermuda:20270503T130000
DTSTAMP:20260420T175924
CREATED:20260205T144340Z
LAST-MODIFIED:20260205T144340Z
UID:10007393-1809334800-1809349200@iwcbda.com
SUMMARY:Gotta Golf Monday
DESCRIPTION:Join Val and fellow IWC golfers for 18 holes every Monday!The cost is $50 (BHGC members pay the cart fee only) and includes either a shared cart or a push cart. Some of us walk the front nine and ride the back nine. The price is the same no matter how you get around the course. \nIt’s the best golf deal in Bermy — and it’s exclusively for IWC members!
URL:https://iwcbda.com/event/gotta-golf-monday/2027-05-03/
LOCATION:Belmont Hills Golf Course\, Warwick\, WK06\, Bermuda
CATEGORIES:golf,weekly
ORGANIZER;CN="Val Platt":MAILTO:val@transact.bm
END:VEVENT
BEGIN:VEVENT
DTSTART;TZID=Atlantic/Bermuda:20270503T093000
DTEND;TZID=Atlantic/Bermuda:20270503T113000
DTSTAMP:20260420T175924
CREATED:20260206T160646Z
LAST-MODIFIED:20260206T160647Z
UID:10006784-1809336600-1809343800@iwcbda.com
SUMMARY:IWC Bermuda Trekkers
DESCRIPTION:
URL:https://iwcbda.com/event/iwc-bermuda-trekkers-2/2027-05-03/
CATEGORIES:weekly
END:VEVENT
BEGIN:VEVENT
DTSTART;TZID=Atlantic/Bermuda:20270504T130000
DTEND;TZID=Atlantic/Bermuda:20270504T160000
DTSTAMP:20260420T175924
CREATED:20250618T164705Z
LAST-MODIFIED:20250618T164705Z
UID:10005993-1809435600-1809446400@iwcbda.com
SUMMARY:Mahjong
DESCRIPTION:
URL:https://iwcbda.com/event/mahjong/2027-05-04/
LOCATION:Dinghy Club\, 26 Pomander Rd\, Hamilton\, Bermuda
CATEGORIES:weekly
END:VEVENT
BEGIN:VEVENT
DTSTART;TZID=Atlantic/Bermuda:20270506T090000
DTEND;TZID=Atlantic/Bermuda:20270506T103000
DTSTAMP:20260420T175924
CREATED:20250618T170618Z
LAST-MODIFIED:20250618T170618Z
UID:10006447-1809594000-1809599400@iwcbda.com
SUMMARY:IWC Tennis
DESCRIPTION:
URL:https://iwcbda.com/event/iwc-tennis/2027-05-06/
LOCATION:W.E.R. Joell Tennis Stadium\, 2 Marsh Folly Rd\, Pembroke\, Bermuda
CATEGORIES:sports,weekly
END:VEVENT
BEGIN:VEVENT
DTSTART;TZID=Atlantic/Bermuda:20270506T170000
DTEND;TZID=Atlantic/Bermuda:20270506T190000
DTSTAMP:20260420T175924
CREATED:20250618T164459Z
LAST-MODIFIED:20250618T164459Z
UID:10005656-1809622800-1809630000@iwcbda.com
SUMMARY:IWC Happy Hour
DESCRIPTION:
URL:https://iwcbda.com/event/iwc-happy-hour/2027-05-06/
CATEGORIES:social,weekly
END:VEVENT
BEGIN:VEVENT
DTSTART;TZID=Atlantic/Bermuda:20270507T093000
DTEND;TZID=Atlantic/Bermuda:20270507T113000
DTSTAMP:20260420T175924
CREATED:20250618T163933Z
LAST-MODIFIED:20250618T164315Z
UID:10004982-1809682200-1809689400@iwcbda.com
SUMMARY:Art Group
DESCRIPTION:
URL:https://iwcbda.com/event/art-group/2027-05-07/
CATEGORIES:weekly
END:VEVENT
BEGIN:VEVENT
DTSTART;TZID=Atlantic/Bermuda:20270510T090000
DTEND;TZID=Atlantic/Bermuda:20270510T130000
DTSTAMP:20260420T175924
CREATED:20260205T144340Z
LAST-MODIFIED:20260205T144340Z
UID:10007394-1809939600-1809954000@iwcbda.com
SUMMARY:Gotta Golf Monday
DESCRIPTION:Join Val and fellow IWC golfers for 18 holes every Monday!The cost is $50 (BHGC members pay the cart fee only) and includes either a shared cart or a push cart. Some of us walk the front nine and ride the back nine. The price is the same no matter how you get around the course. \nIt’s the best golf deal in Bermy — and it’s exclusively for IWC members!
URL:https://iwcbda.com/event/gotta-golf-monday/2027-05-10/
LOCATION:Belmont Hills Golf Course\, Warwick\, WK06\, Bermuda
CATEGORIES:golf,weekly
ORGANIZER;CN="Val Platt":MAILTO:val@transact.bm
END:VEVENT
BEGIN:VEVENT
DTSTART;TZID=Atlantic/Bermuda:20270510T093000
DTEND;TZID=Atlantic/Bermuda:20270510T113000
DTSTAMP:20260420T175924
CREATED:20260206T160646Z
LAST-MODIFIED:20260206T160647Z
UID:10006785-1809941400-1809948600@iwcbda.com
SUMMARY:IWC Bermuda Trekkers
DESCRIPTION:
URL:https://iwcbda.com/event/iwc-bermuda-trekkers-2/2027-05-10/
CATEGORIES:weekly
END:VEVENT
BEGIN:VEVENT
DTSTART;TZID=Atlantic/Bermuda:20270511T130000
DTEND;TZID=Atlantic/Bermuda:20270511T160000
DTSTAMP:20260420T175924
CREATED:20250618T164705Z
LAST-MODIFIED:20250618T164705Z
UID:10005994-1810040400-1810051200@iwcbda.com
SUMMARY:Mahjong
DESCRIPTION:
URL:https://iwcbda.com/event/mahjong/2027-05-11/
LOCATION:Dinghy Club\, 26 Pomander Rd\, Hamilton\, Bermuda
CATEGORIES:weekly
END:VEVENT
BEGIN:VEVENT
DTSTART;TZID=Atlantic/Bermuda:20270513T090000
DTEND;TZID=Atlantic/Bermuda:20270513T103000
DTSTAMP:20260420T175924
CREATED:20250618T170618Z
LAST-MODIFIED:20250618T170618Z
UID:10006448-1810198800-1810204200@iwcbda.com
SUMMARY:IWC Tennis
DESCRIPTION:
URL:https://iwcbda.com/event/iwc-tennis/2027-05-13/
LOCATION:W.E.R. Joell Tennis Stadium\, 2 Marsh Folly Rd\, Pembroke\, Bermuda
CATEGORIES:sports,weekly
END:VEVENT
BEGIN:VEVENT
DTSTART;TZID=Atlantic/Bermuda:20270513T170000
DTEND;TZID=Atlantic/Bermuda:20270513T190000
DTSTAMP:20260420T175924
CREATED:20250618T164459Z
LAST-MODIFIED:20250618T164459Z
UID:10005657-1810227600-1810234800@iwcbda.com
SUMMARY:IWC Happy Hour
DESCRIPTION:
URL:https://iwcbda.com/event/iwc-happy-hour/2027-05-13/
CATEGORIES:social,weekly
END:VEVENT
BEGIN:VEVENT
DTSTART;TZID=Atlantic/Bermuda:20270514T093000
DTEND;TZID=Atlantic/Bermuda:20270514T113000
DTSTAMP:20260420T175924
CREATED:20250618T163933Z
LAST-MODIFIED:20250618T164315Z
UID:10004983-1810287000-1810294200@iwcbda.com
SUMMARY:Art Group
DESCRIPTION:
URL:https://iwcbda.com/event/art-group/2027-05-14/
CATEGORIES:weekly
END:VEVENT
BEGIN:VEVENT
DTSTART;TZID=Atlantic/Bermuda:20270517T090000
DTEND;TZID=Atlantic/Bermuda:20270517T130000
DTSTAMP:20260420T175924
CREATED:20260205T144340Z
LAST-MODIFIED:20260205T144340Z
UID:10007395-1810544400-1810558800@iwcbda.com
SUMMARY:Gotta Golf Monday
DESCRIPTION:Join Val and fellow IWC golfers for 18 holes every Monday!The cost is $50 (BHGC members pay the cart fee only) and includes either a shared cart or a push cart. Some of us walk the front nine and ride the back nine. The price is the same no matter how you get around the course. \nIt’s the best golf deal in Bermy — and it’s exclusively for IWC members!
URL:https://iwcbda.com/event/gotta-golf-monday/2027-05-17/
LOCATION:Belmont Hills Golf Course\, Warwick\, WK06\, Bermuda
CATEGORIES:golf,weekly
ORGANIZER;CN="Val Platt":MAILTO:val@transact.bm
END:VEVENT
BEGIN:VEVENT
DTSTART;TZID=Atlantic/Bermuda:20270517T093000
DTEND;TZID=Atlantic/Bermuda:20270517T113000
DTSTAMP:20260420T175924
CREATED:20260206T160646Z
LAST-MODIFIED:20260206T160647Z
UID:10006786-1810546200-1810553400@iwcbda.com
SUMMARY:IWC Bermuda Trekkers
DESCRIPTION:
URL:https://iwcbda.com/event/iwc-bermuda-trekkers-2/2027-05-17/
CATEGORIES:weekly
END:VEVENT
BEGIN:VEVENT
DTSTART;TZID=Atlantic/Bermuda:20270518T130000
DTEND;TZID=Atlantic/Bermuda:20270518T160000
DTSTAMP:20260420T175924
CREATED:20250618T164705Z
LAST-MODIFIED:20250618T164705Z
UID:10005995-1810645200-1810656000@iwcbda.com
SUMMARY:Mahjong
DESCRIPTION:
URL:https://iwcbda.com/event/mahjong/2027-05-18/
LOCATION:Dinghy Club\, 26 Pomander Rd\, Hamilton\, Bermuda
CATEGORIES:weekly
END:VEVENT
BEGIN:VEVENT
DTSTART;TZID=Atlantic/Bermuda:20270520T090000
DTEND;TZID=Atlantic/Bermuda:20270520T103000
DTSTAMP:20260420T175924
CREATED:20250618T170618Z
LAST-MODIFIED:20250618T170618Z
UID:10006449-1810803600-1810809000@iwcbda.com
SUMMARY:IWC Tennis
DESCRIPTION:
URL:https://iwcbda.com/event/iwc-tennis/2027-05-20/
LOCATION:W.E.R. Joell Tennis Stadium\, 2 Marsh Folly Rd\, Pembroke\, Bermuda
CATEGORIES:sports,weekly
END:VEVENT
BEGIN:VEVENT
DTSTART;TZID=Atlantic/Bermuda:20270520T170000
DTEND;TZID=Atlantic/Bermuda:20270520T190000
DTSTAMP:20260420T175924
CREATED:20250618T164459Z
LAST-MODIFIED:20250618T164459Z
UID:10005658-1810832400-1810839600@iwcbda.com
SUMMARY:IWC Happy Hour
DESCRIPTION:
URL:https://iwcbda.com/event/iwc-happy-hour/2027-05-20/
CATEGORIES:social,weekly
END:VEVENT
BEGIN:VEVENT
DTSTART;TZID=Atlantic/Bermuda:20270521T093000
DTEND;TZID=Atlantic/Bermuda:20270521T113000
DTSTAMP:20260420T175924
CREATED:20250618T163933Z
LAST-MODIFIED:20250618T164315Z
UID:10004984-1810891800-1810899000@iwcbda.com
SUMMARY:Art Group
DESCRIPTION:
URL:https://iwcbda.com/event/art-group/2027-05-21/
CATEGORIES:weekly
END:VEVENT
BEGIN:VEVENT
DTSTART;TZID=Atlantic/Bermuda:20270524T090000
DTEND;TZID=Atlantic/Bermuda:20270524T130000
DTSTAMP:20260420T175924
CREATED:20260205T144340Z
LAST-MODIFIED:20260205T144340Z
UID:10007396-1811149200-1811163600@iwcbda.com
SUMMARY:Gotta Golf Monday
DESCRIPTION:Join Val and fellow IWC golfers for 18 holes every Monday!The cost is $50 (BHGC members pay the cart fee only) and includes either a shared cart or a push cart. Some of us walk the front nine and ride the back nine. The price is the same no matter how you get around the course. \nIt’s the best golf deal in Bermy — and it’s exclusively for IWC members!
URL:https://iwcbda.com/event/gotta-golf-monday/2027-05-24/
LOCATION:Belmont Hills Golf Course\, Warwick\, WK06\, Bermuda
CATEGORIES:golf,weekly
ORGANIZER;CN="Val Platt":MAILTO:val@transact.bm
END:VEVENT
BEGIN:VEVENT
DTSTART;TZID=Atlantic/Bermuda:20270524T093000
DTEND;TZID=Atlantic/Bermuda:20270524T113000
DTSTAMP:20260420T175924
CREATED:20260206T160646Z
LAST-MODIFIED:20260206T160647Z
UID:10006787-1811151000-1811158200@iwcbda.com
SUMMARY:IWC Bermuda Trekkers
DESCRIPTION:
URL:https://iwcbda.com/event/iwc-bermuda-trekkers-2/2027-05-24/
CATEGORIES:weekly
END:VEVENT
BEGIN:VEVENT
DTSTART;TZID=Atlantic/Bermuda:20270525T130000
DTEND;TZID=Atlantic/Bermuda:20270525T160000
DTSTAMP:20260420T175924
CREATED:20250618T164705Z
LAST-MODIFIED:20250618T164705Z
UID:10005996-1811250000-1811260800@iwcbda.com
SUMMARY:Mahjong
DESCRIPTION:
URL:https://iwcbda.com/event/mahjong/2027-05-25/
LOCATION:Dinghy Club\, 26 Pomander Rd\, Hamilton\, Bermuda
CATEGORIES:weekly
END:VEVENT
BEGIN:VEVENT
DTSTART;TZID=Atlantic/Bermuda:20270527T090000
DTEND;TZID=Atlantic/Bermuda:20270527T103000
DTSTAMP:20260420T175924
CREATED:20250618T170618Z
LAST-MODIFIED:20250618T170618Z
UID:10006450-1811408400-1811413800@iwcbda.com
SUMMARY:IWC Tennis
DESCRIPTION:
URL:https://iwcbda.com/event/iwc-tennis/2027-05-27/
LOCATION:W.E.R. Joell Tennis Stadium\, 2 Marsh Folly Rd\, Pembroke\, Bermuda
CATEGORIES:sports,weekly
END:VEVENT
BEGIN:VEVENT
DTSTART;TZID=Atlantic/Bermuda:20270527T170000
DTEND;TZID=Atlantic/Bermuda:20270527T190000
DTSTAMP:20260420T175924
CREATED:20250618T164459Z
LAST-MODIFIED:20250618T164459Z
UID:10005659-1811437200-1811444400@iwcbda.com
SUMMARY:IWC Happy Hour
DESCRIPTION:
URL:https://iwcbda.com/event/iwc-happy-hour/2027-05-27/
CATEGORIES:social,weekly
END:VEVENT
BEGIN:VEVENT
DTSTART;TZID=Atlantic/Bermuda:20270528T093000
DTEND;TZID=Atlantic/Bermuda:20270528T113000
DTSTAMP:20260420T175924
CREATED:20250618T163933Z
LAST-MODIFIED:20250618T164315Z
UID:10004985-1811496600-1811503800@iwcbda.com
SUMMARY:Art Group
DESCRIPTION:
URL:https://iwcbda.com/event/art-group/2027-05-28/
CATEGORIES:weekly
END:VEVENT
BEGIN:VEVENT
DTSTART;TZID=Atlantic/Bermuda:20270531T090000
DTEND;TZID=Atlantic/Bermuda:20270531T130000
DTSTAMP:20260420T175924
CREATED:20260205T144340Z
LAST-MODIFIED:20260205T144340Z
UID:10007397-1811754000-1811768400@iwcbda.com
SUMMARY:Gotta Golf Monday
DESCRIPTION:Join Val and fellow IWC golfers for 18 holes every Monday!The cost is $50 (BHGC members pay the cart fee only) and includes either a shared cart or a push cart. Some of us walk the front nine and ride the back nine. The price is the same no matter how you get around the course. \nIt’s the best golf deal in Bermy — and it’s exclusively for IWC members!
URL:https://iwcbda.com/event/gotta-golf-monday/2027-05-31/
LOCATION:Belmont Hills Golf Course\, Warwick\, WK06\, Bermuda
CATEGORIES:golf,weekly
ORGANIZER;CN="Val Platt":MAILTO:val@transact.bm
END:VEVENT
BEGIN:VEVENT
DTSTART;TZID=Atlantic/Bermuda:20270531T093000
DTEND;TZID=Atlantic/Bermuda:20270531T113000
DTSTAMP:20260420T175924
CREATED:20260206T160646Z
LAST-MODIFIED:20260206T160647Z
UID:10006788-1811755800-1811763000@iwcbda.com
SUMMARY:IWC Bermuda Trekkers
DESCRIPTION:
URL:https://iwcbda.com/event/iwc-bermuda-trekkers-2/2027-05-31/
CATEGORIES:weekly
END:VEVENT
BEGIN:VEVENT
DTSTART;TZID=Atlantic/Bermuda:20270601T130000
DTEND;TZID=Atlantic/Bermuda:20270601T160000
DTSTAMP:20260420T175924
CREATED:20250618T164705Z
LAST-MODIFIED:20250618T164705Z
UID:10005997-1811854800-1811865600@iwcbda.com
SUMMARY:Mahjong
DESCRIPTION:
URL:https://iwcbda.com/event/mahjong/2027-06-01/
LOCATION:Dinghy Club\, 26 Pomander Rd\, Hamilton\, Bermuda
CATEGORIES:weekly
END:VEVENT
END:VCALENDAR