BEGIN:VCALENDAR
VERSION:2.0
PRODID:-// - ECPv6.15.20//NONSGML v1.0//EN
CALSCALE:GREGORIAN
METHOD:PUBLISH
X-ORIGINAL-URL:https://iwcbda.com
X-WR-CALDESC:Events for 
REFRESH-INTERVAL;VALUE=DURATION:PT1H
X-Robots-Tag:noindex
X-PUBLISHED-TTL:PT1H
BEGIN:VTIMEZONE
TZID:Atlantic/Bermuda
BEGIN:DAYLIGHT
TZOFFSETFROM:-0400
TZOFFSETTO:-0300
TZNAME:ADT
DTSTART:20260308T060000
END:DAYLIGHT
BEGIN:STANDARD
TZOFFSETFROM:-0300
TZOFFSETTO:-0400
TZNAME:AST
DTSTART:20261101T050000
END:STANDARD
BEGIN:DAYLIGHT
TZOFFSETFROM:-0400
TZOFFSETTO:-0300
TZNAME:ADT
DTSTART:20270314T060000
END:DAYLIGHT
BEGIN:STANDARD
TZOFFSETFROM:-0300
TZOFFSETTO:-0400
TZNAME:AST
DTSTART:20271107T050000
END:STANDARD
BEGIN:DAYLIGHT
TZOFFSETFROM:-0400
TZOFFSETTO:-0300
TZNAME:ADT
DTSTART:20280312T060000
END:DAYLIGHT
BEGIN:STANDARD
TZOFFSETFROM:-0300
TZOFFSETTO:-0400
TZNAME:AST
DTSTART:20281105T050000
END:STANDARD
END:VTIMEZONE
BEGIN:VEVENT
DTSTART;TZID=Atlantic/Bermuda:20270405T093000
DTEND;TZID=Atlantic/Bermuda:20270405T113000
DTSTAMP:20260421T234210
CREATED:20260206T160646Z
LAST-MODIFIED:20260206T160647Z
UID:10006780-1806917400-1806924600@iwcbda.com
SUMMARY:IWC Bermuda Trekkers
DESCRIPTION:
URL:https://iwcbda.com/event/iwc-bermuda-trekkers-2/2027-04-05/
CATEGORIES:weekly
END:VEVENT
BEGIN:VEVENT
DTSTART;TZID=Atlantic/Bermuda:20270406T130000
DTEND;TZID=Atlantic/Bermuda:20270406T160000
DTSTAMP:20260421T234210
CREATED:20250618T164705Z
LAST-MODIFIED:20250618T164705Z
UID:10005989-1807016400-1807027200@iwcbda.com
SUMMARY:Mahjong
DESCRIPTION:
URL:https://iwcbda.com/event/mahjong/2027-04-06/
LOCATION:Dinghy Club\, 26 Pomander Rd\, Hamilton\, Bermuda
CATEGORIES:weekly
END:VEVENT
BEGIN:VEVENT
DTSTART;TZID=Atlantic/Bermuda:20270408T090000
DTEND;TZID=Atlantic/Bermuda:20270408T103000
DTSTAMP:20260421T234210
CREATED:20250618T170618Z
LAST-MODIFIED:20250618T170618Z
UID:10006443-1807174800-1807180200@iwcbda.com
SUMMARY:IWC Tennis
DESCRIPTION:
URL:https://iwcbda.com/event/iwc-tennis/2027-04-08/
LOCATION:W.E.R. Joell Tennis Stadium\, 2 Marsh Folly Rd\, Pembroke\, Bermuda
CATEGORIES:sports,weekly
END:VEVENT
BEGIN:VEVENT
DTSTART;TZID=Atlantic/Bermuda:20270408T170000
DTEND;TZID=Atlantic/Bermuda:20270408T190000
DTSTAMP:20260421T234210
CREATED:20250618T164459Z
LAST-MODIFIED:20250618T164459Z
UID:10005652-1807203600-1807210800@iwcbda.com
SUMMARY:IWC Happy Hour
DESCRIPTION:
URL:https://iwcbda.com/event/iwc-happy-hour/2027-04-08/
CATEGORIES:social,weekly
END:VEVENT
BEGIN:VEVENT
DTSTART;TZID=Atlantic/Bermuda:20270409T093000
DTEND;TZID=Atlantic/Bermuda:20270409T113000
DTSTAMP:20260421T234210
CREATED:20250618T163933Z
LAST-MODIFIED:20250618T164315Z
UID:10004978-1807263000-1807270200@iwcbda.com
SUMMARY:Art Group
DESCRIPTION:
URL:https://iwcbda.com/event/art-group/2027-04-09/
CATEGORIES:weekly
END:VEVENT
BEGIN:VEVENT
DTSTART;TZID=Atlantic/Bermuda:20270412T090000
DTEND;TZID=Atlantic/Bermuda:20270412T130000
DTSTAMP:20260421T234210
CREATED:20260205T144340Z
LAST-MODIFIED:20260205T144340Z
UID:10007390-1807520400-1807534800@iwcbda.com
SUMMARY:Gotta Golf Monday
DESCRIPTION:Join Val and fellow IWC golfers for 18 holes every Monday!The cost is $50 (BHGC members pay the cart fee only) and includes either a shared cart or a push cart. Some of us walk the front nine and ride the back nine. The price is the same no matter how you get around the course. \nIt’s the best golf deal in Bermy — and it’s exclusively for IWC members!
URL:https://iwcbda.com/event/gotta-golf-monday/2027-04-12/
LOCATION:Belmont Hills Golf Course\, Warwick\, WK06\, Bermuda
CATEGORIES:golf,weekly
ORGANIZER;CN="Val Platt":MAILTO:val@transact.bm
END:VEVENT
BEGIN:VEVENT
DTSTART;TZID=Atlantic/Bermuda:20270412T093000
DTEND;TZID=Atlantic/Bermuda:20270412T113000
DTSTAMP:20260421T234210
CREATED:20260206T160646Z
LAST-MODIFIED:20260206T160647Z
UID:10006781-1807522200-1807529400@iwcbda.com
SUMMARY:IWC Bermuda Trekkers
DESCRIPTION:
URL:https://iwcbda.com/event/iwc-bermuda-trekkers-2/2027-04-12/
CATEGORIES:weekly
END:VEVENT
BEGIN:VEVENT
DTSTART;TZID=Atlantic/Bermuda:20270413T130000
DTEND;TZID=Atlantic/Bermuda:20270413T160000
DTSTAMP:20260421T234210
CREATED:20250618T164705Z
LAST-MODIFIED:20250618T164705Z
UID:10005990-1807621200-1807632000@iwcbda.com
SUMMARY:Mahjong
DESCRIPTION:
URL:https://iwcbda.com/event/mahjong/2027-04-13/
LOCATION:Dinghy Club\, 26 Pomander Rd\, Hamilton\, Bermuda
CATEGORIES:weekly
END:VEVENT
BEGIN:VEVENT
DTSTART;TZID=Atlantic/Bermuda:20270415T090000
DTEND;TZID=Atlantic/Bermuda:20270415T103000
DTSTAMP:20260421T234210
CREATED:20250618T170618Z
LAST-MODIFIED:20250618T170618Z
UID:10006444-1807779600-1807785000@iwcbda.com
SUMMARY:IWC Tennis
DESCRIPTION:
URL:https://iwcbda.com/event/iwc-tennis/2027-04-15/
LOCATION:W.E.R. Joell Tennis Stadium\, 2 Marsh Folly Rd\, Pembroke\, Bermuda
CATEGORIES:sports,weekly
END:VEVENT
BEGIN:VEVENT
DTSTART;TZID=Atlantic/Bermuda:20270415T170000
DTEND;TZID=Atlantic/Bermuda:20270415T190000
DTSTAMP:20260421T234210
CREATED:20250618T164459Z
LAST-MODIFIED:20250618T164459Z
UID:10005653-1807808400-1807815600@iwcbda.com
SUMMARY:IWC Happy Hour
DESCRIPTION:
URL:https://iwcbda.com/event/iwc-happy-hour/2027-04-15/
CATEGORIES:social,weekly
END:VEVENT
BEGIN:VEVENT
DTSTART;TZID=Atlantic/Bermuda:20270416T093000
DTEND;TZID=Atlantic/Bermuda:20270416T113000
DTSTAMP:20260421T234210
CREATED:20250618T163933Z
LAST-MODIFIED:20250618T164315Z
UID:10004979-1807867800-1807875000@iwcbda.com
SUMMARY:Art Group
DESCRIPTION:
URL:https://iwcbda.com/event/art-group/2027-04-16/
CATEGORIES:weekly
END:VEVENT
BEGIN:VEVENT
DTSTART;TZID=Atlantic/Bermuda:20270419T090000
DTEND;TZID=Atlantic/Bermuda:20270419T130000
DTSTAMP:20260421T234210
CREATED:20260205T144340Z
LAST-MODIFIED:20260205T144340Z
UID:10007391-1808125200-1808139600@iwcbda.com
SUMMARY:Gotta Golf Monday
DESCRIPTION:Join Val and fellow IWC golfers for 18 holes every Monday!The cost is $50 (BHGC members pay the cart fee only) and includes either a shared cart or a push cart. Some of us walk the front nine and ride the back nine. The price is the same no matter how you get around the course. \nIt’s the best golf deal in Bermy — and it’s exclusively for IWC members!
URL:https://iwcbda.com/event/gotta-golf-monday/2027-04-19/
LOCATION:Belmont Hills Golf Course\, Warwick\, WK06\, Bermuda
CATEGORIES:golf,weekly
ORGANIZER;CN="Val Platt":MAILTO:val@transact.bm
END:VEVENT
BEGIN:VEVENT
DTSTART;TZID=Atlantic/Bermuda:20270419T093000
DTEND;TZID=Atlantic/Bermuda:20270419T113000
DTSTAMP:20260421T234210
CREATED:20260206T160646Z
LAST-MODIFIED:20260206T160647Z
UID:10006782-1808127000-1808134200@iwcbda.com
SUMMARY:IWC Bermuda Trekkers
DESCRIPTION:
URL:https://iwcbda.com/event/iwc-bermuda-trekkers-2/2027-04-19/
CATEGORIES:weekly
END:VEVENT
BEGIN:VEVENT
DTSTART;TZID=Atlantic/Bermuda:20270420T130000
DTEND;TZID=Atlantic/Bermuda:20270420T160000
DTSTAMP:20260421T234210
CREATED:20250618T164705Z
LAST-MODIFIED:20250618T164705Z
UID:10005991-1808226000-1808236800@iwcbda.com
SUMMARY:Mahjong
DESCRIPTION:
URL:https://iwcbda.com/event/mahjong/2027-04-20/
LOCATION:Dinghy Club\, 26 Pomander Rd\, Hamilton\, Bermuda
CATEGORIES:weekly
END:VEVENT
BEGIN:VEVENT
DTSTART;TZID=Atlantic/Bermuda:20270422T090000
DTEND;TZID=Atlantic/Bermuda:20270422T103000
DTSTAMP:20260421T234210
CREATED:20250618T170618Z
LAST-MODIFIED:20250618T170618Z
UID:10006445-1808384400-1808389800@iwcbda.com
SUMMARY:IWC Tennis
DESCRIPTION:
URL:https://iwcbda.com/event/iwc-tennis/2027-04-22/
LOCATION:W.E.R. Joell Tennis Stadium\, 2 Marsh Folly Rd\, Pembroke\, Bermuda
CATEGORIES:sports,weekly
END:VEVENT
BEGIN:VEVENT
DTSTART;TZID=Atlantic/Bermuda:20270422T170000
DTEND;TZID=Atlantic/Bermuda:20270422T190000
DTSTAMP:20260421T234210
CREATED:20250618T164459Z
LAST-MODIFIED:20250618T164459Z
UID:10005654-1808413200-1808420400@iwcbda.com
SUMMARY:IWC Happy Hour
DESCRIPTION:
URL:https://iwcbda.com/event/iwc-happy-hour/2027-04-22/
CATEGORIES:social,weekly
END:VEVENT
BEGIN:VEVENT
DTSTART;TZID=Atlantic/Bermuda:20270423T093000
DTEND;TZID=Atlantic/Bermuda:20270423T113000
DTSTAMP:20260421T234210
CREATED:20250618T163933Z
LAST-MODIFIED:20250618T164315Z
UID:10004980-1808472600-1808479800@iwcbda.com
SUMMARY:Art Group
DESCRIPTION:
URL:https://iwcbda.com/event/art-group/2027-04-23/
CATEGORIES:weekly
END:VEVENT
BEGIN:VEVENT
DTSTART;TZID=Atlantic/Bermuda:20270426T090000
DTEND;TZID=Atlantic/Bermuda:20270426T130000
DTSTAMP:20260421T234210
CREATED:20260205T144340Z
LAST-MODIFIED:20260205T144340Z
UID:10007392-1808730000-1808744400@iwcbda.com
SUMMARY:Gotta Golf Monday
DESCRIPTION:Join Val and fellow IWC golfers for 18 holes every Monday!The cost is $50 (BHGC members pay the cart fee only) and includes either a shared cart or a push cart. Some of us walk the front nine and ride the back nine. The price is the same no matter how you get around the course. \nIt’s the best golf deal in Bermy — and it’s exclusively for IWC members!
URL:https://iwcbda.com/event/gotta-golf-monday/2027-04-26/
LOCATION:Belmont Hills Golf Course\, Warwick\, WK06\, Bermuda
CATEGORIES:golf,weekly
ORGANIZER;CN="Val Platt":MAILTO:val@transact.bm
END:VEVENT
BEGIN:VEVENT
DTSTART;TZID=Atlantic/Bermuda:20270426T093000
DTEND;TZID=Atlantic/Bermuda:20270426T113000
DTSTAMP:20260421T234210
CREATED:20260206T160646Z
LAST-MODIFIED:20260206T160647Z
UID:10006783-1808731800-1808739000@iwcbda.com
SUMMARY:IWC Bermuda Trekkers
DESCRIPTION:
URL:https://iwcbda.com/event/iwc-bermuda-trekkers-2/2027-04-26/
CATEGORIES:weekly
END:VEVENT
BEGIN:VEVENT
DTSTART;TZID=Atlantic/Bermuda:20270427T130000
DTEND;TZID=Atlantic/Bermuda:20270427T160000
DTSTAMP:20260421T234210
CREATED:20250618T164705Z
LAST-MODIFIED:20250618T164705Z
UID:10005992-1808830800-1808841600@iwcbda.com
SUMMARY:Mahjong
DESCRIPTION:
URL:https://iwcbda.com/event/mahjong/2027-04-27/
LOCATION:Dinghy Club\, 26 Pomander Rd\, Hamilton\, Bermuda
CATEGORIES:weekly
END:VEVENT
BEGIN:VEVENT
DTSTART;TZID=Atlantic/Bermuda:20270429T090000
DTEND;TZID=Atlantic/Bermuda:20270429T103000
DTSTAMP:20260421T234210
CREATED:20250618T170618Z
LAST-MODIFIED:20250618T170618Z
UID:10006446-1808989200-1808994600@iwcbda.com
SUMMARY:IWC Tennis
DESCRIPTION:
URL:https://iwcbda.com/event/iwc-tennis/2027-04-29/
LOCATION:W.E.R. Joell Tennis Stadium\, 2 Marsh Folly Rd\, Pembroke\, Bermuda
CATEGORIES:sports,weekly
END:VEVENT
BEGIN:VEVENT
DTSTART;TZID=Atlantic/Bermuda:20270429T170000
DTEND;TZID=Atlantic/Bermuda:20270429T190000
DTSTAMP:20260421T234210
CREATED:20250618T164459Z
LAST-MODIFIED:20250618T164459Z
UID:10005655-1809018000-1809025200@iwcbda.com
SUMMARY:IWC Happy Hour
DESCRIPTION:
URL:https://iwcbda.com/event/iwc-happy-hour/2027-04-29/
CATEGORIES:social,weekly
END:VEVENT
BEGIN:VEVENT
DTSTART;TZID=Atlantic/Bermuda:20270430T093000
DTEND;TZID=Atlantic/Bermuda:20270430T113000
DTSTAMP:20260421T234210
CREATED:20250618T163933Z
LAST-MODIFIED:20250618T164315Z
UID:10004981-1809077400-1809084600@iwcbda.com
SUMMARY:Art Group
DESCRIPTION:
URL:https://iwcbda.com/event/art-group/2027-04-30/
CATEGORIES:weekly
END:VEVENT
BEGIN:VEVENT
DTSTART;TZID=Atlantic/Bermuda:20270503T090000
DTEND;TZID=Atlantic/Bermuda:20270503T130000
DTSTAMP:20260421T234210
CREATED:20260205T144340Z
LAST-MODIFIED:20260205T144340Z
UID:10007393-1809334800-1809349200@iwcbda.com
SUMMARY:Gotta Golf Monday
DESCRIPTION:Join Val and fellow IWC golfers for 18 holes every Monday!The cost is $50 (BHGC members pay the cart fee only) and includes either a shared cart or a push cart. Some of us walk the front nine and ride the back nine. The price is the same no matter how you get around the course. \nIt’s the best golf deal in Bermy — and it’s exclusively for IWC members!
URL:https://iwcbda.com/event/gotta-golf-monday/2027-05-03/
LOCATION:Belmont Hills Golf Course\, Warwick\, WK06\, Bermuda
CATEGORIES:golf,weekly
ORGANIZER;CN="Val Platt":MAILTO:val@transact.bm
END:VEVENT
BEGIN:VEVENT
DTSTART;TZID=Atlantic/Bermuda:20270503T093000
DTEND;TZID=Atlantic/Bermuda:20270503T113000
DTSTAMP:20260421T234210
CREATED:20260206T160646Z
LAST-MODIFIED:20260206T160647Z
UID:10006784-1809336600-1809343800@iwcbda.com
SUMMARY:IWC Bermuda Trekkers
DESCRIPTION:
URL:https://iwcbda.com/event/iwc-bermuda-trekkers-2/2027-05-03/
CATEGORIES:weekly
END:VEVENT
BEGIN:VEVENT
DTSTART;TZID=Atlantic/Bermuda:20270504T130000
DTEND;TZID=Atlantic/Bermuda:20270504T160000
DTSTAMP:20260421T234210
CREATED:20250618T164705Z
LAST-MODIFIED:20250618T164705Z
UID:10005993-1809435600-1809446400@iwcbda.com
SUMMARY:Mahjong
DESCRIPTION:
URL:https://iwcbda.com/event/mahjong/2027-05-04/
LOCATION:Dinghy Club\, 26 Pomander Rd\, Hamilton\, Bermuda
CATEGORIES:weekly
END:VEVENT
BEGIN:VEVENT
DTSTART;TZID=Atlantic/Bermuda:20270506T090000
DTEND;TZID=Atlantic/Bermuda:20270506T103000
DTSTAMP:20260421T234210
CREATED:20250618T170618Z
LAST-MODIFIED:20250618T170618Z
UID:10006447-1809594000-1809599400@iwcbda.com
SUMMARY:IWC Tennis
DESCRIPTION:
URL:https://iwcbda.com/event/iwc-tennis/2027-05-06/
LOCATION:W.E.R. Joell Tennis Stadium\, 2 Marsh Folly Rd\, Pembroke\, Bermuda
CATEGORIES:sports,weekly
END:VEVENT
BEGIN:VEVENT
DTSTART;TZID=Atlantic/Bermuda:20270506T170000
DTEND;TZID=Atlantic/Bermuda:20270506T190000
DTSTAMP:20260421T234210
CREATED:20250618T164459Z
LAST-MODIFIED:20250618T164459Z
UID:10005656-1809622800-1809630000@iwcbda.com
SUMMARY:IWC Happy Hour
DESCRIPTION:
URL:https://iwcbda.com/event/iwc-happy-hour/2027-05-06/
CATEGORIES:social,weekly
END:VEVENT
BEGIN:VEVENT
DTSTART;TZID=Atlantic/Bermuda:20270507T093000
DTEND;TZID=Atlantic/Bermuda:20270507T113000
DTSTAMP:20260421T234210
CREATED:20250618T163933Z
LAST-MODIFIED:20250618T164315Z
UID:10004982-1809682200-1809689400@iwcbda.com
SUMMARY:Art Group
DESCRIPTION:
URL:https://iwcbda.com/event/art-group/2027-05-07/
CATEGORIES:weekly
END:VEVENT
BEGIN:VEVENT
DTSTART;TZID=Atlantic/Bermuda:20270510T090000
DTEND;TZID=Atlantic/Bermuda:20270510T130000
DTSTAMP:20260421T234210
CREATED:20260205T144340Z
LAST-MODIFIED:20260205T144340Z
UID:10007394-1809939600-1809954000@iwcbda.com
SUMMARY:Gotta Golf Monday
DESCRIPTION:Join Val and fellow IWC golfers for 18 holes every Monday!The cost is $50 (BHGC members pay the cart fee only) and includes either a shared cart or a push cart. Some of us walk the front nine and ride the back nine. The price is the same no matter how you get around the course. \nIt’s the best golf deal in Bermy — and it’s exclusively for IWC members!
URL:https://iwcbda.com/event/gotta-golf-monday/2027-05-10/
LOCATION:Belmont Hills Golf Course\, Warwick\, WK06\, Bermuda
CATEGORIES:golf,weekly
ORGANIZER;CN="Val Platt":MAILTO:val@transact.bm
END:VEVENT
END:VCALENDAR