BEGIN:VCALENDAR
VERSION:2.0
PRODID:-// - ECPv6.15.20//NONSGML v1.0//EN
CALSCALE:GREGORIAN
METHOD:PUBLISH
X-ORIGINAL-URL:https://iwcbda.com
X-WR-CALDESC:Events for 
REFRESH-INTERVAL;VALUE=DURATION:PT1H
X-Robots-Tag:noindex
X-PUBLISHED-TTL:PT1H
BEGIN:VTIMEZONE
TZID:Atlantic/Bermuda
BEGIN:DAYLIGHT
TZOFFSETFROM:-0400
TZOFFSETTO:-0300
TZNAME:ADT
DTSTART:20260308T060000
END:DAYLIGHT
BEGIN:STANDARD
TZOFFSETFROM:-0300
TZOFFSETTO:-0400
TZNAME:AST
DTSTART:20261101T050000
END:STANDARD
BEGIN:DAYLIGHT
TZOFFSETFROM:-0400
TZOFFSETTO:-0300
TZNAME:ADT
DTSTART:20270314T060000
END:DAYLIGHT
BEGIN:STANDARD
TZOFFSETFROM:-0300
TZOFFSETTO:-0400
TZNAME:AST
DTSTART:20271107T050000
END:STANDARD
BEGIN:DAYLIGHT
TZOFFSETFROM:-0400
TZOFFSETTO:-0300
TZNAME:ADT
DTSTART:20280312T060000
END:DAYLIGHT
BEGIN:STANDARD
TZOFFSETFROM:-0300
TZOFFSETTO:-0400
TZNAME:AST
DTSTART:20281105T050000
END:STANDARD
END:VTIMEZONE
BEGIN:VEVENT
DTSTART;TZID=Atlantic/Bermuda:20270527T090000
DTEND;TZID=Atlantic/Bermuda:20270527T103000
DTSTAMP:20260420T202236
CREATED:20250618T170618Z
LAST-MODIFIED:20250618T170618Z
UID:10006450-1811408400-1811413800@iwcbda.com
SUMMARY:IWC Tennis
DESCRIPTION:
URL:https://iwcbda.com/event/iwc-tennis/2027-05-27/
LOCATION:W.E.R. Joell Tennis Stadium\, 2 Marsh Folly Rd\, Pembroke\, Bermuda
CATEGORIES:sports,weekly
END:VEVENT
BEGIN:VEVENT
DTSTART;TZID=Atlantic/Bermuda:20270527T170000
DTEND;TZID=Atlantic/Bermuda:20270527T190000
DTSTAMP:20260420T202236
CREATED:20250618T164459Z
LAST-MODIFIED:20250618T164459Z
UID:10005659-1811437200-1811444400@iwcbda.com
SUMMARY:IWC Happy Hour
DESCRIPTION:
URL:https://iwcbda.com/event/iwc-happy-hour/2027-05-27/
CATEGORIES:social,weekly
END:VEVENT
BEGIN:VEVENT
DTSTART;TZID=Atlantic/Bermuda:20270528T093000
DTEND;TZID=Atlantic/Bermuda:20270528T113000
DTSTAMP:20260420T202236
CREATED:20250618T163933Z
LAST-MODIFIED:20250618T164315Z
UID:10004985-1811496600-1811503800@iwcbda.com
SUMMARY:Art Group
DESCRIPTION:
URL:https://iwcbda.com/event/art-group/2027-05-28/
CATEGORIES:weekly
END:VEVENT
BEGIN:VEVENT
DTSTART;TZID=Atlantic/Bermuda:20270531T090000
DTEND;TZID=Atlantic/Bermuda:20270531T130000
DTSTAMP:20260420T202236
CREATED:20260205T144340Z
LAST-MODIFIED:20260205T144340Z
UID:10007397-1811754000-1811768400@iwcbda.com
SUMMARY:Gotta Golf Monday
DESCRIPTION:Join Val and fellow IWC golfers for 18 holes every Monday!The cost is $50 (BHGC members pay the cart fee only) and includes either a shared cart or a push cart. Some of us walk the front nine and ride the back nine. The price is the same no matter how you get around the course. \nIt’s the best golf deal in Bermy — and it’s exclusively for IWC members!
URL:https://iwcbda.com/event/gotta-golf-monday/2027-05-31/
LOCATION:Belmont Hills Golf Course\, Warwick\, WK06\, Bermuda
CATEGORIES:golf,weekly
ORGANIZER;CN="Val Platt":MAILTO:val@transact.bm
END:VEVENT
BEGIN:VEVENT
DTSTART;TZID=Atlantic/Bermuda:20270531T093000
DTEND;TZID=Atlantic/Bermuda:20270531T113000
DTSTAMP:20260420T202236
CREATED:20260206T160646Z
LAST-MODIFIED:20260206T160647Z
UID:10006788-1811755800-1811763000@iwcbda.com
SUMMARY:IWC Bermuda Trekkers
DESCRIPTION:
URL:https://iwcbda.com/event/iwc-bermuda-trekkers-2/2027-05-31/
CATEGORIES:weekly
END:VEVENT
BEGIN:VEVENT
DTSTART;TZID=Atlantic/Bermuda:20270601T130000
DTEND;TZID=Atlantic/Bermuda:20270601T160000
DTSTAMP:20260420T202236
CREATED:20250618T164705Z
LAST-MODIFIED:20250618T164705Z
UID:10005997-1811854800-1811865600@iwcbda.com
SUMMARY:Mahjong
DESCRIPTION:
URL:https://iwcbda.com/event/mahjong/2027-06-01/
LOCATION:Dinghy Club\, 26 Pomander Rd\, Hamilton\, Bermuda
CATEGORIES:weekly
END:VEVENT
BEGIN:VEVENT
DTSTART;TZID=Atlantic/Bermuda:20270603T090000
DTEND;TZID=Atlantic/Bermuda:20270603T103000
DTSTAMP:20260420T202236
CREATED:20250618T170618Z
LAST-MODIFIED:20250618T170618Z
UID:10006451-1812013200-1812018600@iwcbda.com
SUMMARY:IWC Tennis
DESCRIPTION:
URL:https://iwcbda.com/event/iwc-tennis/2027-06-03/
LOCATION:W.E.R. Joell Tennis Stadium\, 2 Marsh Folly Rd\, Pembroke\, Bermuda
CATEGORIES:sports,weekly
END:VEVENT
BEGIN:VEVENT
DTSTART;TZID=Atlantic/Bermuda:20270603T170000
DTEND;TZID=Atlantic/Bermuda:20270603T190000
DTSTAMP:20260420T202236
CREATED:20250618T164459Z
LAST-MODIFIED:20250618T164459Z
UID:10005660-1812042000-1812049200@iwcbda.com
SUMMARY:IWC Happy Hour
DESCRIPTION:
URL:https://iwcbda.com/event/iwc-happy-hour/2027-06-03/
CATEGORIES:social,weekly
END:VEVENT
BEGIN:VEVENT
DTSTART;TZID=Atlantic/Bermuda:20270604T093000
DTEND;TZID=Atlantic/Bermuda:20270604T113000
DTSTAMP:20260420T202236
CREATED:20250618T163933Z
LAST-MODIFIED:20250618T164315Z
UID:10004986-1812101400-1812108600@iwcbda.com
SUMMARY:Art Group
DESCRIPTION:
URL:https://iwcbda.com/event/art-group/2027-06-04/
CATEGORIES:weekly
END:VEVENT
BEGIN:VEVENT
DTSTART;TZID=Atlantic/Bermuda:20270607T090000
DTEND;TZID=Atlantic/Bermuda:20270607T130000
DTSTAMP:20260420T202236
CREATED:20260205T144340Z
LAST-MODIFIED:20260205T144340Z
UID:10007398-1812358800-1812373200@iwcbda.com
SUMMARY:Gotta Golf Monday
DESCRIPTION:Join Val and fellow IWC golfers for 18 holes every Monday!The cost is $50 (BHGC members pay the cart fee only) and includes either a shared cart or a push cart. Some of us walk the front nine and ride the back nine. The price is the same no matter how you get around the course. \nIt’s the best golf deal in Bermy — and it’s exclusively for IWC members!
URL:https://iwcbda.com/event/gotta-golf-monday/2027-06-07/
LOCATION:Belmont Hills Golf Course\, Warwick\, WK06\, Bermuda
CATEGORIES:golf,weekly
ORGANIZER;CN="Val Platt":MAILTO:val@transact.bm
END:VEVENT
BEGIN:VEVENT
DTSTART;TZID=Atlantic/Bermuda:20270607T093000
DTEND;TZID=Atlantic/Bermuda:20270607T113000
DTSTAMP:20260420T202236
CREATED:20260206T160646Z
LAST-MODIFIED:20260206T160647Z
UID:10006789-1812360600-1812367800@iwcbda.com
SUMMARY:IWC Bermuda Trekkers
DESCRIPTION:
URL:https://iwcbda.com/event/iwc-bermuda-trekkers-2/2027-06-07/
CATEGORIES:weekly
END:VEVENT
BEGIN:VEVENT
DTSTART;TZID=Atlantic/Bermuda:20270608T130000
DTEND;TZID=Atlantic/Bermuda:20270608T160000
DTSTAMP:20260420T202236
CREATED:20250618T164705Z
LAST-MODIFIED:20250618T164705Z
UID:10005998-1812459600-1812470400@iwcbda.com
SUMMARY:Mahjong
DESCRIPTION:
URL:https://iwcbda.com/event/mahjong/2027-06-08/
LOCATION:Dinghy Club\, 26 Pomander Rd\, Hamilton\, Bermuda
CATEGORIES:weekly
END:VEVENT
BEGIN:VEVENT
DTSTART;TZID=Atlantic/Bermuda:20270610T090000
DTEND;TZID=Atlantic/Bermuda:20270610T103000
DTSTAMP:20260420T202236
CREATED:20250618T170618Z
LAST-MODIFIED:20250618T170618Z
UID:10006452-1812618000-1812623400@iwcbda.com
SUMMARY:IWC Tennis
DESCRIPTION:
URL:https://iwcbda.com/event/iwc-tennis/2027-06-10/
LOCATION:W.E.R. Joell Tennis Stadium\, 2 Marsh Folly Rd\, Pembroke\, Bermuda
CATEGORIES:sports,weekly
END:VEVENT
BEGIN:VEVENT
DTSTART;TZID=Atlantic/Bermuda:20270610T170000
DTEND;TZID=Atlantic/Bermuda:20270610T190000
DTSTAMP:20260420T202236
CREATED:20250618T164459Z
LAST-MODIFIED:20250618T164459Z
UID:10005661-1812646800-1812654000@iwcbda.com
SUMMARY:IWC Happy Hour
DESCRIPTION:
URL:https://iwcbda.com/event/iwc-happy-hour/2027-06-10/
CATEGORIES:social,weekly
END:VEVENT
BEGIN:VEVENT
DTSTART;TZID=Atlantic/Bermuda:20270611T093000
DTEND;TZID=Atlantic/Bermuda:20270611T113000
DTSTAMP:20260420T202236
CREATED:20250618T163933Z
LAST-MODIFIED:20250618T164315Z
UID:10004987-1812706200-1812713400@iwcbda.com
SUMMARY:Art Group
DESCRIPTION:
URL:https://iwcbda.com/event/art-group/2027-06-11/
CATEGORIES:weekly
END:VEVENT
BEGIN:VEVENT
DTSTART;TZID=Atlantic/Bermuda:20270614T090000
DTEND;TZID=Atlantic/Bermuda:20270614T130000
DTSTAMP:20260420T202236
CREATED:20260205T144340Z
LAST-MODIFIED:20260205T144340Z
UID:10007399-1812963600-1812978000@iwcbda.com
SUMMARY:Gotta Golf Monday
DESCRIPTION:Join Val and fellow IWC golfers for 18 holes every Monday!The cost is $50 (BHGC members pay the cart fee only) and includes either a shared cart or a push cart. Some of us walk the front nine and ride the back nine. The price is the same no matter how you get around the course. \nIt’s the best golf deal in Bermy — and it’s exclusively for IWC members!
URL:https://iwcbda.com/event/gotta-golf-monday/2027-06-14/
LOCATION:Belmont Hills Golf Course\, Warwick\, WK06\, Bermuda
CATEGORIES:golf,weekly
ORGANIZER;CN="Val Platt":MAILTO:val@transact.bm
END:VEVENT
BEGIN:VEVENT
DTSTART;TZID=Atlantic/Bermuda:20270614T093000
DTEND;TZID=Atlantic/Bermuda:20270614T113000
DTSTAMP:20260420T202236
CREATED:20260206T160646Z
LAST-MODIFIED:20260206T160647Z
UID:10006790-1812965400-1812972600@iwcbda.com
SUMMARY:IWC Bermuda Trekkers
DESCRIPTION:
URL:https://iwcbda.com/event/iwc-bermuda-trekkers-2/2027-06-14/
CATEGORIES:weekly
END:VEVENT
BEGIN:VEVENT
DTSTART;TZID=Atlantic/Bermuda:20270615T130000
DTEND;TZID=Atlantic/Bermuda:20270615T160000
DTSTAMP:20260420T202236
CREATED:20250618T164705Z
LAST-MODIFIED:20250618T164705Z
UID:10005999-1813064400-1813075200@iwcbda.com
SUMMARY:Mahjong
DESCRIPTION:
URL:https://iwcbda.com/event/mahjong/2027-06-15/
LOCATION:Dinghy Club\, 26 Pomander Rd\, Hamilton\, Bermuda
CATEGORIES:weekly
END:VEVENT
BEGIN:VEVENT
DTSTART;TZID=Atlantic/Bermuda:20270617T090000
DTEND;TZID=Atlantic/Bermuda:20270617T103000
DTSTAMP:20260420T202236
CREATED:20250618T170618Z
LAST-MODIFIED:20250618T170618Z
UID:10006453-1813222800-1813228200@iwcbda.com
SUMMARY:IWC Tennis
DESCRIPTION:
URL:https://iwcbda.com/event/iwc-tennis/2027-06-17/
LOCATION:W.E.R. Joell Tennis Stadium\, 2 Marsh Folly Rd\, Pembroke\, Bermuda
CATEGORIES:sports,weekly
END:VEVENT
BEGIN:VEVENT
DTSTART;TZID=Atlantic/Bermuda:20270617T170000
DTEND;TZID=Atlantic/Bermuda:20270617T190000
DTSTAMP:20260420T202236
CREATED:20250618T164459Z
LAST-MODIFIED:20250618T164459Z
UID:10005662-1813251600-1813258800@iwcbda.com
SUMMARY:IWC Happy Hour
DESCRIPTION:
URL:https://iwcbda.com/event/iwc-happy-hour/2027-06-17/
CATEGORIES:social,weekly
END:VEVENT
BEGIN:VEVENT
DTSTART;TZID=Atlantic/Bermuda:20270618T093000
DTEND;TZID=Atlantic/Bermuda:20270618T113000
DTSTAMP:20260420T202236
CREATED:20250618T163933Z
LAST-MODIFIED:20250618T164315Z
UID:10004988-1813311000-1813318200@iwcbda.com
SUMMARY:Art Group
DESCRIPTION:
URL:https://iwcbda.com/event/art-group/2027-06-18/
CATEGORIES:weekly
END:VEVENT
BEGIN:VEVENT
DTSTART;TZID=Atlantic/Bermuda:20270621T090000
DTEND;TZID=Atlantic/Bermuda:20270621T130000
DTSTAMP:20260420T202236
CREATED:20260205T144340Z
LAST-MODIFIED:20260205T144340Z
UID:10007400-1813568400-1813582800@iwcbda.com
SUMMARY:Gotta Golf Monday
DESCRIPTION:Join Val and fellow IWC golfers for 18 holes every Monday!The cost is $50 (BHGC members pay the cart fee only) and includes either a shared cart or a push cart. Some of us walk the front nine and ride the back nine. The price is the same no matter how you get around the course. \nIt’s the best golf deal in Bermy — and it’s exclusively for IWC members!
URL:https://iwcbda.com/event/gotta-golf-monday/2027-06-21/
LOCATION:Belmont Hills Golf Course\, Warwick\, WK06\, Bermuda
CATEGORIES:golf,weekly
ORGANIZER;CN="Val Platt":MAILTO:val@transact.bm
END:VEVENT
BEGIN:VEVENT
DTSTART;TZID=Atlantic/Bermuda:20270621T093000
DTEND;TZID=Atlantic/Bermuda:20270621T113000
DTSTAMP:20260420T202236
CREATED:20260206T160646Z
LAST-MODIFIED:20260206T160647Z
UID:10006791-1813570200-1813577400@iwcbda.com
SUMMARY:IWC Bermuda Trekkers
DESCRIPTION:
URL:https://iwcbda.com/event/iwc-bermuda-trekkers-2/2027-06-21/
CATEGORIES:weekly
END:VEVENT
BEGIN:VEVENT
DTSTART;TZID=Atlantic/Bermuda:20270622T130000
DTEND;TZID=Atlantic/Bermuda:20270622T160000
DTSTAMP:20260420T202236
CREATED:20250618T164705Z
LAST-MODIFIED:20250618T164705Z
UID:10006000-1813669200-1813680000@iwcbda.com
SUMMARY:Mahjong
DESCRIPTION:
URL:https://iwcbda.com/event/mahjong/2027-06-22/
LOCATION:Dinghy Club\, 26 Pomander Rd\, Hamilton\, Bermuda
CATEGORIES:weekly
END:VEVENT
BEGIN:VEVENT
DTSTART;TZID=Atlantic/Bermuda:20270624T090000
DTEND;TZID=Atlantic/Bermuda:20270624T103000
DTSTAMP:20260420T202236
CREATED:20250618T170618Z
LAST-MODIFIED:20250618T170618Z
UID:10006454-1813827600-1813833000@iwcbda.com
SUMMARY:IWC Tennis
DESCRIPTION:
URL:https://iwcbda.com/event/iwc-tennis/2027-06-24/
LOCATION:W.E.R. Joell Tennis Stadium\, 2 Marsh Folly Rd\, Pembroke\, Bermuda
CATEGORIES:sports,weekly
END:VEVENT
BEGIN:VEVENT
DTSTART;TZID=Atlantic/Bermuda:20270624T170000
DTEND;TZID=Atlantic/Bermuda:20270624T190000
DTSTAMP:20260420T202236
CREATED:20250618T164459Z
LAST-MODIFIED:20250618T164459Z
UID:10005663-1813856400-1813863600@iwcbda.com
SUMMARY:IWC Happy Hour
DESCRIPTION:
URL:https://iwcbda.com/event/iwc-happy-hour/2027-06-24/
CATEGORIES:social,weekly
END:VEVENT
BEGIN:VEVENT
DTSTART;TZID=Atlantic/Bermuda:20270625T093000
DTEND;TZID=Atlantic/Bermuda:20270625T113000
DTSTAMP:20260420T202236
CREATED:20250618T163933Z
LAST-MODIFIED:20250618T164315Z
UID:10004989-1813915800-1813923000@iwcbda.com
SUMMARY:Art Group
DESCRIPTION:
URL:https://iwcbda.com/event/art-group/2027-06-25/
CATEGORIES:weekly
END:VEVENT
BEGIN:VEVENT
DTSTART;TZID=Atlantic/Bermuda:20270628T090000
DTEND;TZID=Atlantic/Bermuda:20270628T130000
DTSTAMP:20260420T202236
CREATED:20260205T144340Z
LAST-MODIFIED:20260205T144340Z
UID:10007401-1814173200-1814187600@iwcbda.com
SUMMARY:Gotta Golf Monday
DESCRIPTION:Join Val and fellow IWC golfers for 18 holes every Monday!The cost is $50 (BHGC members pay the cart fee only) and includes either a shared cart or a push cart. Some of us walk the front nine and ride the back nine. The price is the same no matter how you get around the course. \nIt’s the best golf deal in Bermy — and it’s exclusively for IWC members!
URL:https://iwcbda.com/event/gotta-golf-monday/2027-06-28/
LOCATION:Belmont Hills Golf Course\, Warwick\, WK06\, Bermuda
CATEGORIES:golf,weekly
ORGANIZER;CN="Val Platt":MAILTO:val@transact.bm
END:VEVENT
BEGIN:VEVENT
DTSTART;TZID=Atlantic/Bermuda:20270628T093000
DTEND;TZID=Atlantic/Bermuda:20270628T113000
DTSTAMP:20260420T202236
CREATED:20260206T160646Z
LAST-MODIFIED:20260206T160647Z
UID:10006792-1814175000-1814182200@iwcbda.com
SUMMARY:IWC Bermuda Trekkers
DESCRIPTION:
URL:https://iwcbda.com/event/iwc-bermuda-trekkers-2/2027-06-28/
CATEGORIES:weekly
END:VEVENT
BEGIN:VEVENT
DTSTART;TZID=Atlantic/Bermuda:20270629T130000
DTEND;TZID=Atlantic/Bermuda:20270629T160000
DTSTAMP:20260420T202236
CREATED:20250618T164705Z
LAST-MODIFIED:20250618T164705Z
UID:10006001-1814274000-1814284800@iwcbda.com
SUMMARY:Mahjong
DESCRIPTION:
URL:https://iwcbda.com/event/mahjong/2027-06-29/
LOCATION:Dinghy Club\, 26 Pomander Rd\, Hamilton\, Bermuda
CATEGORIES:weekly
END:VEVENT
END:VCALENDAR