BEGIN:VCALENDAR
VERSION:2.0
PRODID:-// - ECPv6.15.20//NONSGML v1.0//EN
CALSCALE:GREGORIAN
METHOD:PUBLISH
X-ORIGINAL-URL:https://iwcbda.com
X-WR-CALDESC:Events for 
REFRESH-INTERVAL;VALUE=DURATION:PT1H
X-Robots-Tag:noindex
X-PUBLISHED-TTL:PT1H
BEGIN:VTIMEZONE
TZID:Atlantic/Bermuda
BEGIN:DAYLIGHT
TZOFFSETFROM:-0400
TZOFFSETTO:-0300
TZNAME:ADT
DTSTART:20260308T060000
END:DAYLIGHT
BEGIN:STANDARD
TZOFFSETFROM:-0300
TZOFFSETTO:-0400
TZNAME:AST
DTSTART:20261101T050000
END:STANDARD
BEGIN:DAYLIGHT
TZOFFSETFROM:-0400
TZOFFSETTO:-0300
TZNAME:ADT
DTSTART:20270314T060000
END:DAYLIGHT
BEGIN:STANDARD
TZOFFSETFROM:-0300
TZOFFSETTO:-0400
TZNAME:AST
DTSTART:20271107T050000
END:STANDARD
BEGIN:DAYLIGHT
TZOFFSETFROM:-0400
TZOFFSETTO:-0300
TZNAME:ADT
DTSTART:20280312T060000
END:DAYLIGHT
BEGIN:STANDARD
TZOFFSETFROM:-0300
TZOFFSETTO:-0400
TZNAME:AST
DTSTART:20281105T050000
END:STANDARD
END:VTIMEZONE
BEGIN:VEVENT
DTSTART;TZID=Atlantic/Bermuda:20270930T090000
DTEND;TZID=Atlantic/Bermuda:20270930T103000
DTSTAMP:20260421T084823
CREATED:20250618T170618Z
LAST-MODIFIED:20250618T170618Z
UID:10006468-1822294800-1822300200@iwcbda.com
SUMMARY:IWC Tennis
DESCRIPTION:
URL:https://iwcbda.com/event/iwc-tennis/2027-09-30/
LOCATION:W.E.R. Joell Tennis Stadium\, 2 Marsh Folly Rd\, Pembroke\, Bermuda
CATEGORIES:sports,weekly
END:VEVENT
BEGIN:VEVENT
DTSTART;TZID=Atlantic/Bermuda:20270930T170000
DTEND;TZID=Atlantic/Bermuda:20270930T190000
DTSTAMP:20260421T084823
CREATED:20250618T164459Z
LAST-MODIFIED:20250618T164459Z
UID:10005677-1822323600-1822330800@iwcbda.com
SUMMARY:IWC Happy Hour
DESCRIPTION:
URL:https://iwcbda.com/event/iwc-happy-hour/2027-09-30/
CATEGORIES:social,weekly
END:VEVENT
BEGIN:VEVENT
DTSTART;TZID=Atlantic/Bermuda:20271001T093000
DTEND;TZID=Atlantic/Bermuda:20271001T113000
DTSTAMP:20260421T084823
CREATED:20250618T163933Z
LAST-MODIFIED:20250618T164315Z
UID:10005003-1822383000-1822390200@iwcbda.com
SUMMARY:Art Group
DESCRIPTION:
URL:https://iwcbda.com/event/art-group/2027-10-01/
CATEGORIES:weekly
END:VEVENT
BEGIN:VEVENT
DTSTART;TZID=Atlantic/Bermuda:20271004T090000
DTEND;TZID=Atlantic/Bermuda:20271004T130000
DTSTAMP:20260421T084823
CREATED:20260205T144340Z
LAST-MODIFIED:20260205T144340Z
UID:10007415-1822640400-1822654800@iwcbda.com
SUMMARY:Gotta Golf Monday
DESCRIPTION:Join Val and fellow IWC golfers for 18 holes every Monday!The cost is $50 (BHGC members pay the cart fee only) and includes either a shared cart or a push cart. Some of us walk the front nine and ride the back nine. The price is the same no matter how you get around the course. \nIt’s the best golf deal in Bermy — and it’s exclusively for IWC members!
URL:https://iwcbda.com/event/gotta-golf-monday/2027-10-04/
LOCATION:Belmont Hills Golf Course\, Warwick\, WK06\, Bermuda
CATEGORIES:golf,weekly
ORGANIZER;CN="Val Platt":MAILTO:val@transact.bm
END:VEVENT
BEGIN:VEVENT
DTSTART;TZID=Atlantic/Bermuda:20271004T093000
DTEND;TZID=Atlantic/Bermuda:20271004T113000
DTSTAMP:20260421T084823
CREATED:20260206T160646Z
LAST-MODIFIED:20260206T160647Z
UID:10006806-1822642200-1822649400@iwcbda.com
SUMMARY:IWC Bermuda Trekkers
DESCRIPTION:
URL:https://iwcbda.com/event/iwc-bermuda-trekkers-2/2027-10-04/
CATEGORIES:weekly
END:VEVENT
BEGIN:VEVENT
DTSTART;TZID=Atlantic/Bermuda:20271005T130000
DTEND;TZID=Atlantic/Bermuda:20271005T160000
DTSTAMP:20260421T084823
CREATED:20250618T164705Z
LAST-MODIFIED:20250618T164705Z
UID:10006015-1822741200-1822752000@iwcbda.com
SUMMARY:Mahjong
DESCRIPTION:
URL:https://iwcbda.com/event/mahjong/2027-10-05/
LOCATION:Dinghy Club\, 26 Pomander Rd\, Hamilton\, Bermuda
CATEGORIES:weekly
END:VEVENT
BEGIN:VEVENT
DTSTART;TZID=Atlantic/Bermuda:20271007T090000
DTEND;TZID=Atlantic/Bermuda:20271007T103000
DTSTAMP:20260421T084823
CREATED:20250618T170618Z
LAST-MODIFIED:20250618T170618Z
UID:10006469-1822899600-1822905000@iwcbda.com
SUMMARY:IWC Tennis
DESCRIPTION:
URL:https://iwcbda.com/event/iwc-tennis/2027-10-07/
LOCATION:W.E.R. Joell Tennis Stadium\, 2 Marsh Folly Rd\, Pembroke\, Bermuda
CATEGORIES:sports,weekly
END:VEVENT
BEGIN:VEVENT
DTSTART;TZID=Atlantic/Bermuda:20271007T170000
DTEND;TZID=Atlantic/Bermuda:20271007T190000
DTSTAMP:20260421T084823
CREATED:20250618T164459Z
LAST-MODIFIED:20250618T164459Z
UID:10005678-1822928400-1822935600@iwcbda.com
SUMMARY:IWC Happy Hour
DESCRIPTION:
URL:https://iwcbda.com/event/iwc-happy-hour/2027-10-07/
CATEGORIES:social,weekly
END:VEVENT
BEGIN:VEVENT
DTSTART;TZID=Atlantic/Bermuda:20271008T093000
DTEND;TZID=Atlantic/Bermuda:20271008T113000
DTSTAMP:20260421T084823
CREATED:20250618T163933Z
LAST-MODIFIED:20250618T164315Z
UID:10005004-1822987800-1822995000@iwcbda.com
SUMMARY:Art Group
DESCRIPTION:
URL:https://iwcbda.com/event/art-group/2027-10-08/
CATEGORIES:weekly
END:VEVENT
BEGIN:VEVENT
DTSTART;TZID=Atlantic/Bermuda:20271011T090000
DTEND;TZID=Atlantic/Bermuda:20271011T130000
DTSTAMP:20260421T084823
CREATED:20260205T144340Z
LAST-MODIFIED:20260205T144340Z
UID:10007416-1823245200-1823259600@iwcbda.com
SUMMARY:Gotta Golf Monday
DESCRIPTION:Join Val and fellow IWC golfers for 18 holes every Monday!The cost is $50 (BHGC members pay the cart fee only) and includes either a shared cart or a push cart. Some of us walk the front nine and ride the back nine. The price is the same no matter how you get around the course. \nIt’s the best golf deal in Bermy — and it’s exclusively for IWC members!
URL:https://iwcbda.com/event/gotta-golf-monday/2027-10-11/
LOCATION:Belmont Hills Golf Course\, Warwick\, WK06\, Bermuda
CATEGORIES:golf,weekly
ORGANIZER;CN="Val Platt":MAILTO:val@transact.bm
END:VEVENT
BEGIN:VEVENT
DTSTART;TZID=Atlantic/Bermuda:20271011T093000
DTEND;TZID=Atlantic/Bermuda:20271011T113000
DTSTAMP:20260421T084823
CREATED:20260206T160646Z
LAST-MODIFIED:20260206T160647Z
UID:10006807-1823247000-1823254200@iwcbda.com
SUMMARY:IWC Bermuda Trekkers
DESCRIPTION:
URL:https://iwcbda.com/event/iwc-bermuda-trekkers-2/2027-10-11/
CATEGORIES:weekly
END:VEVENT
BEGIN:VEVENT
DTSTART;TZID=Atlantic/Bermuda:20271012T130000
DTEND;TZID=Atlantic/Bermuda:20271012T160000
DTSTAMP:20260421T084823
CREATED:20250618T164705Z
LAST-MODIFIED:20250618T164705Z
UID:10006016-1823346000-1823356800@iwcbda.com
SUMMARY:Mahjong
DESCRIPTION:
URL:https://iwcbda.com/event/mahjong/2027-10-12/
LOCATION:Dinghy Club\, 26 Pomander Rd\, Hamilton\, Bermuda
CATEGORIES:weekly
END:VEVENT
BEGIN:VEVENT
DTSTART;TZID=Atlantic/Bermuda:20271014T090000
DTEND;TZID=Atlantic/Bermuda:20271014T103000
DTSTAMP:20260421T084823
CREATED:20250618T170618Z
LAST-MODIFIED:20250618T170618Z
UID:10006470-1823504400-1823509800@iwcbda.com
SUMMARY:IWC Tennis
DESCRIPTION:
URL:https://iwcbda.com/event/iwc-tennis/2027-10-14/
LOCATION:W.E.R. Joell Tennis Stadium\, 2 Marsh Folly Rd\, Pembroke\, Bermuda
CATEGORIES:sports,weekly
END:VEVENT
BEGIN:VEVENT
DTSTART;TZID=Atlantic/Bermuda:20271014T170000
DTEND;TZID=Atlantic/Bermuda:20271014T190000
DTSTAMP:20260421T084823
CREATED:20250618T164459Z
LAST-MODIFIED:20250618T164459Z
UID:10005679-1823533200-1823540400@iwcbda.com
SUMMARY:IWC Happy Hour
DESCRIPTION:
URL:https://iwcbda.com/event/iwc-happy-hour/2027-10-14/
CATEGORIES:social,weekly
END:VEVENT
BEGIN:VEVENT
DTSTART;TZID=Atlantic/Bermuda:20271015T093000
DTEND;TZID=Atlantic/Bermuda:20271015T113000
DTSTAMP:20260421T084823
CREATED:20250618T163933Z
LAST-MODIFIED:20250618T164315Z
UID:10005005-1823592600-1823599800@iwcbda.com
SUMMARY:Art Group
DESCRIPTION:
URL:https://iwcbda.com/event/art-group/2027-10-15/
CATEGORIES:weekly
END:VEVENT
BEGIN:VEVENT
DTSTART;TZID=Atlantic/Bermuda:20271018T090000
DTEND;TZID=Atlantic/Bermuda:20271018T130000
DTSTAMP:20260421T084823
CREATED:20260205T144340Z
LAST-MODIFIED:20260205T144340Z
UID:10007417-1823850000-1823864400@iwcbda.com
SUMMARY:Gotta Golf Monday
DESCRIPTION:Join Val and fellow IWC golfers for 18 holes every Monday!The cost is $50 (BHGC members pay the cart fee only) and includes either a shared cart or a push cart. Some of us walk the front nine and ride the back nine. The price is the same no matter how you get around the course. \nIt’s the best golf deal in Bermy — and it’s exclusively for IWC members!
URL:https://iwcbda.com/event/gotta-golf-monday/2027-10-18/
LOCATION:Belmont Hills Golf Course\, Warwick\, WK06\, Bermuda
CATEGORIES:golf,weekly
ORGANIZER;CN="Val Platt":MAILTO:val@transact.bm
END:VEVENT
BEGIN:VEVENT
DTSTART;TZID=Atlantic/Bermuda:20271018T093000
DTEND;TZID=Atlantic/Bermuda:20271018T113000
DTSTAMP:20260421T084823
CREATED:20260206T160646Z
LAST-MODIFIED:20260206T160647Z
UID:10006808-1823851800-1823859000@iwcbda.com
SUMMARY:IWC Bermuda Trekkers
DESCRIPTION:
URL:https://iwcbda.com/event/iwc-bermuda-trekkers-2/2027-10-18/
CATEGORIES:weekly
END:VEVENT
BEGIN:VEVENT
DTSTART;TZID=Atlantic/Bermuda:20271019T130000
DTEND;TZID=Atlantic/Bermuda:20271019T160000
DTSTAMP:20260421T084823
CREATED:20250618T164705Z
LAST-MODIFIED:20250618T164705Z
UID:10006017-1823950800-1823961600@iwcbda.com
SUMMARY:Mahjong
DESCRIPTION:
URL:https://iwcbda.com/event/mahjong/2027-10-19/
LOCATION:Dinghy Club\, 26 Pomander Rd\, Hamilton\, Bermuda
CATEGORIES:weekly
END:VEVENT
BEGIN:VEVENT
DTSTART;TZID=Atlantic/Bermuda:20271021T090000
DTEND;TZID=Atlantic/Bermuda:20271021T103000
DTSTAMP:20260421T084823
CREATED:20250618T170618Z
LAST-MODIFIED:20250618T170618Z
UID:10006471-1824109200-1824114600@iwcbda.com
SUMMARY:IWC Tennis
DESCRIPTION:
URL:https://iwcbda.com/event/iwc-tennis/2027-10-21/
LOCATION:W.E.R. Joell Tennis Stadium\, 2 Marsh Folly Rd\, Pembroke\, Bermuda
CATEGORIES:sports,weekly
END:VEVENT
BEGIN:VEVENT
DTSTART;TZID=Atlantic/Bermuda:20271021T170000
DTEND;TZID=Atlantic/Bermuda:20271021T190000
DTSTAMP:20260421T084823
CREATED:20250618T164459Z
LAST-MODIFIED:20250618T164459Z
UID:10005680-1824138000-1824145200@iwcbda.com
SUMMARY:IWC Happy Hour
DESCRIPTION:
URL:https://iwcbda.com/event/iwc-happy-hour/2027-10-21/
CATEGORIES:social,weekly
END:VEVENT
BEGIN:VEVENT
DTSTART;TZID=Atlantic/Bermuda:20271022T093000
DTEND;TZID=Atlantic/Bermuda:20271022T113000
DTSTAMP:20260421T084823
CREATED:20250618T163933Z
LAST-MODIFIED:20250618T164315Z
UID:10005006-1824197400-1824204600@iwcbda.com
SUMMARY:Art Group
DESCRIPTION:
URL:https://iwcbda.com/event/art-group/2027-10-22/
CATEGORIES:weekly
END:VEVENT
BEGIN:VEVENT
DTSTART;TZID=Atlantic/Bermuda:20271025T090000
DTEND;TZID=Atlantic/Bermuda:20271025T130000
DTSTAMP:20260421T084823
CREATED:20260205T144340Z
LAST-MODIFIED:20260205T144340Z
UID:10007418-1824454800-1824469200@iwcbda.com
SUMMARY:Gotta Golf Monday
DESCRIPTION:Join Val and fellow IWC golfers for 18 holes every Monday!The cost is $50 (BHGC members pay the cart fee only) and includes either a shared cart or a push cart. Some of us walk the front nine and ride the back nine. The price is the same no matter how you get around the course. \nIt’s the best golf deal in Bermy — and it’s exclusively for IWC members!
URL:https://iwcbda.com/event/gotta-golf-monday/2027-10-25/
LOCATION:Belmont Hills Golf Course\, Warwick\, WK06\, Bermuda
CATEGORIES:golf,weekly
ORGANIZER;CN="Val Platt":MAILTO:val@transact.bm
END:VEVENT
BEGIN:VEVENT
DTSTART;TZID=Atlantic/Bermuda:20271025T093000
DTEND;TZID=Atlantic/Bermuda:20271025T113000
DTSTAMP:20260421T084823
CREATED:20260206T160646Z
LAST-MODIFIED:20260206T160647Z
UID:10006809-1824456600-1824463800@iwcbda.com
SUMMARY:IWC Bermuda Trekkers
DESCRIPTION:
URL:https://iwcbda.com/event/iwc-bermuda-trekkers-2/2027-10-25/
CATEGORIES:weekly
END:VEVENT
BEGIN:VEVENT
DTSTART;TZID=Atlantic/Bermuda:20271026T130000
DTEND;TZID=Atlantic/Bermuda:20271026T160000
DTSTAMP:20260421T084823
CREATED:20250618T164705Z
LAST-MODIFIED:20250618T164705Z
UID:10006018-1824555600-1824566400@iwcbda.com
SUMMARY:Mahjong
DESCRIPTION:
URL:https://iwcbda.com/event/mahjong/2027-10-26/
LOCATION:Dinghy Club\, 26 Pomander Rd\, Hamilton\, Bermuda
CATEGORIES:weekly
END:VEVENT
BEGIN:VEVENT
DTSTART;TZID=Atlantic/Bermuda:20271028T090000
DTEND;TZID=Atlantic/Bermuda:20271028T103000
DTSTAMP:20260421T084823
CREATED:20250618T170618Z
LAST-MODIFIED:20250618T170618Z
UID:10006472-1824714000-1824719400@iwcbda.com
SUMMARY:IWC Tennis
DESCRIPTION:
URL:https://iwcbda.com/event/iwc-tennis/2027-10-28/
LOCATION:W.E.R. Joell Tennis Stadium\, 2 Marsh Folly Rd\, Pembroke\, Bermuda
CATEGORIES:sports,weekly
END:VEVENT
BEGIN:VEVENT
DTSTART;TZID=Atlantic/Bermuda:20271028T170000
DTEND;TZID=Atlantic/Bermuda:20271028T190000
DTSTAMP:20260421T084823
CREATED:20250618T164459Z
LAST-MODIFIED:20250618T164459Z
UID:10005681-1824742800-1824750000@iwcbda.com
SUMMARY:IWC Happy Hour
DESCRIPTION:
URL:https://iwcbda.com/event/iwc-happy-hour/2027-10-28/
CATEGORIES:social,weekly
END:VEVENT
BEGIN:VEVENT
DTSTART;TZID=Atlantic/Bermuda:20271029T093000
DTEND;TZID=Atlantic/Bermuda:20271029T113000
DTSTAMP:20260421T084823
CREATED:20250618T163933Z
LAST-MODIFIED:20250618T164315Z
UID:10005007-1824802200-1824809400@iwcbda.com
SUMMARY:Art Group
DESCRIPTION:
URL:https://iwcbda.com/event/art-group/2027-10-29/
CATEGORIES:weekly
END:VEVENT
BEGIN:VEVENT
DTSTART;TZID=Atlantic/Bermuda:20271101T090000
DTEND;TZID=Atlantic/Bermuda:20271101T130000
DTSTAMP:20260421T084823
CREATED:20260205T144340Z
LAST-MODIFIED:20260205T144340Z
UID:10007419-1825059600-1825074000@iwcbda.com
SUMMARY:Gotta Golf Monday
DESCRIPTION:Join Val and fellow IWC golfers for 18 holes every Monday!The cost is $50 (BHGC members pay the cart fee only) and includes either a shared cart or a push cart. Some of us walk the front nine and ride the back nine. The price is the same no matter how you get around the course. \nIt’s the best golf deal in Bermy — and it’s exclusively for IWC members!
URL:https://iwcbda.com/event/gotta-golf-monday/2027-11-01/
LOCATION:Belmont Hills Golf Course\, Warwick\, WK06\, Bermuda
CATEGORIES:golf,weekly
ORGANIZER;CN="Val Platt":MAILTO:val@transact.bm
END:VEVENT
BEGIN:VEVENT
DTSTART;TZID=Atlantic/Bermuda:20271101T093000
DTEND;TZID=Atlantic/Bermuda:20271101T113000
DTSTAMP:20260421T084823
CREATED:20260206T160646Z
LAST-MODIFIED:20260206T160647Z
UID:10006810-1825061400-1825068600@iwcbda.com
SUMMARY:IWC Bermuda Trekkers
DESCRIPTION:
URL:https://iwcbda.com/event/iwc-bermuda-trekkers-2/2027-11-01/
CATEGORIES:weekly
END:VEVENT
BEGIN:VEVENT
DTSTART;TZID=Atlantic/Bermuda:20271102T130000
DTEND;TZID=Atlantic/Bermuda:20271102T160000
DTSTAMP:20260421T084823
CREATED:20250618T164705Z
LAST-MODIFIED:20250618T164705Z
UID:10006019-1825160400-1825171200@iwcbda.com
SUMMARY:Mahjong
DESCRIPTION:
URL:https://iwcbda.com/event/mahjong/2027-11-02/
LOCATION:Dinghy Club\, 26 Pomander Rd\, Hamilton\, Bermuda
CATEGORIES:weekly
END:VEVENT
END:VCALENDAR