BEGIN:VCALENDAR
VERSION:2.0
PRODID:-// - ECPv6.15.20//NONSGML v1.0//EN
CALSCALE:GREGORIAN
METHOD:PUBLISH
X-ORIGINAL-URL:https://iwcbda.com
X-WR-CALDESC:Events for 
REFRESH-INTERVAL;VALUE=DURATION:PT1H
X-Robots-Tag:noindex
X-PUBLISHED-TTL:PT1H
BEGIN:VTIMEZONE
TZID:Atlantic/Bermuda
BEGIN:DAYLIGHT
TZOFFSETFROM:-0400
TZOFFSETTO:-0300
TZNAME:ADT
DTSTART:20260308T060000
END:DAYLIGHT
BEGIN:STANDARD
TZOFFSETFROM:-0300
TZOFFSETTO:-0400
TZNAME:AST
DTSTART:20261101T050000
END:STANDARD
BEGIN:DAYLIGHT
TZOFFSETFROM:-0400
TZOFFSETTO:-0300
TZNAME:ADT
DTSTART:20270314T060000
END:DAYLIGHT
BEGIN:STANDARD
TZOFFSETFROM:-0300
TZOFFSETTO:-0400
TZNAME:AST
DTSTART:20271107T050000
END:STANDARD
BEGIN:DAYLIGHT
TZOFFSETFROM:-0400
TZOFFSETTO:-0300
TZNAME:ADT
DTSTART:20280312T060000
END:DAYLIGHT
BEGIN:STANDARD
TZOFFSETFROM:-0300
TZOFFSETTO:-0400
TZNAME:AST
DTSTART:20281105T050000
END:STANDARD
END:VTIMEZONE
BEGIN:VEVENT
DTSTART;TZID=Atlantic/Bermuda:20271028T090000
DTEND;TZID=Atlantic/Bermuda:20271028T103000
DTSTAMP:20260421T120609
CREATED:20250618T170618Z
LAST-MODIFIED:20250618T170618Z
UID:10006472-1824714000-1824719400@iwcbda.com
SUMMARY:IWC Tennis
DESCRIPTION:
URL:https://iwcbda.com/event/iwc-tennis/2027-10-28/
LOCATION:W.E.R. Joell Tennis Stadium\, 2 Marsh Folly Rd\, Pembroke\, Bermuda
CATEGORIES:sports,weekly
END:VEVENT
BEGIN:VEVENT
DTSTART;TZID=Atlantic/Bermuda:20271028T170000
DTEND;TZID=Atlantic/Bermuda:20271028T190000
DTSTAMP:20260421T120609
CREATED:20250618T164459Z
LAST-MODIFIED:20250618T164459Z
UID:10005681-1824742800-1824750000@iwcbda.com
SUMMARY:IWC Happy Hour
DESCRIPTION:
URL:https://iwcbda.com/event/iwc-happy-hour/2027-10-28/
CATEGORIES:social,weekly
END:VEVENT
BEGIN:VEVENT
DTSTART;TZID=Atlantic/Bermuda:20271029T093000
DTEND;TZID=Atlantic/Bermuda:20271029T113000
DTSTAMP:20260421T120609
CREATED:20250618T163933Z
LAST-MODIFIED:20250618T164315Z
UID:10005007-1824802200-1824809400@iwcbda.com
SUMMARY:Art Group
DESCRIPTION:
URL:https://iwcbda.com/event/art-group/2027-10-29/
CATEGORIES:weekly
END:VEVENT
BEGIN:VEVENT
DTSTART;TZID=Atlantic/Bermuda:20271101T090000
DTEND;TZID=Atlantic/Bermuda:20271101T130000
DTSTAMP:20260421T120609
CREATED:20260205T144340Z
LAST-MODIFIED:20260205T144340Z
UID:10007419-1825059600-1825074000@iwcbda.com
SUMMARY:Gotta Golf Monday
DESCRIPTION:Join Val and fellow IWC golfers for 18 holes every Monday!The cost is $50 (BHGC members pay the cart fee only) and includes either a shared cart or a push cart. Some of us walk the front nine and ride the back nine. The price is the same no matter how you get around the course. \nIt’s the best golf deal in Bermy — and it’s exclusively for IWC members!
URL:https://iwcbda.com/event/gotta-golf-monday/2027-11-01/
LOCATION:Belmont Hills Golf Course\, Warwick\, WK06\, Bermuda
CATEGORIES:golf,weekly
ORGANIZER;CN="Val Platt":MAILTO:val@transact.bm
END:VEVENT
BEGIN:VEVENT
DTSTART;TZID=Atlantic/Bermuda:20271101T093000
DTEND;TZID=Atlantic/Bermuda:20271101T113000
DTSTAMP:20260421T120609
CREATED:20260206T160646Z
LAST-MODIFIED:20260206T160647Z
UID:10006810-1825061400-1825068600@iwcbda.com
SUMMARY:IWC Bermuda Trekkers
DESCRIPTION:
URL:https://iwcbda.com/event/iwc-bermuda-trekkers-2/2027-11-01/
CATEGORIES:weekly
END:VEVENT
BEGIN:VEVENT
DTSTART;TZID=Atlantic/Bermuda:20271102T130000
DTEND;TZID=Atlantic/Bermuda:20271102T160000
DTSTAMP:20260421T120609
CREATED:20250618T164705Z
LAST-MODIFIED:20250618T164705Z
UID:10006019-1825160400-1825171200@iwcbda.com
SUMMARY:Mahjong
DESCRIPTION:
URL:https://iwcbda.com/event/mahjong/2027-11-02/
LOCATION:Dinghy Club\, 26 Pomander Rd\, Hamilton\, Bermuda
CATEGORIES:weekly
END:VEVENT
BEGIN:VEVENT
DTSTART;TZID=Atlantic/Bermuda:20271104T090000
DTEND;TZID=Atlantic/Bermuda:20271104T103000
DTSTAMP:20260421T120609
CREATED:20250618T170618Z
LAST-MODIFIED:20250618T170618Z
UID:10006473-1825318800-1825324200@iwcbda.com
SUMMARY:IWC Tennis
DESCRIPTION:
URL:https://iwcbda.com/event/iwc-tennis/2027-11-04/
LOCATION:W.E.R. Joell Tennis Stadium\, 2 Marsh Folly Rd\, Pembroke\, Bermuda
CATEGORIES:sports,weekly
END:VEVENT
BEGIN:VEVENT
DTSTART;TZID=Atlantic/Bermuda:20271104T170000
DTEND;TZID=Atlantic/Bermuda:20271104T190000
DTSTAMP:20260421T120609
CREATED:20250618T164459Z
LAST-MODIFIED:20250618T164459Z
UID:10005682-1825347600-1825354800@iwcbda.com
SUMMARY:IWC Happy Hour
DESCRIPTION:
URL:https://iwcbda.com/event/iwc-happy-hour/2027-11-04/
CATEGORIES:social,weekly
END:VEVENT
BEGIN:VEVENT
DTSTART;TZID=Atlantic/Bermuda:20271105T093000
DTEND;TZID=Atlantic/Bermuda:20271105T113000
DTSTAMP:20260421T120609
CREATED:20250618T163933Z
LAST-MODIFIED:20250618T164315Z
UID:10005008-1825407000-1825414200@iwcbda.com
SUMMARY:Art Group
DESCRIPTION:
URL:https://iwcbda.com/event/art-group/2027-11-05/
CATEGORIES:weekly
END:VEVENT
BEGIN:VEVENT
DTSTART;TZID=Atlantic/Bermuda:20271108T083000
DTEND;TZID=Atlantic/Bermuda:20271108T103000
DTSTAMP:20260421T120609
CREATED:20260206T160646Z
LAST-MODIFIED:20260206T160647Z
UID:10006811-1825662600-1825669800@iwcbda.com
SUMMARY:IWC Bermuda Trekkers
DESCRIPTION:
URL:https://iwcbda.com/event/iwc-bermuda-trekkers-2/2027-11-08/
CATEGORIES:weekly
END:VEVENT
BEGIN:VEVENT
DTSTART;TZID=Atlantic/Bermuda:20271108T090000
DTEND;TZID=Atlantic/Bermuda:20271108T130000
DTSTAMP:20260421T120609
CREATED:20260205T144340Z
LAST-MODIFIED:20260205T144340Z
UID:10007420-1825664400-1825678800@iwcbda.com
SUMMARY:Gotta Golf Monday
DESCRIPTION:Join Val and fellow IWC golfers for 18 holes every Monday!The cost is $50 (BHGC members pay the cart fee only) and includes either a shared cart or a push cart. Some of us walk the front nine and ride the back nine. The price is the same no matter how you get around the course. \nIt’s the best golf deal in Bermy — and it’s exclusively for IWC members!
URL:https://iwcbda.com/event/gotta-golf-monday/2027-11-08/
LOCATION:Belmont Hills Golf Course\, Warwick\, WK06\, Bermuda
CATEGORIES:golf,weekly
ORGANIZER;CN="Val Platt":MAILTO:val@transact.bm
END:VEVENT
BEGIN:VEVENT
DTSTART;TZID=Atlantic/Bermuda:20271109T120000
DTEND;TZID=Atlantic/Bermuda:20271109T150000
DTSTAMP:20260421T120609
CREATED:20250618T164705Z
LAST-MODIFIED:20250618T164705Z
UID:10006020-1825761600-1825772400@iwcbda.com
SUMMARY:Mahjong
DESCRIPTION:
URL:https://iwcbda.com/event/mahjong/2027-11-09/
LOCATION:Dinghy Club\, 26 Pomander Rd\, Hamilton\, Bermuda
CATEGORIES:weekly
END:VEVENT
BEGIN:VEVENT
DTSTART;TZID=Atlantic/Bermuda:20271111T080000
DTEND;TZID=Atlantic/Bermuda:20271111T093000
DTSTAMP:20260421T120609
CREATED:20250618T170618Z
LAST-MODIFIED:20250618T170618Z
UID:10006474-1825920000-1825925400@iwcbda.com
SUMMARY:IWC Tennis
DESCRIPTION:
URL:https://iwcbda.com/event/iwc-tennis/2027-11-11/
LOCATION:W.E.R. Joell Tennis Stadium\, 2 Marsh Folly Rd\, Pembroke\, Bermuda
CATEGORIES:sports,weekly
END:VEVENT
BEGIN:VEVENT
DTSTART;TZID=Atlantic/Bermuda:20271111T160000
DTEND;TZID=Atlantic/Bermuda:20271111T180000
DTSTAMP:20260421T120609
CREATED:20250618T164459Z
LAST-MODIFIED:20250618T164459Z
UID:10005683-1825948800-1825956000@iwcbda.com
SUMMARY:IWC Happy Hour
DESCRIPTION:
URL:https://iwcbda.com/event/iwc-happy-hour/2027-11-11/
CATEGORIES:social,weekly
END:VEVENT
BEGIN:VEVENT
DTSTART;TZID=Atlantic/Bermuda:20271112T083000
DTEND;TZID=Atlantic/Bermuda:20271112T103000
DTSTAMP:20260421T120609
CREATED:20250618T163933Z
LAST-MODIFIED:20250618T164315Z
UID:10005009-1826008200-1826015400@iwcbda.com
SUMMARY:Art Group
DESCRIPTION:
URL:https://iwcbda.com/event/art-group/2027-11-12/
CATEGORIES:weekly
END:VEVENT
BEGIN:VEVENT
DTSTART;TZID=Atlantic/Bermuda:20271115T083000
DTEND;TZID=Atlantic/Bermuda:20271115T103000
DTSTAMP:20260421T120609
CREATED:20260206T160646Z
LAST-MODIFIED:20260206T160647Z
UID:10006812-1826267400-1826274600@iwcbda.com
SUMMARY:IWC Bermuda Trekkers
DESCRIPTION:
URL:https://iwcbda.com/event/iwc-bermuda-trekkers-2/2027-11-15/
CATEGORIES:weekly
END:VEVENT
BEGIN:VEVENT
DTSTART;TZID=Atlantic/Bermuda:20271115T090000
DTEND;TZID=Atlantic/Bermuda:20271115T130000
DTSTAMP:20260421T120609
CREATED:20260205T144340Z
LAST-MODIFIED:20260205T144340Z
UID:10007421-1826269200-1826283600@iwcbda.com
SUMMARY:Gotta Golf Monday
DESCRIPTION:Join Val and fellow IWC golfers for 18 holes every Monday!The cost is $50 (BHGC members pay the cart fee only) and includes either a shared cart or a push cart. Some of us walk the front nine and ride the back nine. The price is the same no matter how you get around the course. \nIt’s the best golf deal in Bermy — and it’s exclusively for IWC members!
URL:https://iwcbda.com/event/gotta-golf-monday/2027-11-15/
LOCATION:Belmont Hills Golf Course\, Warwick\, WK06\, Bermuda
CATEGORIES:golf,weekly
ORGANIZER;CN="Val Platt":MAILTO:val@transact.bm
END:VEVENT
BEGIN:VEVENT
DTSTART;TZID=Atlantic/Bermuda:20271116T120000
DTEND;TZID=Atlantic/Bermuda:20271116T150000
DTSTAMP:20260421T120609
CREATED:20250618T164705Z
LAST-MODIFIED:20250618T164705Z
UID:10006021-1826366400-1826377200@iwcbda.com
SUMMARY:Mahjong
DESCRIPTION:
URL:https://iwcbda.com/event/mahjong/2027-11-16/
LOCATION:Dinghy Club\, 26 Pomander Rd\, Hamilton\, Bermuda
CATEGORIES:weekly
END:VEVENT
BEGIN:VEVENT
DTSTART;TZID=Atlantic/Bermuda:20271118T080000
DTEND;TZID=Atlantic/Bermuda:20271118T093000
DTSTAMP:20260421T120609
CREATED:20250618T170618Z
LAST-MODIFIED:20250618T170618Z
UID:10006475-1826524800-1826530200@iwcbda.com
SUMMARY:IWC Tennis
DESCRIPTION:
URL:https://iwcbda.com/event/iwc-tennis/2027-11-18/
LOCATION:W.E.R. Joell Tennis Stadium\, 2 Marsh Folly Rd\, Pembroke\, Bermuda
CATEGORIES:sports,weekly
END:VEVENT
BEGIN:VEVENT
DTSTART;TZID=Atlantic/Bermuda:20271118T160000
DTEND;TZID=Atlantic/Bermuda:20271118T180000
DTSTAMP:20260421T120609
CREATED:20250618T164459Z
LAST-MODIFIED:20250618T164459Z
UID:10005684-1826553600-1826560800@iwcbda.com
SUMMARY:IWC Happy Hour
DESCRIPTION:
URL:https://iwcbda.com/event/iwc-happy-hour/2027-11-18/
CATEGORIES:social,weekly
END:VEVENT
BEGIN:VEVENT
DTSTART;TZID=Atlantic/Bermuda:20271119T083000
DTEND;TZID=Atlantic/Bermuda:20271119T103000
DTSTAMP:20260421T120609
CREATED:20250618T163933Z
LAST-MODIFIED:20250618T164315Z
UID:10005010-1826613000-1826620200@iwcbda.com
SUMMARY:Art Group
DESCRIPTION:
URL:https://iwcbda.com/event/art-group/2027-11-19/
CATEGORIES:weekly
END:VEVENT
BEGIN:VEVENT
DTSTART;TZID=Atlantic/Bermuda:20271122T083000
DTEND;TZID=Atlantic/Bermuda:20271122T103000
DTSTAMP:20260421T120609
CREATED:20260206T160646Z
LAST-MODIFIED:20260206T160647Z
UID:10006813-1826872200-1826879400@iwcbda.com
SUMMARY:IWC Bermuda Trekkers
DESCRIPTION:
URL:https://iwcbda.com/event/iwc-bermuda-trekkers-2/2027-11-22/
CATEGORIES:weekly
END:VEVENT
BEGIN:VEVENT
DTSTART;TZID=Atlantic/Bermuda:20271122T090000
DTEND;TZID=Atlantic/Bermuda:20271122T130000
DTSTAMP:20260421T120609
CREATED:20260205T144340Z
LAST-MODIFIED:20260205T144340Z
UID:10007422-1826874000-1826888400@iwcbda.com
SUMMARY:Gotta Golf Monday
DESCRIPTION:Join Val and fellow IWC golfers for 18 holes every Monday!The cost is $50 (BHGC members pay the cart fee only) and includes either a shared cart or a push cart. Some of us walk the front nine and ride the back nine. The price is the same no matter how you get around the course. \nIt’s the best golf deal in Bermy — and it’s exclusively for IWC members!
URL:https://iwcbda.com/event/gotta-golf-monday/2027-11-22/
LOCATION:Belmont Hills Golf Course\, Warwick\, WK06\, Bermuda
CATEGORIES:golf,weekly
ORGANIZER;CN="Val Platt":MAILTO:val@transact.bm
END:VEVENT
BEGIN:VEVENT
DTSTART;TZID=Atlantic/Bermuda:20271123T120000
DTEND;TZID=Atlantic/Bermuda:20271123T150000
DTSTAMP:20260421T120609
CREATED:20250618T164705Z
LAST-MODIFIED:20250618T164705Z
UID:10006022-1826971200-1826982000@iwcbda.com
SUMMARY:Mahjong
DESCRIPTION:
URL:https://iwcbda.com/event/mahjong/2027-11-23/
LOCATION:Dinghy Club\, 26 Pomander Rd\, Hamilton\, Bermuda
CATEGORIES:weekly
END:VEVENT
BEGIN:VEVENT
DTSTART;TZID=Atlantic/Bermuda:20271125T080000
DTEND;TZID=Atlantic/Bermuda:20271125T093000
DTSTAMP:20260421T120609
CREATED:20250618T170618Z
LAST-MODIFIED:20250618T170618Z
UID:10006476-1827129600-1827135000@iwcbda.com
SUMMARY:IWC Tennis
DESCRIPTION:
URL:https://iwcbda.com/event/iwc-tennis/2027-11-25/
LOCATION:W.E.R. Joell Tennis Stadium\, 2 Marsh Folly Rd\, Pembroke\, Bermuda
CATEGORIES:sports,weekly
END:VEVENT
BEGIN:VEVENT
DTSTART;TZID=Atlantic/Bermuda:20271125T160000
DTEND;TZID=Atlantic/Bermuda:20271125T180000
DTSTAMP:20260421T120609
CREATED:20250618T164459Z
LAST-MODIFIED:20250618T164459Z
UID:10005685-1827158400-1827165600@iwcbda.com
SUMMARY:IWC Happy Hour
DESCRIPTION:
URL:https://iwcbda.com/event/iwc-happy-hour/2027-11-25/
CATEGORIES:social,weekly
END:VEVENT
BEGIN:VEVENT
DTSTART;TZID=Atlantic/Bermuda:20271126T083000
DTEND;TZID=Atlantic/Bermuda:20271126T103000
DTSTAMP:20260421T120609
CREATED:20250618T163933Z
LAST-MODIFIED:20250618T164315Z
UID:10005011-1827217800-1827225000@iwcbda.com
SUMMARY:Art Group
DESCRIPTION:
URL:https://iwcbda.com/event/art-group/2027-11-26/
CATEGORIES:weekly
END:VEVENT
BEGIN:VEVENT
DTSTART;TZID=Atlantic/Bermuda:20271129T083000
DTEND;TZID=Atlantic/Bermuda:20271129T103000
DTSTAMP:20260421T120609
CREATED:20260206T160646Z
LAST-MODIFIED:20260206T160647Z
UID:10006814-1827477000-1827484200@iwcbda.com
SUMMARY:IWC Bermuda Trekkers
DESCRIPTION:
URL:https://iwcbda.com/event/iwc-bermuda-trekkers-2/2027-11-29/
CATEGORIES:weekly
END:VEVENT
BEGIN:VEVENT
DTSTART;TZID=Atlantic/Bermuda:20271129T090000
DTEND;TZID=Atlantic/Bermuda:20271129T130000
DTSTAMP:20260421T120609
CREATED:20260205T144340Z
LAST-MODIFIED:20260205T144340Z
UID:10007423-1827478800-1827493200@iwcbda.com
SUMMARY:Gotta Golf Monday
DESCRIPTION:Join Val and fellow IWC golfers for 18 holes every Monday!The cost is $50 (BHGC members pay the cart fee only) and includes either a shared cart or a push cart. Some of us walk the front nine and ride the back nine. The price is the same no matter how you get around the course. \nIt’s the best golf deal in Bermy — and it’s exclusively for IWC members!
URL:https://iwcbda.com/event/gotta-golf-monday/2027-11-29/
LOCATION:Belmont Hills Golf Course\, Warwick\, WK06\, Bermuda
CATEGORIES:golf,weekly
ORGANIZER;CN="Val Platt":MAILTO:val@transact.bm
END:VEVENT
BEGIN:VEVENT
DTSTART;TZID=Atlantic/Bermuda:20271130T120000
DTEND;TZID=Atlantic/Bermuda:20271130T150000
DTSTAMP:20260421T120609
CREATED:20250618T164705Z
LAST-MODIFIED:20250618T164705Z
UID:10006023-1827576000-1827586800@iwcbda.com
SUMMARY:Mahjong
DESCRIPTION:
URL:https://iwcbda.com/event/mahjong/2027-11-30/
LOCATION:Dinghy Club\, 26 Pomander Rd\, Hamilton\, Bermuda
CATEGORIES:weekly
END:VEVENT
END:VCALENDAR