BEGIN:VCALENDAR
VERSION:2.0
PRODID:-// - ECPv6.15.20//NONSGML v1.0//EN
CALSCALE:GREGORIAN
METHOD:PUBLISH
X-ORIGINAL-URL:https://iwcbda.com
X-WR-CALDESC:Events for 
REFRESH-INTERVAL;VALUE=DURATION:PT1H
X-Robots-Tag:noindex
X-PUBLISHED-TTL:PT1H
BEGIN:VTIMEZONE
TZID:Atlantic/Bermuda
BEGIN:DAYLIGHT
TZOFFSETFROM:-0400
TZOFFSETTO:-0300
TZNAME:ADT
DTSTART:20270314T060000
END:DAYLIGHT
BEGIN:STANDARD
TZOFFSETFROM:-0300
TZOFFSETTO:-0400
TZNAME:AST
DTSTART:20271107T050000
END:STANDARD
BEGIN:DAYLIGHT
TZOFFSETFROM:-0400
TZOFFSETTO:-0300
TZNAME:ADT
DTSTART:20280312T060000
END:DAYLIGHT
BEGIN:STANDARD
TZOFFSETFROM:-0300
TZOFFSETTO:-0400
TZNAME:AST
DTSTART:20281105T050000
END:STANDARD
BEGIN:DAYLIGHT
TZOFFSETFROM:-0400
TZOFFSETTO:-0300
TZNAME:ADT
DTSTART:20290311T060000
END:DAYLIGHT
BEGIN:STANDARD
TZOFFSETFROM:-0300
TZOFFSETTO:-0400
TZNAME:AST
DTSTART:20291104T050000
END:STANDARD
END:VTIMEZONE
BEGIN:VEVENT
DTSTART;TZID=Atlantic/Bermuda:20280330T170000
DTEND;TZID=Atlantic/Bermuda:20280330T190000
DTSTAMP:20260422T071807
CREATED:20250618T164459Z
LAST-MODIFIED:20250618T164459Z
UID:10005703-1838048400-1838055600@iwcbda.com
SUMMARY:IWC Happy Hour
DESCRIPTION:
URL:https://iwcbda.com/event/iwc-happy-hour/2028-03-30/
CATEGORIES:social,weekly
END:VEVENT
BEGIN:VEVENT
DTSTART;TZID=Atlantic/Bermuda:20280331T093000
DTEND;TZID=Atlantic/Bermuda:20280331T113000
DTSTAMP:20260422T071807
CREATED:20250618T163933Z
LAST-MODIFIED:20250618T164315Z
UID:10005029-1838107800-1838115000@iwcbda.com
SUMMARY:Art Group
DESCRIPTION:
URL:https://iwcbda.com/event/art-group/2028-03-31/
CATEGORIES:weekly
END:VEVENT
BEGIN:VEVENT
DTSTART;TZID=Atlantic/Bermuda:20280403T090000
DTEND;TZID=Atlantic/Bermuda:20280403T130000
DTSTAMP:20260422T071807
CREATED:20260205T144340Z
LAST-MODIFIED:20260205T144340Z
UID:10007441-1838365200-1838379600@iwcbda.com
SUMMARY:Gotta Golf Monday
DESCRIPTION:Join Val and fellow IWC golfers for 18 holes every Monday!The cost is $50 (BHGC members pay the cart fee only) and includes either a shared cart or a push cart. Some of us walk the front nine and ride the back nine. The price is the same no matter how you get around the course. \nIt’s the best golf deal in Bermy — and it’s exclusively for IWC members!
URL:https://iwcbda.com/event/gotta-golf-monday/2028-04-03/
LOCATION:Belmont Hills Golf Course\, Warwick\, WK06\, Bermuda
CATEGORIES:golf,weekly
ORGANIZER;CN="Val Platt":MAILTO:val@transact.bm
END:VEVENT
BEGIN:VEVENT
DTSTART;TZID=Atlantic/Bermuda:20280403T093000
DTEND;TZID=Atlantic/Bermuda:20280403T113000
DTSTAMP:20260422T071807
CREATED:20260206T160646Z
LAST-MODIFIED:20260206T160647Z
UID:10006832-1838367000-1838374200@iwcbda.com
SUMMARY:IWC Bermuda Trekkers
DESCRIPTION:
URL:https://iwcbda.com/event/iwc-bermuda-trekkers-2/2028-04-03/
CATEGORIES:weekly
END:VEVENT
BEGIN:VEVENT
DTSTART;TZID=Atlantic/Bermuda:20280404T130000
DTEND;TZID=Atlantic/Bermuda:20280404T160000
DTSTAMP:20260422T071807
CREATED:20250618T164705Z
LAST-MODIFIED:20250618T164705Z
UID:10006041-1838466000-1838476800@iwcbda.com
SUMMARY:Mahjong
DESCRIPTION:
URL:https://iwcbda.com/event/mahjong/2028-04-04/
LOCATION:Dinghy Club\, 26 Pomander Rd\, Hamilton\, Bermuda
CATEGORIES:weekly
END:VEVENT
BEGIN:VEVENT
DTSTART;TZID=Atlantic/Bermuda:20280406T090000
DTEND;TZID=Atlantic/Bermuda:20280406T103000
DTSTAMP:20260422T071807
CREATED:20250618T170618Z
LAST-MODIFIED:20250618T170618Z
UID:10006495-1838624400-1838629800@iwcbda.com
SUMMARY:IWC Tennis
DESCRIPTION:
URL:https://iwcbda.com/event/iwc-tennis/2028-04-06/
LOCATION:W.E.R. Joell Tennis Stadium\, 2 Marsh Folly Rd\, Pembroke\, Bermuda
CATEGORIES:sports,weekly
END:VEVENT
BEGIN:VEVENT
DTSTART;TZID=Atlantic/Bermuda:20280406T170000
DTEND;TZID=Atlantic/Bermuda:20280406T190000
DTSTAMP:20260422T071807
CREATED:20250618T164459Z
LAST-MODIFIED:20250618T164459Z
UID:10005704-1838653200-1838660400@iwcbda.com
SUMMARY:IWC Happy Hour
DESCRIPTION:
URL:https://iwcbda.com/event/iwc-happy-hour/2028-04-06/
CATEGORIES:social,weekly
END:VEVENT
BEGIN:VEVENT
DTSTART;TZID=Atlantic/Bermuda:20280407T093000
DTEND;TZID=Atlantic/Bermuda:20280407T113000
DTSTAMP:20260422T071807
CREATED:20250618T163933Z
LAST-MODIFIED:20250618T164315Z
UID:10005030-1838712600-1838719800@iwcbda.com
SUMMARY:Art Group
DESCRIPTION:
URL:https://iwcbda.com/event/art-group/2028-04-07/
CATEGORIES:weekly
END:VEVENT
BEGIN:VEVENT
DTSTART;TZID=Atlantic/Bermuda:20280410T090000
DTEND;TZID=Atlantic/Bermuda:20280410T130000
DTSTAMP:20260422T071807
CREATED:20260205T144340Z
LAST-MODIFIED:20260205T144340Z
UID:10007442-1838970000-1838984400@iwcbda.com
SUMMARY:Gotta Golf Monday
DESCRIPTION:Join Val and fellow IWC golfers for 18 holes every Monday!The cost is $50 (BHGC members pay the cart fee only) and includes either a shared cart or a push cart. Some of us walk the front nine and ride the back nine. The price is the same no matter how you get around the course. \nIt’s the best golf deal in Bermy — and it’s exclusively for IWC members!
URL:https://iwcbda.com/event/gotta-golf-monday/2028-04-10/
LOCATION:Belmont Hills Golf Course\, Warwick\, WK06\, Bermuda
CATEGORIES:golf,weekly
ORGANIZER;CN="Val Platt":MAILTO:val@transact.bm
END:VEVENT
BEGIN:VEVENT
DTSTART;TZID=Atlantic/Bermuda:20280410T093000
DTEND;TZID=Atlantic/Bermuda:20280410T113000
DTSTAMP:20260422T071807
CREATED:20260206T160646Z
LAST-MODIFIED:20260206T160647Z
UID:10006833-1838971800-1838979000@iwcbda.com
SUMMARY:IWC Bermuda Trekkers
DESCRIPTION:
URL:https://iwcbda.com/event/iwc-bermuda-trekkers-2/2028-04-10/
CATEGORIES:weekly
END:VEVENT
BEGIN:VEVENT
DTSTART;TZID=Atlantic/Bermuda:20280411T130000
DTEND;TZID=Atlantic/Bermuda:20280411T160000
DTSTAMP:20260422T071807
CREATED:20250618T164705Z
LAST-MODIFIED:20250618T164705Z
UID:10006042-1839070800-1839081600@iwcbda.com
SUMMARY:Mahjong
DESCRIPTION:
URL:https://iwcbda.com/event/mahjong/2028-04-11/
LOCATION:Dinghy Club\, 26 Pomander Rd\, Hamilton\, Bermuda
CATEGORIES:weekly
END:VEVENT
BEGIN:VEVENT
DTSTART;TZID=Atlantic/Bermuda:20280413T090000
DTEND;TZID=Atlantic/Bermuda:20280413T103000
DTSTAMP:20260422T071807
CREATED:20250618T170618Z
LAST-MODIFIED:20250618T170618Z
UID:10006496-1839229200-1839234600@iwcbda.com
SUMMARY:IWC Tennis
DESCRIPTION:
URL:https://iwcbda.com/event/iwc-tennis/2028-04-13/
LOCATION:W.E.R. Joell Tennis Stadium\, 2 Marsh Folly Rd\, Pembroke\, Bermuda
CATEGORIES:sports,weekly
END:VEVENT
BEGIN:VEVENT
DTSTART;TZID=Atlantic/Bermuda:20280413T170000
DTEND;TZID=Atlantic/Bermuda:20280413T190000
DTSTAMP:20260422T071807
CREATED:20250618T164459Z
LAST-MODIFIED:20250618T164459Z
UID:10005705-1839258000-1839265200@iwcbda.com
SUMMARY:IWC Happy Hour
DESCRIPTION:
URL:https://iwcbda.com/event/iwc-happy-hour/2028-04-13/
CATEGORIES:social,weekly
END:VEVENT
BEGIN:VEVENT
DTSTART;TZID=Atlantic/Bermuda:20280414T093000
DTEND;TZID=Atlantic/Bermuda:20280414T113000
DTSTAMP:20260422T071807
CREATED:20250618T163933Z
LAST-MODIFIED:20250618T164315Z
UID:10005031-1839317400-1839324600@iwcbda.com
SUMMARY:Art Group
DESCRIPTION:
URL:https://iwcbda.com/event/art-group/2028-04-14/
CATEGORIES:weekly
END:VEVENT
BEGIN:VEVENT
DTSTART;TZID=Atlantic/Bermuda:20280417T090000
DTEND;TZID=Atlantic/Bermuda:20280417T130000
DTSTAMP:20260422T071807
CREATED:20260205T144340Z
LAST-MODIFIED:20260205T144340Z
UID:10007443-1839574800-1839589200@iwcbda.com
SUMMARY:Gotta Golf Monday
DESCRIPTION:Join Val and fellow IWC golfers for 18 holes every Monday!The cost is $50 (BHGC members pay the cart fee only) and includes either a shared cart or a push cart. Some of us walk the front nine and ride the back nine. The price is the same no matter how you get around the course. \nIt’s the best golf deal in Bermy — and it’s exclusively for IWC members!
URL:https://iwcbda.com/event/gotta-golf-monday/2028-04-17/
LOCATION:Belmont Hills Golf Course\, Warwick\, WK06\, Bermuda
CATEGORIES:golf,weekly
ORGANIZER;CN="Val Platt":MAILTO:val@transact.bm
END:VEVENT
BEGIN:VEVENT
DTSTART;TZID=Atlantic/Bermuda:20280417T093000
DTEND;TZID=Atlantic/Bermuda:20280417T113000
DTSTAMP:20260422T071807
CREATED:20260206T160646Z
LAST-MODIFIED:20260206T160647Z
UID:10006834-1839576600-1839583800@iwcbda.com
SUMMARY:IWC Bermuda Trekkers
DESCRIPTION:
URL:https://iwcbda.com/event/iwc-bermuda-trekkers-2/2028-04-17/
CATEGORIES:weekly
END:VEVENT
BEGIN:VEVENT
DTSTART;TZID=Atlantic/Bermuda:20280418T130000
DTEND;TZID=Atlantic/Bermuda:20280418T160000
DTSTAMP:20260422T071807
CREATED:20250618T164705Z
LAST-MODIFIED:20250618T164705Z
UID:10006043-1839675600-1839686400@iwcbda.com
SUMMARY:Mahjong
DESCRIPTION:
URL:https://iwcbda.com/event/mahjong/2028-04-18/
LOCATION:Dinghy Club\, 26 Pomander Rd\, Hamilton\, Bermuda
CATEGORIES:weekly
END:VEVENT
BEGIN:VEVENT
DTSTART;TZID=Atlantic/Bermuda:20280420T090000
DTEND;TZID=Atlantic/Bermuda:20280420T103000
DTSTAMP:20260422T071807
CREATED:20250618T170618Z
LAST-MODIFIED:20250618T170618Z
UID:10006497-1839834000-1839839400@iwcbda.com
SUMMARY:IWC Tennis
DESCRIPTION:
URL:https://iwcbda.com/event/iwc-tennis/2028-04-20/
LOCATION:W.E.R. Joell Tennis Stadium\, 2 Marsh Folly Rd\, Pembroke\, Bermuda
CATEGORIES:sports,weekly
END:VEVENT
BEGIN:VEVENT
DTSTART;TZID=Atlantic/Bermuda:20280420T170000
DTEND;TZID=Atlantic/Bermuda:20280420T190000
DTSTAMP:20260422T071807
CREATED:20250618T164459Z
LAST-MODIFIED:20250618T164459Z
UID:10005706-1839862800-1839870000@iwcbda.com
SUMMARY:IWC Happy Hour
DESCRIPTION:
URL:https://iwcbda.com/event/iwc-happy-hour/2028-04-20/
CATEGORIES:social,weekly
END:VEVENT
BEGIN:VEVENT
DTSTART;TZID=Atlantic/Bermuda:20280421T093000
DTEND;TZID=Atlantic/Bermuda:20280421T113000
DTSTAMP:20260422T071807
CREATED:20250618T163933Z
LAST-MODIFIED:20250618T164315Z
UID:10005032-1839922200-1839929400@iwcbda.com
SUMMARY:Art Group
DESCRIPTION:
URL:https://iwcbda.com/event/art-group/2028-04-21/
CATEGORIES:weekly
END:VEVENT
BEGIN:VEVENT
DTSTART;TZID=Atlantic/Bermuda:20280424T090000
DTEND;TZID=Atlantic/Bermuda:20280424T130000
DTSTAMP:20260422T071807
CREATED:20260205T144340Z
LAST-MODIFIED:20260205T144340Z
UID:10007444-1840179600-1840194000@iwcbda.com
SUMMARY:Gotta Golf Monday
DESCRIPTION:Join Val and fellow IWC golfers for 18 holes every Monday!The cost is $50 (BHGC members pay the cart fee only) and includes either a shared cart or a push cart. Some of us walk the front nine and ride the back nine. The price is the same no matter how you get around the course. \nIt’s the best golf deal in Bermy — and it’s exclusively for IWC members!
URL:https://iwcbda.com/event/gotta-golf-monday/2028-04-24/
LOCATION:Belmont Hills Golf Course\, Warwick\, WK06\, Bermuda
CATEGORIES:golf,weekly
ORGANIZER;CN="Val Platt":MAILTO:val@transact.bm
END:VEVENT
BEGIN:VEVENT
DTSTART;TZID=Atlantic/Bermuda:20280424T093000
DTEND;TZID=Atlantic/Bermuda:20280424T113000
DTSTAMP:20260422T071807
CREATED:20260206T160646Z
LAST-MODIFIED:20260206T160647Z
UID:10006835-1840181400-1840188600@iwcbda.com
SUMMARY:IWC Bermuda Trekkers
DESCRIPTION:
URL:https://iwcbda.com/event/iwc-bermuda-trekkers-2/2028-04-24/
CATEGORIES:weekly
END:VEVENT
BEGIN:VEVENT
DTSTART;TZID=Atlantic/Bermuda:20280425T130000
DTEND;TZID=Atlantic/Bermuda:20280425T160000
DTSTAMP:20260422T071807
CREATED:20250618T164705Z
LAST-MODIFIED:20250618T164705Z
UID:10006044-1840280400-1840291200@iwcbda.com
SUMMARY:Mahjong
DESCRIPTION:
URL:https://iwcbda.com/event/mahjong/2028-04-25/
LOCATION:Dinghy Club\, 26 Pomander Rd\, Hamilton\, Bermuda
CATEGORIES:weekly
END:VEVENT
BEGIN:VEVENT
DTSTART;TZID=Atlantic/Bermuda:20280427T090000
DTEND;TZID=Atlantic/Bermuda:20280427T103000
DTSTAMP:20260422T071807
CREATED:20250618T170618Z
LAST-MODIFIED:20250618T170618Z
UID:10006498-1840438800-1840444200@iwcbda.com
SUMMARY:IWC Tennis
DESCRIPTION:
URL:https://iwcbda.com/event/iwc-tennis/2028-04-27/
LOCATION:W.E.R. Joell Tennis Stadium\, 2 Marsh Folly Rd\, Pembroke\, Bermuda
CATEGORIES:sports,weekly
END:VEVENT
BEGIN:VEVENT
DTSTART;TZID=Atlantic/Bermuda:20280427T170000
DTEND;TZID=Atlantic/Bermuda:20280427T190000
DTSTAMP:20260422T071807
CREATED:20250618T164459Z
LAST-MODIFIED:20250618T164459Z
UID:10005707-1840467600-1840474800@iwcbda.com
SUMMARY:IWC Happy Hour
DESCRIPTION:
URL:https://iwcbda.com/event/iwc-happy-hour/2028-04-27/
CATEGORIES:social,weekly
END:VEVENT
BEGIN:VEVENT
DTSTART;TZID=Atlantic/Bermuda:20280428T093000
DTEND;TZID=Atlantic/Bermuda:20280428T113000
DTSTAMP:20260422T071807
CREATED:20250618T163933Z
LAST-MODIFIED:20250618T164315Z
UID:10005033-1840527000-1840534200@iwcbda.com
SUMMARY:Art Group
DESCRIPTION:
URL:https://iwcbda.com/event/art-group/2028-04-28/
CATEGORIES:weekly
END:VEVENT
BEGIN:VEVENT
DTSTART;TZID=Atlantic/Bermuda:20280501T090000
DTEND;TZID=Atlantic/Bermuda:20280501T130000
DTSTAMP:20260422T071807
CREATED:20260205T144340Z
LAST-MODIFIED:20260205T144340Z
UID:10007445-1840784400-1840798800@iwcbda.com
SUMMARY:Gotta Golf Monday
DESCRIPTION:Join Val and fellow IWC golfers for 18 holes every Monday!The cost is $50 (BHGC members pay the cart fee only) and includes either a shared cart or a push cart. Some of us walk the front nine and ride the back nine. The price is the same no matter how you get around the course. \nIt’s the best golf deal in Bermy — and it’s exclusively for IWC members!
URL:https://iwcbda.com/event/gotta-golf-monday/2028-05-01/
LOCATION:Belmont Hills Golf Course\, Warwick\, WK06\, Bermuda
CATEGORIES:golf,weekly
ORGANIZER;CN="Val Platt":MAILTO:val@transact.bm
END:VEVENT
BEGIN:VEVENT
DTSTART;TZID=Atlantic/Bermuda:20280501T093000
DTEND;TZID=Atlantic/Bermuda:20280501T113000
DTSTAMP:20260422T071807
CREATED:20260206T160646Z
LAST-MODIFIED:20260206T160647Z
UID:10006836-1840786200-1840793400@iwcbda.com
SUMMARY:IWC Bermuda Trekkers
DESCRIPTION:
URL:https://iwcbda.com/event/iwc-bermuda-trekkers-2/2028-05-01/
CATEGORIES:weekly
END:VEVENT
BEGIN:VEVENT
DTSTART;TZID=Atlantic/Bermuda:20280502T130000
DTEND;TZID=Atlantic/Bermuda:20280502T160000
DTSTAMP:20260422T071807
CREATED:20250618T164705Z
LAST-MODIFIED:20250618T164705Z
UID:10006045-1840885200-1840896000@iwcbda.com
SUMMARY:Mahjong
DESCRIPTION:
URL:https://iwcbda.com/event/mahjong/2028-05-02/
LOCATION:Dinghy Club\, 26 Pomander Rd\, Hamilton\, Bermuda
CATEGORIES:weekly
END:VEVENT
BEGIN:VEVENT
DTSTART;TZID=Atlantic/Bermuda:20280504T090000
DTEND;TZID=Atlantic/Bermuda:20280504T103000
DTSTAMP:20260422T071807
CREATED:20250618T170618Z
LAST-MODIFIED:20250618T170618Z
UID:10006499-1841043600-1841049000@iwcbda.com
SUMMARY:IWC Tennis
DESCRIPTION:
URL:https://iwcbda.com/event/iwc-tennis/2028-05-04/
LOCATION:W.E.R. Joell Tennis Stadium\, 2 Marsh Folly Rd\, Pembroke\, Bermuda
CATEGORIES:sports,weekly
END:VEVENT
END:VCALENDAR