BEGIN:VCALENDAR
VERSION:2.0
PRODID:-// - ECPv6.15.20//NONSGML v1.0//EN
CALSCALE:GREGORIAN
METHOD:PUBLISH
X-ORIGINAL-URL:https://iwcbda.com
X-WR-CALDESC:Events for 
REFRESH-INTERVAL;VALUE=DURATION:PT1H
X-Robots-Tag:noindex
X-PUBLISHED-TTL:PT1H
BEGIN:VTIMEZONE
TZID:Atlantic/Bermuda
BEGIN:DAYLIGHT
TZOFFSETFROM:-0400
TZOFFSETTO:-0300
TZNAME:ADT
DTSTART:20270314T060000
END:DAYLIGHT
BEGIN:STANDARD
TZOFFSETFROM:-0300
TZOFFSETTO:-0400
TZNAME:AST
DTSTART:20271107T050000
END:STANDARD
BEGIN:DAYLIGHT
TZOFFSETFROM:-0400
TZOFFSETTO:-0300
TZNAME:ADT
DTSTART:20280312T060000
END:DAYLIGHT
BEGIN:STANDARD
TZOFFSETFROM:-0300
TZOFFSETTO:-0400
TZNAME:AST
DTSTART:20281105T050000
END:STANDARD
BEGIN:DAYLIGHT
TZOFFSETFROM:-0400
TZOFFSETTO:-0300
TZNAME:ADT
DTSTART:20290311T060000
END:DAYLIGHT
BEGIN:STANDARD
TZOFFSETFROM:-0300
TZOFFSETTO:-0400
TZNAME:AST
DTSTART:20291104T050000
END:STANDARD
END:VTIMEZONE
BEGIN:VEVENT
DTSTART;TZID=Atlantic/Bermuda:20280831T170000
DTEND;TZID=Atlantic/Bermuda:20280831T190000
DTSTAMP:20260423T023517
CREATED:20250618T164459Z
LAST-MODIFIED:20250618T164459Z
UID:10005725-1851354000-1851361200@iwcbda.com
SUMMARY:IWC Happy Hour
DESCRIPTION:
URL:https://iwcbda.com/event/iwc-happy-hour/2028-08-31/
CATEGORIES:social,weekly
END:VEVENT
BEGIN:VEVENT
DTSTART;TZID=Atlantic/Bermuda:20280901T093000
DTEND;TZID=Atlantic/Bermuda:20280901T113000
DTSTAMP:20260423T023517
CREATED:20250618T163933Z
LAST-MODIFIED:20250618T164315Z
UID:10005051-1851413400-1851420600@iwcbda.com
SUMMARY:Art Group
DESCRIPTION:
URL:https://iwcbda.com/event/art-group/2028-09-01/
CATEGORIES:weekly
END:VEVENT
BEGIN:VEVENT
DTSTART;TZID=Atlantic/Bermuda:20280904T090000
DTEND;TZID=Atlantic/Bermuda:20280904T130000
DTSTAMP:20260423T023517
CREATED:20260205T144340Z
LAST-MODIFIED:20260205T144340Z
UID:10007463-1851670800-1851685200@iwcbda.com
SUMMARY:Gotta Golf Monday
DESCRIPTION:Join Val and fellow IWC golfers for 18 holes every Monday!The cost is $50 (BHGC members pay the cart fee only) and includes either a shared cart or a push cart. Some of us walk the front nine and ride the back nine. The price is the same no matter how you get around the course. \nIt’s the best golf deal in Bermy — and it’s exclusively for IWC members!
URL:https://iwcbda.com/event/gotta-golf-monday/2028-09-04/
LOCATION:Belmont Hills Golf Course\, Warwick\, WK06\, Bermuda
CATEGORIES:golf,weekly
ORGANIZER;CN="Val Platt":MAILTO:val@transact.bm
END:VEVENT
BEGIN:VEVENT
DTSTART;TZID=Atlantic/Bermuda:20280904T093000
DTEND;TZID=Atlantic/Bermuda:20280904T113000
DTSTAMP:20260423T023517
CREATED:20260206T160646Z
LAST-MODIFIED:20260206T160647Z
UID:10006854-1851672600-1851679800@iwcbda.com
SUMMARY:IWC Bermuda Trekkers
DESCRIPTION:
URL:https://iwcbda.com/event/iwc-bermuda-trekkers-2/2028-09-04/
CATEGORIES:weekly
END:VEVENT
BEGIN:VEVENT
DTSTART;TZID=Atlantic/Bermuda:20280905T130000
DTEND;TZID=Atlantic/Bermuda:20280905T160000
DTSTAMP:20260423T023517
CREATED:20250618T164705Z
LAST-MODIFIED:20250618T164705Z
UID:10006063-1851771600-1851782400@iwcbda.com
SUMMARY:Mahjong
DESCRIPTION:
URL:https://iwcbda.com/event/mahjong/2028-09-05/
LOCATION:Dinghy Club\, 26 Pomander Rd\, Hamilton\, Bermuda
CATEGORIES:weekly
END:VEVENT
BEGIN:VEVENT
DTSTART;TZID=Atlantic/Bermuda:20280907T090000
DTEND;TZID=Atlantic/Bermuda:20280907T103000
DTSTAMP:20260423T023517
CREATED:20250618T170618Z
LAST-MODIFIED:20250618T170618Z
UID:10006517-1851930000-1851935400@iwcbda.com
SUMMARY:IWC Tennis
DESCRIPTION:
URL:https://iwcbda.com/event/iwc-tennis/2028-09-07/
LOCATION:W.E.R. Joell Tennis Stadium\, 2 Marsh Folly Rd\, Pembroke\, Bermuda
CATEGORIES:sports,weekly
END:VEVENT
BEGIN:VEVENT
DTSTART;TZID=Atlantic/Bermuda:20280907T170000
DTEND;TZID=Atlantic/Bermuda:20280907T190000
DTSTAMP:20260423T023517
CREATED:20250618T164459Z
LAST-MODIFIED:20250618T164459Z
UID:10005726-1851958800-1851966000@iwcbda.com
SUMMARY:IWC Happy Hour
DESCRIPTION:
URL:https://iwcbda.com/event/iwc-happy-hour/2028-09-07/
CATEGORIES:social,weekly
END:VEVENT
BEGIN:VEVENT
DTSTART;TZID=Atlantic/Bermuda:20280908T093000
DTEND;TZID=Atlantic/Bermuda:20280908T113000
DTSTAMP:20260423T023517
CREATED:20250618T163933Z
LAST-MODIFIED:20250618T164315Z
UID:10005052-1852018200-1852025400@iwcbda.com
SUMMARY:Art Group
DESCRIPTION:
URL:https://iwcbda.com/event/art-group/2028-09-08/
CATEGORIES:weekly
END:VEVENT
BEGIN:VEVENT
DTSTART;TZID=Atlantic/Bermuda:20280911T090000
DTEND;TZID=Atlantic/Bermuda:20280911T130000
DTSTAMP:20260423T023517
CREATED:20260205T144340Z
LAST-MODIFIED:20260205T144340Z
UID:10007464-1852275600-1852290000@iwcbda.com
SUMMARY:Gotta Golf Monday
DESCRIPTION:Join Val and fellow IWC golfers for 18 holes every Monday!The cost is $50 (BHGC members pay the cart fee only) and includes either a shared cart or a push cart. Some of us walk the front nine and ride the back nine. The price is the same no matter how you get around the course. \nIt’s the best golf deal in Bermy — and it’s exclusively for IWC members!
URL:https://iwcbda.com/event/gotta-golf-monday/2028-09-11/
LOCATION:Belmont Hills Golf Course\, Warwick\, WK06\, Bermuda
CATEGORIES:golf,weekly
ORGANIZER;CN="Val Platt":MAILTO:val@transact.bm
END:VEVENT
BEGIN:VEVENT
DTSTART;TZID=Atlantic/Bermuda:20280911T093000
DTEND;TZID=Atlantic/Bermuda:20280911T113000
DTSTAMP:20260423T023517
CREATED:20260206T160646Z
LAST-MODIFIED:20260206T160647Z
UID:10006855-1852277400-1852284600@iwcbda.com
SUMMARY:IWC Bermuda Trekkers
DESCRIPTION:
URL:https://iwcbda.com/event/iwc-bermuda-trekkers-2/2028-09-11/
CATEGORIES:weekly
END:VEVENT
BEGIN:VEVENT
DTSTART;TZID=Atlantic/Bermuda:20280912T130000
DTEND;TZID=Atlantic/Bermuda:20280912T160000
DTSTAMP:20260423T023517
CREATED:20250618T164705Z
LAST-MODIFIED:20250618T164705Z
UID:10006064-1852376400-1852387200@iwcbda.com
SUMMARY:Mahjong
DESCRIPTION:
URL:https://iwcbda.com/event/mahjong/2028-09-12/
LOCATION:Dinghy Club\, 26 Pomander Rd\, Hamilton\, Bermuda
CATEGORIES:weekly
END:VEVENT
BEGIN:VEVENT
DTSTART;TZID=Atlantic/Bermuda:20280914T090000
DTEND;TZID=Atlantic/Bermuda:20280914T103000
DTSTAMP:20260423T023517
CREATED:20250618T170618Z
LAST-MODIFIED:20250618T170618Z
UID:10006518-1852534800-1852540200@iwcbda.com
SUMMARY:IWC Tennis
DESCRIPTION:
URL:https://iwcbda.com/event/iwc-tennis/2028-09-14/
LOCATION:W.E.R. Joell Tennis Stadium\, 2 Marsh Folly Rd\, Pembroke\, Bermuda
CATEGORIES:sports,weekly
END:VEVENT
BEGIN:VEVENT
DTSTART;TZID=Atlantic/Bermuda:20280914T170000
DTEND;TZID=Atlantic/Bermuda:20280914T190000
DTSTAMP:20260423T023517
CREATED:20250618T164459Z
LAST-MODIFIED:20250618T164459Z
UID:10005727-1852563600-1852570800@iwcbda.com
SUMMARY:IWC Happy Hour
DESCRIPTION:
URL:https://iwcbda.com/event/iwc-happy-hour/2028-09-14/
CATEGORIES:social,weekly
END:VEVENT
BEGIN:VEVENT
DTSTART;TZID=Atlantic/Bermuda:20280915T093000
DTEND;TZID=Atlantic/Bermuda:20280915T113000
DTSTAMP:20260423T023517
CREATED:20250618T163933Z
LAST-MODIFIED:20250618T164315Z
UID:10005053-1852623000-1852630200@iwcbda.com
SUMMARY:Art Group
DESCRIPTION:
URL:https://iwcbda.com/event/art-group/2028-09-15/
CATEGORIES:weekly
END:VEVENT
BEGIN:VEVENT
DTSTART;TZID=Atlantic/Bermuda:20280918T090000
DTEND;TZID=Atlantic/Bermuda:20280918T130000
DTSTAMP:20260423T023517
CREATED:20260205T144340Z
LAST-MODIFIED:20260205T144340Z
UID:10007465-1852880400-1852894800@iwcbda.com
SUMMARY:Gotta Golf Monday
DESCRIPTION:Join Val and fellow IWC golfers for 18 holes every Monday!The cost is $50 (BHGC members pay the cart fee only) and includes either a shared cart or a push cart. Some of us walk the front nine and ride the back nine. The price is the same no matter how you get around the course. \nIt’s the best golf deal in Bermy — and it’s exclusively for IWC members!
URL:https://iwcbda.com/event/gotta-golf-monday/2028-09-18/
LOCATION:Belmont Hills Golf Course\, Warwick\, WK06\, Bermuda
CATEGORIES:golf,weekly
ORGANIZER;CN="Val Platt":MAILTO:val@transact.bm
END:VEVENT
BEGIN:VEVENT
DTSTART;TZID=Atlantic/Bermuda:20280918T093000
DTEND;TZID=Atlantic/Bermuda:20280918T113000
DTSTAMP:20260423T023517
CREATED:20260206T160646Z
LAST-MODIFIED:20260206T160647Z
UID:10006856-1852882200-1852889400@iwcbda.com
SUMMARY:IWC Bermuda Trekkers
DESCRIPTION:
URL:https://iwcbda.com/event/iwc-bermuda-trekkers-2/2028-09-18/
CATEGORIES:weekly
END:VEVENT
BEGIN:VEVENT
DTSTART;TZID=Atlantic/Bermuda:20280919T130000
DTEND;TZID=Atlantic/Bermuda:20280919T160000
DTSTAMP:20260423T023517
CREATED:20250618T164705Z
LAST-MODIFIED:20250618T164705Z
UID:10006065-1852981200-1852992000@iwcbda.com
SUMMARY:Mahjong
DESCRIPTION:
URL:https://iwcbda.com/event/mahjong/2028-09-19/
LOCATION:Dinghy Club\, 26 Pomander Rd\, Hamilton\, Bermuda
CATEGORIES:weekly
END:VEVENT
BEGIN:VEVENT
DTSTART;TZID=Atlantic/Bermuda:20280921T090000
DTEND;TZID=Atlantic/Bermuda:20280921T103000
DTSTAMP:20260423T023517
CREATED:20250618T170618Z
LAST-MODIFIED:20250618T170618Z
UID:10006519-1853139600-1853145000@iwcbda.com
SUMMARY:IWC Tennis
DESCRIPTION:
URL:https://iwcbda.com/event/iwc-tennis/2028-09-21/
LOCATION:W.E.R. Joell Tennis Stadium\, 2 Marsh Folly Rd\, Pembroke\, Bermuda
CATEGORIES:sports,weekly
END:VEVENT
BEGIN:VEVENT
DTSTART;TZID=Atlantic/Bermuda:20280921T170000
DTEND;TZID=Atlantic/Bermuda:20280921T190000
DTSTAMP:20260423T023517
CREATED:20250618T164459Z
LAST-MODIFIED:20250618T164459Z
UID:10005728-1853168400-1853175600@iwcbda.com
SUMMARY:IWC Happy Hour
DESCRIPTION:
URL:https://iwcbda.com/event/iwc-happy-hour/2028-09-21/
CATEGORIES:social,weekly
END:VEVENT
BEGIN:VEVENT
DTSTART;TZID=Atlantic/Bermuda:20280922T093000
DTEND;TZID=Atlantic/Bermuda:20280922T113000
DTSTAMP:20260423T023517
CREATED:20250618T163933Z
LAST-MODIFIED:20250618T164315Z
UID:10005054-1853227800-1853235000@iwcbda.com
SUMMARY:Art Group
DESCRIPTION:
URL:https://iwcbda.com/event/art-group/2028-09-22/
CATEGORIES:weekly
END:VEVENT
BEGIN:VEVENT
DTSTART;TZID=Atlantic/Bermuda:20280925T090000
DTEND;TZID=Atlantic/Bermuda:20280925T130000
DTSTAMP:20260423T023517
CREATED:20260205T144340Z
LAST-MODIFIED:20260205T144340Z
UID:10007466-1853485200-1853499600@iwcbda.com
SUMMARY:Gotta Golf Monday
DESCRIPTION:Join Val and fellow IWC golfers for 18 holes every Monday!The cost is $50 (BHGC members pay the cart fee only) and includes either a shared cart or a push cart. Some of us walk the front nine and ride the back nine. The price is the same no matter how you get around the course. \nIt’s the best golf deal in Bermy — and it’s exclusively for IWC members!
URL:https://iwcbda.com/event/gotta-golf-monday/2028-09-25/
LOCATION:Belmont Hills Golf Course\, Warwick\, WK06\, Bermuda
CATEGORIES:golf,weekly
ORGANIZER;CN="Val Platt":MAILTO:val@transact.bm
END:VEVENT
BEGIN:VEVENT
DTSTART;TZID=Atlantic/Bermuda:20280925T093000
DTEND;TZID=Atlantic/Bermuda:20280925T113000
DTSTAMP:20260423T023517
CREATED:20260206T160646Z
LAST-MODIFIED:20260206T160647Z
UID:10006857-1853487000-1853494200@iwcbda.com
SUMMARY:IWC Bermuda Trekkers
DESCRIPTION:
URL:https://iwcbda.com/event/iwc-bermuda-trekkers-2/2028-09-25/
CATEGORIES:weekly
END:VEVENT
BEGIN:VEVENT
DTSTART;TZID=Atlantic/Bermuda:20280926T130000
DTEND;TZID=Atlantic/Bermuda:20280926T160000
DTSTAMP:20260423T023517
CREATED:20250618T164705Z
LAST-MODIFIED:20250618T164705Z
UID:10006066-1853586000-1853596800@iwcbda.com
SUMMARY:Mahjong
DESCRIPTION:
URL:https://iwcbda.com/event/mahjong/2028-09-26/
LOCATION:Dinghy Club\, 26 Pomander Rd\, Hamilton\, Bermuda
CATEGORIES:weekly
END:VEVENT
BEGIN:VEVENT
DTSTART;TZID=Atlantic/Bermuda:20280928T090000
DTEND;TZID=Atlantic/Bermuda:20280928T103000
DTSTAMP:20260423T023517
CREATED:20250618T170618Z
LAST-MODIFIED:20250618T170618Z
UID:10006520-1853744400-1853749800@iwcbda.com
SUMMARY:IWC Tennis
DESCRIPTION:
URL:https://iwcbda.com/event/iwc-tennis/2028-09-28/
LOCATION:W.E.R. Joell Tennis Stadium\, 2 Marsh Folly Rd\, Pembroke\, Bermuda
CATEGORIES:sports,weekly
END:VEVENT
BEGIN:VEVENT
DTSTART;TZID=Atlantic/Bermuda:20280928T170000
DTEND;TZID=Atlantic/Bermuda:20280928T190000
DTSTAMP:20260423T023517
CREATED:20250618T164459Z
LAST-MODIFIED:20250618T164459Z
UID:10005729-1853773200-1853780400@iwcbda.com
SUMMARY:IWC Happy Hour
DESCRIPTION:
URL:https://iwcbda.com/event/iwc-happy-hour/2028-09-28/
CATEGORIES:social,weekly
END:VEVENT
BEGIN:VEVENT
DTSTART;TZID=Atlantic/Bermuda:20280929T093000
DTEND;TZID=Atlantic/Bermuda:20280929T113000
DTSTAMP:20260423T023517
CREATED:20250618T163933Z
LAST-MODIFIED:20250618T164315Z
UID:10005055-1853832600-1853839800@iwcbda.com
SUMMARY:Art Group
DESCRIPTION:
URL:https://iwcbda.com/event/art-group/2028-09-29/
CATEGORIES:weekly
END:VEVENT
BEGIN:VEVENT
DTSTART;TZID=Atlantic/Bermuda:20281002T090000
DTEND;TZID=Atlantic/Bermuda:20281002T130000
DTSTAMP:20260423T023517
CREATED:20260205T144340Z
LAST-MODIFIED:20260205T144340Z
UID:10007467-1854090000-1854104400@iwcbda.com
SUMMARY:Gotta Golf Monday
DESCRIPTION:Join Val and fellow IWC golfers for 18 holes every Monday!The cost is $50 (BHGC members pay the cart fee only) and includes either a shared cart or a push cart. Some of us walk the front nine and ride the back nine. The price is the same no matter how you get around the course. \nIt’s the best golf deal in Bermy — and it’s exclusively for IWC members!
URL:https://iwcbda.com/event/gotta-golf-monday/2028-10-02/
LOCATION:Belmont Hills Golf Course\, Warwick\, WK06\, Bermuda
CATEGORIES:golf,weekly
ORGANIZER;CN="Val Platt":MAILTO:val@transact.bm
END:VEVENT
BEGIN:VEVENT
DTSTART;TZID=Atlantic/Bermuda:20281002T093000
DTEND;TZID=Atlantic/Bermuda:20281002T113000
DTSTAMP:20260423T023517
CREATED:20260206T160646Z
LAST-MODIFIED:20260206T160647Z
UID:10006858-1854091800-1854099000@iwcbda.com
SUMMARY:IWC Bermuda Trekkers
DESCRIPTION:
URL:https://iwcbda.com/event/iwc-bermuda-trekkers-2/2028-10-02/
CATEGORIES:weekly
END:VEVENT
BEGIN:VEVENT
DTSTART;TZID=Atlantic/Bermuda:20281003T130000
DTEND;TZID=Atlantic/Bermuda:20281003T160000
DTSTAMP:20260423T023517
CREATED:20250618T164705Z
LAST-MODIFIED:20250618T164705Z
UID:10006067-1854190800-1854201600@iwcbda.com
SUMMARY:Mahjong
DESCRIPTION:
URL:https://iwcbda.com/event/mahjong/2028-10-03/
LOCATION:Dinghy Club\, 26 Pomander Rd\, Hamilton\, Bermuda
CATEGORIES:weekly
END:VEVENT
BEGIN:VEVENT
DTSTART;TZID=Atlantic/Bermuda:20281005T090000
DTEND;TZID=Atlantic/Bermuda:20281005T103000
DTSTAMP:20260423T023517
CREATED:20250618T170618Z
LAST-MODIFIED:20250618T170618Z
UID:10006521-1854349200-1854354600@iwcbda.com
SUMMARY:IWC Tennis
DESCRIPTION:
URL:https://iwcbda.com/event/iwc-tennis/2028-10-05/
LOCATION:W.E.R. Joell Tennis Stadium\, 2 Marsh Folly Rd\, Pembroke\, Bermuda
CATEGORIES:sports,weekly
END:VEVENT
END:VCALENDAR