BEGIN:VCALENDAR
VERSION:2.0
PRODID:-// - ECPv6.15.20//NONSGML v1.0//EN
CALSCALE:GREGORIAN
METHOD:PUBLISH
X-ORIGINAL-URL:https://iwcbda.com
X-WR-CALDESC:Events for 
REFRESH-INTERVAL;VALUE=DURATION:PT1H
X-Robots-Tag:noindex
X-PUBLISHED-TTL:PT1H
BEGIN:VTIMEZONE
TZID:Atlantic/Bermuda
BEGIN:DAYLIGHT
TZOFFSETFROM:-0400
TZOFFSETTO:-0300
TZNAME:ADT
DTSTART:20270314T060000
END:DAYLIGHT
BEGIN:STANDARD
TZOFFSETFROM:-0300
TZOFFSETTO:-0400
TZNAME:AST
DTSTART:20271107T050000
END:STANDARD
BEGIN:DAYLIGHT
TZOFFSETFROM:-0400
TZOFFSETTO:-0300
TZNAME:ADT
DTSTART:20280312T060000
END:DAYLIGHT
BEGIN:STANDARD
TZOFFSETFROM:-0300
TZOFFSETTO:-0400
TZNAME:AST
DTSTART:20281105T050000
END:STANDARD
BEGIN:DAYLIGHT
TZOFFSETFROM:-0400
TZOFFSETTO:-0300
TZNAME:ADT
DTSTART:20290311T060000
END:DAYLIGHT
BEGIN:STANDARD
TZOFFSETFROM:-0300
TZOFFSETTO:-0400
TZNAME:AST
DTSTART:20291104T050000
END:STANDARD
END:VTIMEZONE
BEGIN:VEVENT
DTSTART;TZID=Atlantic/Bermuda:20281113T090000
DTEND;TZID=Atlantic/Bermuda:20281113T130000
DTSTAMP:20260425T112330
CREATED:20260205T144340Z
LAST-MODIFIED:20260205T144340Z
UID:10007473-1857718800-1857733200@iwcbda.com
SUMMARY:Gotta Golf Monday
DESCRIPTION:Join Val and fellow IWC golfers for 18 holes every Monday!The cost is $50 (BHGC members pay the cart fee only) and includes either a shared cart or a push cart. Some of us walk the front nine and ride the back nine. The price is the same no matter how you get around the course. \nIt’s the best golf deal in Bermy — and it’s exclusively for IWC members!
URL:https://iwcbda.com/event/gotta-golf-monday/2028-11-13/
LOCATION:Belmont Hills Golf Course\, Warwick\, WK06\, Bermuda
CATEGORIES:golf,weekly
ORGANIZER;CN="Val Platt":MAILTO:val@transact.bm
END:VEVENT
BEGIN:VEVENT
DTSTART;TZID=Atlantic/Bermuda:20281114T120000
DTEND;TZID=Atlantic/Bermuda:20281114T150000
DTSTAMP:20260425T112330
CREATED:20250618T164705Z
LAST-MODIFIED:20250618T164705Z
UID:10006073-1857816000-1857826800@iwcbda.com
SUMMARY:Mahjong
DESCRIPTION:
URL:https://iwcbda.com/event/mahjong/2028-11-14/
LOCATION:Dinghy Club\, 26 Pomander Rd\, Hamilton\, Bermuda
CATEGORIES:weekly
END:VEVENT
BEGIN:VEVENT
DTSTART;TZID=Atlantic/Bermuda:20281116T080000
DTEND;TZID=Atlantic/Bermuda:20281116T093000
DTSTAMP:20260425T112330
CREATED:20250618T170618Z
LAST-MODIFIED:20250618T170618Z
UID:10006527-1857974400-1857979800@iwcbda.com
SUMMARY:IWC Tennis
DESCRIPTION:
URL:https://iwcbda.com/event/iwc-tennis/2028-11-16/
LOCATION:W.E.R. Joell Tennis Stadium\, 2 Marsh Folly Rd\, Pembroke\, Bermuda
CATEGORIES:sports,weekly
END:VEVENT
BEGIN:VEVENT
DTSTART;TZID=Atlantic/Bermuda:20281116T160000
DTEND;TZID=Atlantic/Bermuda:20281116T180000
DTSTAMP:20260425T112330
CREATED:20250618T164459Z
LAST-MODIFIED:20250618T164459Z
UID:10005736-1858003200-1858010400@iwcbda.com
SUMMARY:IWC Happy Hour
DESCRIPTION:
URL:https://iwcbda.com/event/iwc-happy-hour/2028-11-16/
CATEGORIES:social,weekly
END:VEVENT
BEGIN:VEVENT
DTSTART;TZID=Atlantic/Bermuda:20281117T083000
DTEND;TZID=Atlantic/Bermuda:20281117T103000
DTSTAMP:20260425T112330
CREATED:20250618T163933Z
LAST-MODIFIED:20250618T164315Z
UID:10005062-1858062600-1858069800@iwcbda.com
SUMMARY:Art Group
DESCRIPTION:
URL:https://iwcbda.com/event/art-group/2028-11-17/
CATEGORIES:weekly
END:VEVENT
BEGIN:VEVENT
DTSTART;TZID=Atlantic/Bermuda:20281120T083000
DTEND;TZID=Atlantic/Bermuda:20281120T103000
DTSTAMP:20260425T112330
CREATED:20260206T160646Z
LAST-MODIFIED:20260206T160647Z
UID:10006865-1858321800-1858329000@iwcbda.com
SUMMARY:IWC Bermuda Trekkers
DESCRIPTION:
URL:https://iwcbda.com/event/iwc-bermuda-trekkers-2/2028-11-20/
CATEGORIES:weekly
END:VEVENT
BEGIN:VEVENT
DTSTART;TZID=Atlantic/Bermuda:20281120T090000
DTEND;TZID=Atlantic/Bermuda:20281120T130000
DTSTAMP:20260425T112330
CREATED:20260205T144340Z
LAST-MODIFIED:20260205T144340Z
UID:10007474-1858323600-1858338000@iwcbda.com
SUMMARY:Gotta Golf Monday
DESCRIPTION:Join Val and fellow IWC golfers for 18 holes every Monday!The cost is $50 (BHGC members pay the cart fee only) and includes either a shared cart or a push cart. Some of us walk the front nine and ride the back nine. The price is the same no matter how you get around the course. \nIt’s the best golf deal in Bermy — and it’s exclusively for IWC members!
URL:https://iwcbda.com/event/gotta-golf-monday/2028-11-20/
LOCATION:Belmont Hills Golf Course\, Warwick\, WK06\, Bermuda
CATEGORIES:golf,weekly
ORGANIZER;CN="Val Platt":MAILTO:val@transact.bm
END:VEVENT
BEGIN:VEVENT
DTSTART;TZID=Atlantic/Bermuda:20281121T120000
DTEND;TZID=Atlantic/Bermuda:20281121T150000
DTSTAMP:20260425T112330
CREATED:20250618T164705Z
LAST-MODIFIED:20250618T164705Z
UID:10006074-1858420800-1858431600@iwcbda.com
SUMMARY:Mahjong
DESCRIPTION:
URL:https://iwcbda.com/event/mahjong/2028-11-21/
LOCATION:Dinghy Club\, 26 Pomander Rd\, Hamilton\, Bermuda
CATEGORIES:weekly
END:VEVENT
BEGIN:VEVENT
DTSTART;TZID=Atlantic/Bermuda:20281123T080000
DTEND;TZID=Atlantic/Bermuda:20281123T093000
DTSTAMP:20260425T112330
CREATED:20250618T170618Z
LAST-MODIFIED:20250618T170618Z
UID:10006528-1858579200-1858584600@iwcbda.com
SUMMARY:IWC Tennis
DESCRIPTION:
URL:https://iwcbda.com/event/iwc-tennis/2028-11-23/
LOCATION:W.E.R. Joell Tennis Stadium\, 2 Marsh Folly Rd\, Pembroke\, Bermuda
CATEGORIES:sports,weekly
END:VEVENT
BEGIN:VEVENT
DTSTART;TZID=Atlantic/Bermuda:20281123T160000
DTEND;TZID=Atlantic/Bermuda:20281123T180000
DTSTAMP:20260425T112330
CREATED:20250618T164459Z
LAST-MODIFIED:20250618T164459Z
UID:10005737-1858608000-1858615200@iwcbda.com
SUMMARY:IWC Happy Hour
DESCRIPTION:
URL:https://iwcbda.com/event/iwc-happy-hour/2028-11-23/
CATEGORIES:social,weekly
END:VEVENT
BEGIN:VEVENT
DTSTART;TZID=Atlantic/Bermuda:20281124T083000
DTEND;TZID=Atlantic/Bermuda:20281124T103000
DTSTAMP:20260425T112330
CREATED:20250618T163933Z
LAST-MODIFIED:20250618T164315Z
UID:10005063-1858667400-1858674600@iwcbda.com
SUMMARY:Art Group
DESCRIPTION:
URL:https://iwcbda.com/event/art-group/2028-11-24/
CATEGORIES:weekly
END:VEVENT
BEGIN:VEVENT
DTSTART;TZID=Atlantic/Bermuda:20281127T083000
DTEND;TZID=Atlantic/Bermuda:20281127T103000
DTSTAMP:20260425T112330
CREATED:20260206T160646Z
LAST-MODIFIED:20260206T160647Z
UID:10006866-1858926600-1858933800@iwcbda.com
SUMMARY:IWC Bermuda Trekkers
DESCRIPTION:
URL:https://iwcbda.com/event/iwc-bermuda-trekkers-2/2028-11-27/
CATEGORIES:weekly
END:VEVENT
BEGIN:VEVENT
DTSTART;TZID=Atlantic/Bermuda:20281127T090000
DTEND;TZID=Atlantic/Bermuda:20281127T130000
DTSTAMP:20260425T112330
CREATED:20260205T144340Z
LAST-MODIFIED:20260205T144340Z
UID:10007475-1858928400-1858942800@iwcbda.com
SUMMARY:Gotta Golf Monday
DESCRIPTION:Join Val and fellow IWC golfers for 18 holes every Monday!The cost is $50 (BHGC members pay the cart fee only) and includes either a shared cart or a push cart. Some of us walk the front nine and ride the back nine. The price is the same no matter how you get around the course. \nIt’s the best golf deal in Bermy — and it’s exclusively for IWC members!
URL:https://iwcbda.com/event/gotta-golf-monday/2028-11-27/
LOCATION:Belmont Hills Golf Course\, Warwick\, WK06\, Bermuda
CATEGORIES:golf,weekly
ORGANIZER;CN="Val Platt":MAILTO:val@transact.bm
END:VEVENT
BEGIN:VEVENT
DTSTART;TZID=Atlantic/Bermuda:20281128T120000
DTEND;TZID=Atlantic/Bermuda:20281128T150000
DTSTAMP:20260425T112330
CREATED:20250618T164705Z
LAST-MODIFIED:20250618T164705Z
UID:10006075-1859025600-1859036400@iwcbda.com
SUMMARY:Mahjong
DESCRIPTION:
URL:https://iwcbda.com/event/mahjong/2028-11-28/
LOCATION:Dinghy Club\, 26 Pomander Rd\, Hamilton\, Bermuda
CATEGORIES:weekly
END:VEVENT
BEGIN:VEVENT
DTSTART;TZID=Atlantic/Bermuda:20281130T080000
DTEND;TZID=Atlantic/Bermuda:20281130T093000
DTSTAMP:20260425T112330
CREATED:20250618T170618Z
LAST-MODIFIED:20250618T170618Z
UID:10006529-1859184000-1859189400@iwcbda.com
SUMMARY:IWC Tennis
DESCRIPTION:
URL:https://iwcbda.com/event/iwc-tennis/2028-11-30/
LOCATION:W.E.R. Joell Tennis Stadium\, 2 Marsh Folly Rd\, Pembroke\, Bermuda
CATEGORIES:sports,weekly
END:VEVENT
BEGIN:VEVENT
DTSTART;TZID=Atlantic/Bermuda:20281130T160000
DTEND;TZID=Atlantic/Bermuda:20281130T180000
DTSTAMP:20260425T112330
CREATED:20250618T164459Z
LAST-MODIFIED:20250618T164459Z
UID:10005738-1859212800-1859220000@iwcbda.com
SUMMARY:IWC Happy Hour
DESCRIPTION:
URL:https://iwcbda.com/event/iwc-happy-hour/2028-11-30/
CATEGORIES:social,weekly
END:VEVENT
BEGIN:VEVENT
DTSTART;TZID=Atlantic/Bermuda:20281201T083000
DTEND;TZID=Atlantic/Bermuda:20281201T103000
DTSTAMP:20260425T112330
CREATED:20250618T163933Z
LAST-MODIFIED:20250618T164315Z
UID:10005064-1859272200-1859279400@iwcbda.com
SUMMARY:Art Group
DESCRIPTION:
URL:https://iwcbda.com/event/art-group/2028-12-01/
CATEGORIES:weekly
END:VEVENT
BEGIN:VEVENT
DTSTART;TZID=Atlantic/Bermuda:20281204T083000
DTEND;TZID=Atlantic/Bermuda:20281204T103000
DTSTAMP:20260425T112330
CREATED:20260206T160646Z
LAST-MODIFIED:20260206T160647Z
UID:10006867-1859531400-1859538600@iwcbda.com
SUMMARY:IWC Bermuda Trekkers
DESCRIPTION:
URL:https://iwcbda.com/event/iwc-bermuda-trekkers-2/2028-12-04/
CATEGORIES:weekly
END:VEVENT
BEGIN:VEVENT
DTSTART;TZID=Atlantic/Bermuda:20281204T090000
DTEND;TZID=Atlantic/Bermuda:20281204T130000
DTSTAMP:20260425T112330
CREATED:20260205T144340Z
LAST-MODIFIED:20260205T144340Z
UID:10007476-1859533200-1859547600@iwcbda.com
SUMMARY:Gotta Golf Monday
DESCRIPTION:Join Val and fellow IWC golfers for 18 holes every Monday!The cost is $50 (BHGC members pay the cart fee only) and includes either a shared cart or a push cart. Some of us walk the front nine and ride the back nine. The price is the same no matter how you get around the course. \nIt’s the best golf deal in Bermy — and it’s exclusively for IWC members!
URL:https://iwcbda.com/event/gotta-golf-monday/2028-12-04/
LOCATION:Belmont Hills Golf Course\, Warwick\, WK06\, Bermuda
CATEGORIES:golf,weekly
ORGANIZER;CN="Val Platt":MAILTO:val@transact.bm
END:VEVENT
BEGIN:VEVENT
DTSTART;TZID=Atlantic/Bermuda:20281205T120000
DTEND;TZID=Atlantic/Bermuda:20281205T150000
DTSTAMP:20260425T112330
CREATED:20250618T164705Z
LAST-MODIFIED:20250618T164705Z
UID:10006076-1859630400-1859641200@iwcbda.com
SUMMARY:Mahjong
DESCRIPTION:
URL:https://iwcbda.com/event/mahjong/2028-12-05/
LOCATION:Dinghy Club\, 26 Pomander Rd\, Hamilton\, Bermuda
CATEGORIES:weekly
END:VEVENT
BEGIN:VEVENT
DTSTART;TZID=Atlantic/Bermuda:20281207T080000
DTEND;TZID=Atlantic/Bermuda:20281207T093000
DTSTAMP:20260425T112330
CREATED:20250618T170618Z
LAST-MODIFIED:20250618T170618Z
UID:10006530-1859788800-1859794200@iwcbda.com
SUMMARY:IWC Tennis
DESCRIPTION:
URL:https://iwcbda.com/event/iwc-tennis/2028-12-07/
LOCATION:W.E.R. Joell Tennis Stadium\, 2 Marsh Folly Rd\, Pembroke\, Bermuda
CATEGORIES:sports,weekly
END:VEVENT
BEGIN:VEVENT
DTSTART;TZID=Atlantic/Bermuda:20281207T160000
DTEND;TZID=Atlantic/Bermuda:20281207T180000
DTSTAMP:20260425T112330
CREATED:20250618T164459Z
LAST-MODIFIED:20250618T164459Z
UID:10005739-1859817600-1859824800@iwcbda.com
SUMMARY:IWC Happy Hour
DESCRIPTION:
URL:https://iwcbda.com/event/iwc-happy-hour/2028-12-07/
CATEGORIES:social,weekly
END:VEVENT
BEGIN:VEVENT
DTSTART;TZID=Atlantic/Bermuda:20281208T083000
DTEND;TZID=Atlantic/Bermuda:20281208T103000
DTSTAMP:20260425T112330
CREATED:20250618T163933Z
LAST-MODIFIED:20250618T164315Z
UID:10005065-1859877000-1859884200@iwcbda.com
SUMMARY:Art Group
DESCRIPTION:
URL:https://iwcbda.com/event/art-group/2028-12-08/
CATEGORIES:weekly
END:VEVENT
BEGIN:VEVENT
DTSTART;TZID=Atlantic/Bermuda:20281211T083000
DTEND;TZID=Atlantic/Bermuda:20281211T103000
DTSTAMP:20260425T112330
CREATED:20260206T160646Z
LAST-MODIFIED:20260206T160647Z
UID:10006868-1860136200-1860143400@iwcbda.com
SUMMARY:IWC Bermuda Trekkers
DESCRIPTION:
URL:https://iwcbda.com/event/iwc-bermuda-trekkers-2/2028-12-11/
CATEGORIES:weekly
END:VEVENT
BEGIN:VEVENT
DTSTART;TZID=Atlantic/Bermuda:20281211T090000
DTEND;TZID=Atlantic/Bermuda:20281211T130000
DTSTAMP:20260425T112330
CREATED:20260205T144340Z
LAST-MODIFIED:20260205T144340Z
UID:10007477-1860138000-1860152400@iwcbda.com
SUMMARY:Gotta Golf Monday
DESCRIPTION:Join Val and fellow IWC golfers for 18 holes every Monday!The cost is $50 (BHGC members pay the cart fee only) and includes either a shared cart or a push cart. Some of us walk the front nine and ride the back nine. The price is the same no matter how you get around the course. \nIt’s the best golf deal in Bermy — and it’s exclusively for IWC members!
URL:https://iwcbda.com/event/gotta-golf-monday/2028-12-11/
LOCATION:Belmont Hills Golf Course\, Warwick\, WK06\, Bermuda
CATEGORIES:golf,weekly
ORGANIZER;CN="Val Platt":MAILTO:val@transact.bm
END:VEVENT
BEGIN:VEVENT
DTSTART;TZID=Atlantic/Bermuda:20281212T120000
DTEND;TZID=Atlantic/Bermuda:20281212T150000
DTSTAMP:20260425T112330
CREATED:20250618T164705Z
LAST-MODIFIED:20250618T164705Z
UID:10006077-1860235200-1860246000@iwcbda.com
SUMMARY:Mahjong
DESCRIPTION:
URL:https://iwcbda.com/event/mahjong/2028-12-12/
LOCATION:Dinghy Club\, 26 Pomander Rd\, Hamilton\, Bermuda
CATEGORIES:weekly
END:VEVENT
BEGIN:VEVENT
DTSTART;TZID=Atlantic/Bermuda:20281214T080000
DTEND;TZID=Atlantic/Bermuda:20281214T093000
DTSTAMP:20260425T112330
CREATED:20250618T170618Z
LAST-MODIFIED:20250618T170618Z
UID:10006531-1860393600-1860399000@iwcbda.com
SUMMARY:IWC Tennis
DESCRIPTION:
URL:https://iwcbda.com/event/iwc-tennis/2028-12-14/
LOCATION:W.E.R. Joell Tennis Stadium\, 2 Marsh Folly Rd\, Pembroke\, Bermuda
CATEGORIES:sports,weekly
END:VEVENT
BEGIN:VEVENT
DTSTART;TZID=Atlantic/Bermuda:20281214T160000
DTEND;TZID=Atlantic/Bermuda:20281214T180000
DTSTAMP:20260425T112330
CREATED:20250618T164459Z
LAST-MODIFIED:20250618T164459Z
UID:10005740-1860422400-1860429600@iwcbda.com
SUMMARY:IWC Happy Hour
DESCRIPTION:
URL:https://iwcbda.com/event/iwc-happy-hour/2028-12-14/
CATEGORIES:social,weekly
END:VEVENT
BEGIN:VEVENT
DTSTART;TZID=Atlantic/Bermuda:20281215T083000
DTEND;TZID=Atlantic/Bermuda:20281215T103000
DTSTAMP:20260425T112330
CREATED:20250618T163933Z
LAST-MODIFIED:20250618T164315Z
UID:10005066-1860481800-1860489000@iwcbda.com
SUMMARY:Art Group
DESCRIPTION:
URL:https://iwcbda.com/event/art-group/2028-12-15/
CATEGORIES:weekly
END:VEVENT
BEGIN:VEVENT
DTSTART;TZID=Atlantic/Bermuda:20281218T083000
DTEND;TZID=Atlantic/Bermuda:20281218T103000
DTSTAMP:20260425T112330
CREATED:20260206T160646Z
LAST-MODIFIED:20260206T160647Z
UID:10006869-1860741000-1860748200@iwcbda.com
SUMMARY:IWC Bermuda Trekkers
DESCRIPTION:
URL:https://iwcbda.com/event/iwc-bermuda-trekkers-2/2028-12-18/
CATEGORIES:weekly
END:VEVENT
END:VCALENDAR