BEGIN:VCALENDAR
VERSION:2.0
PRODID:-// - ECPv6.15.20//NONSGML v1.0//EN
CALSCALE:GREGORIAN
METHOD:PUBLISH
X-ORIGINAL-URL:https://iwcbda.com
X-WR-CALDESC:Events for 
REFRESH-INTERVAL;VALUE=DURATION:PT1H
X-Robots-Tag:noindex
X-PUBLISHED-TTL:PT1H
BEGIN:VTIMEZONE
TZID:Atlantic/Bermuda
BEGIN:DAYLIGHT
TZOFFSETFROM:-0400
TZOFFSETTO:-0300
TZNAME:ADT
DTSTART:20280312T060000
END:DAYLIGHT
BEGIN:STANDARD
TZOFFSETFROM:-0300
TZOFFSETTO:-0400
TZNAME:AST
DTSTART:20281105T050000
END:STANDARD
BEGIN:DAYLIGHT
TZOFFSETFROM:-0400
TZOFFSETTO:-0300
TZNAME:ADT
DTSTART:20290311T060000
END:DAYLIGHT
BEGIN:STANDARD
TZOFFSETFROM:-0300
TZOFFSETTO:-0400
TZNAME:AST
DTSTART:20291104T050000
END:STANDARD
BEGIN:DAYLIGHT
TZOFFSETFROM:-0400
TZOFFSETTO:-0300
TZNAME:ADT
DTSTART:20300310T060000
END:DAYLIGHT
BEGIN:STANDARD
TZOFFSETFROM:-0300
TZOFFSETTO:-0400
TZNAME:AST
DTSTART:20301103T050000
END:STANDARD
END:VTIMEZONE
BEGIN:VEVENT
DTSTART;TZID=Atlantic/Bermuda:20290122T090000
DTEND;TZID=Atlantic/Bermuda:20290122T130000
DTSTAMP:20260425T182433
CREATED:20260205T144340Z
LAST-MODIFIED:20260205T144340Z
UID:10007483-1863766800-1863781200@iwcbda.com
SUMMARY:Gotta Golf Monday
DESCRIPTION:Join Val and fellow IWC golfers for 18 holes every Monday!The cost is $50 (BHGC members pay the cart fee only) and includes either a shared cart or a push cart. Some of us walk the front nine and ride the back nine. The price is the same no matter how you get around the course. \nIt’s the best golf deal in Bermy — and it’s exclusively for IWC members!
URL:https://iwcbda.com/event/gotta-golf-monday/2029-01-22/
LOCATION:Belmont Hills Golf Course\, Warwick\, WK06\, Bermuda
CATEGORIES:golf,weekly
ORGANIZER;CN="Val Platt":MAILTO:val@transact.bm
END:VEVENT
BEGIN:VEVENT
DTSTART;TZID=Atlantic/Bermuda:20290123T120000
DTEND;TZID=Atlantic/Bermuda:20290123T150000
DTSTAMP:20260425T182433
CREATED:20250618T164705Z
LAST-MODIFIED:20250618T164705Z
UID:10006083-1863864000-1863874800@iwcbda.com
SUMMARY:Mahjong
DESCRIPTION:
URL:https://iwcbda.com/event/mahjong/2029-01-23/
LOCATION:Dinghy Club\, 26 Pomander Rd\, Hamilton\, Bermuda
CATEGORIES:weekly
END:VEVENT
BEGIN:VEVENT
DTSTART;TZID=Atlantic/Bermuda:20290125T080000
DTEND;TZID=Atlantic/Bermuda:20290125T093000
DTSTAMP:20260425T182433
CREATED:20250618T170618Z
LAST-MODIFIED:20250618T170618Z
UID:10006537-1864022400-1864027800@iwcbda.com
SUMMARY:IWC Tennis
DESCRIPTION:
URL:https://iwcbda.com/event/iwc-tennis/2029-01-25/
LOCATION:W.E.R. Joell Tennis Stadium\, 2 Marsh Folly Rd\, Pembroke\, Bermuda
CATEGORIES:sports,weekly
END:VEVENT
BEGIN:VEVENT
DTSTART;TZID=Atlantic/Bermuda:20290125T160000
DTEND;TZID=Atlantic/Bermuda:20290125T180000
DTSTAMP:20260425T182433
CREATED:20250618T164459Z
LAST-MODIFIED:20250618T164459Z
UID:10005746-1864051200-1864058400@iwcbda.com
SUMMARY:IWC Happy Hour
DESCRIPTION:
URL:https://iwcbda.com/event/iwc-happy-hour/2029-01-25/
CATEGORIES:social,weekly
END:VEVENT
BEGIN:VEVENT
DTSTART;TZID=Atlantic/Bermuda:20290126T083000
DTEND;TZID=Atlantic/Bermuda:20290126T103000
DTSTAMP:20260425T182433
CREATED:20250618T163933Z
LAST-MODIFIED:20250618T164315Z
UID:10005072-1864110600-1864117800@iwcbda.com
SUMMARY:Art Group
DESCRIPTION:
URL:https://iwcbda.com/event/art-group/2029-01-26/
CATEGORIES:weekly
END:VEVENT
BEGIN:VEVENT
DTSTART;TZID=Atlantic/Bermuda:20290129T083000
DTEND;TZID=Atlantic/Bermuda:20290129T103000
DTSTAMP:20260425T182433
CREATED:20260206T160646Z
LAST-MODIFIED:20260206T160647Z
UID:10006875-1864369800-1864377000@iwcbda.com
SUMMARY:IWC Bermuda Trekkers
DESCRIPTION:
URL:https://iwcbda.com/event/iwc-bermuda-trekkers-2/2029-01-29/
CATEGORIES:weekly
END:VEVENT
BEGIN:VEVENT
DTSTART;TZID=Atlantic/Bermuda:20290129T090000
DTEND;TZID=Atlantic/Bermuda:20290129T130000
DTSTAMP:20260425T182433
CREATED:20260205T144340Z
LAST-MODIFIED:20260205T144340Z
UID:10007484-1864371600-1864386000@iwcbda.com
SUMMARY:Gotta Golf Monday
DESCRIPTION:Join Val and fellow IWC golfers for 18 holes every Monday!The cost is $50 (BHGC members pay the cart fee only) and includes either a shared cart or a push cart. Some of us walk the front nine and ride the back nine. The price is the same no matter how you get around the course. \nIt’s the best golf deal in Bermy — and it’s exclusively for IWC members!
URL:https://iwcbda.com/event/gotta-golf-monday/2029-01-29/
LOCATION:Belmont Hills Golf Course\, Warwick\, WK06\, Bermuda
CATEGORIES:golf,weekly
ORGANIZER;CN="Val Platt":MAILTO:val@transact.bm
END:VEVENT
BEGIN:VEVENT
DTSTART;TZID=Atlantic/Bermuda:20290130T120000
DTEND;TZID=Atlantic/Bermuda:20290130T150000
DTSTAMP:20260425T182433
CREATED:20250618T164705Z
LAST-MODIFIED:20250618T164705Z
UID:10006084-1864468800-1864479600@iwcbda.com
SUMMARY:Mahjong
DESCRIPTION:
URL:https://iwcbda.com/event/mahjong/2029-01-30/
LOCATION:Dinghy Club\, 26 Pomander Rd\, Hamilton\, Bermuda
CATEGORIES:weekly
END:VEVENT
BEGIN:VEVENT
DTSTART;TZID=Atlantic/Bermuda:20290201T080000
DTEND;TZID=Atlantic/Bermuda:20290201T093000
DTSTAMP:20260425T182433
CREATED:20250618T170618Z
LAST-MODIFIED:20250618T170618Z
UID:10006538-1864627200-1864632600@iwcbda.com
SUMMARY:IWC Tennis
DESCRIPTION:
URL:https://iwcbda.com/event/iwc-tennis/2029-02-01/
LOCATION:W.E.R. Joell Tennis Stadium\, 2 Marsh Folly Rd\, Pembroke\, Bermuda
CATEGORIES:sports,weekly
END:VEVENT
BEGIN:VEVENT
DTSTART;TZID=Atlantic/Bermuda:20290201T160000
DTEND;TZID=Atlantic/Bermuda:20290201T180000
DTSTAMP:20260425T182433
CREATED:20250618T164459Z
LAST-MODIFIED:20250618T164459Z
UID:10005747-1864656000-1864663200@iwcbda.com
SUMMARY:IWC Happy Hour
DESCRIPTION:
URL:https://iwcbda.com/event/iwc-happy-hour/2029-02-01/
CATEGORIES:social,weekly
END:VEVENT
BEGIN:VEVENT
DTSTART;TZID=Atlantic/Bermuda:20290202T083000
DTEND;TZID=Atlantic/Bermuda:20290202T103000
DTSTAMP:20260425T182433
CREATED:20250618T163933Z
LAST-MODIFIED:20250618T164315Z
UID:10005073-1864715400-1864722600@iwcbda.com
SUMMARY:Art Group
DESCRIPTION:
URL:https://iwcbda.com/event/art-group/2029-02-02/
CATEGORIES:weekly
END:VEVENT
BEGIN:VEVENT
DTSTART;TZID=Atlantic/Bermuda:20290205T083000
DTEND;TZID=Atlantic/Bermuda:20290205T103000
DTSTAMP:20260425T182433
CREATED:20260206T160646Z
LAST-MODIFIED:20260206T160647Z
UID:10006876-1864974600-1864981800@iwcbda.com
SUMMARY:IWC Bermuda Trekkers
DESCRIPTION:
URL:https://iwcbda.com/event/iwc-bermuda-trekkers-2/2029-02-05/
CATEGORIES:weekly
END:VEVENT
BEGIN:VEVENT
DTSTART;TZID=Atlantic/Bermuda:20290205T090000
DTEND;TZID=Atlantic/Bermuda:20290205T130000
DTSTAMP:20260425T182433
CREATED:20260205T144340Z
LAST-MODIFIED:20260205T144340Z
UID:10007485-1864976400-1864990800@iwcbda.com
SUMMARY:Gotta Golf Monday
DESCRIPTION:Join Val and fellow IWC golfers for 18 holes every Monday!The cost is $50 (BHGC members pay the cart fee only) and includes either a shared cart or a push cart. Some of us walk the front nine and ride the back nine. The price is the same no matter how you get around the course. \nIt’s the best golf deal in Bermy — and it’s exclusively for IWC members!
URL:https://iwcbda.com/event/gotta-golf-monday/2029-02-05/
LOCATION:Belmont Hills Golf Course\, Warwick\, WK06\, Bermuda
CATEGORIES:golf,weekly
ORGANIZER;CN="Val Platt":MAILTO:val@transact.bm
END:VEVENT
BEGIN:VEVENT
DTSTART;TZID=Atlantic/Bermuda:20290206T120000
DTEND;TZID=Atlantic/Bermuda:20290206T150000
DTSTAMP:20260425T182433
CREATED:20250618T164705Z
LAST-MODIFIED:20250618T164705Z
UID:10006085-1865073600-1865084400@iwcbda.com
SUMMARY:Mahjong
DESCRIPTION:
URL:https://iwcbda.com/event/mahjong/2029-02-06/
LOCATION:Dinghy Club\, 26 Pomander Rd\, Hamilton\, Bermuda
CATEGORIES:weekly
END:VEVENT
BEGIN:VEVENT
DTSTART;TZID=Atlantic/Bermuda:20290208T080000
DTEND;TZID=Atlantic/Bermuda:20290208T093000
DTSTAMP:20260425T182433
CREATED:20250618T170618Z
LAST-MODIFIED:20250618T170618Z
UID:10006539-1865232000-1865237400@iwcbda.com
SUMMARY:IWC Tennis
DESCRIPTION:
URL:https://iwcbda.com/event/iwc-tennis/2029-02-08/
LOCATION:W.E.R. Joell Tennis Stadium\, 2 Marsh Folly Rd\, Pembroke\, Bermuda
CATEGORIES:sports,weekly
END:VEVENT
BEGIN:VEVENT
DTSTART;TZID=Atlantic/Bermuda:20290208T160000
DTEND;TZID=Atlantic/Bermuda:20290208T180000
DTSTAMP:20260425T182433
CREATED:20250618T164459Z
LAST-MODIFIED:20250618T164459Z
UID:10005748-1865260800-1865268000@iwcbda.com
SUMMARY:IWC Happy Hour
DESCRIPTION:
URL:https://iwcbda.com/event/iwc-happy-hour/2029-02-08/
CATEGORIES:social,weekly
END:VEVENT
BEGIN:VEVENT
DTSTART;TZID=Atlantic/Bermuda:20290209T083000
DTEND;TZID=Atlantic/Bermuda:20290209T103000
DTSTAMP:20260425T182433
CREATED:20250618T163933Z
LAST-MODIFIED:20250618T164315Z
UID:10005074-1865320200-1865327400@iwcbda.com
SUMMARY:Art Group
DESCRIPTION:
URL:https://iwcbda.com/event/art-group/2029-02-09/
CATEGORIES:weekly
END:VEVENT
BEGIN:VEVENT
DTSTART;TZID=Atlantic/Bermuda:20290212T083000
DTEND;TZID=Atlantic/Bermuda:20290212T103000
DTSTAMP:20260425T182433
CREATED:20260206T160646Z
LAST-MODIFIED:20260206T160647Z
UID:10006877-1865579400-1865586600@iwcbda.com
SUMMARY:IWC Bermuda Trekkers
DESCRIPTION:
URL:https://iwcbda.com/event/iwc-bermuda-trekkers-2/2029-02-12/
CATEGORIES:weekly
END:VEVENT
BEGIN:VEVENT
DTSTART;TZID=Atlantic/Bermuda:20290212T090000
DTEND;TZID=Atlantic/Bermuda:20290212T130000
DTSTAMP:20260425T182433
CREATED:20260205T144340Z
LAST-MODIFIED:20260205T144340Z
UID:10007486-1865581200-1865595600@iwcbda.com
SUMMARY:Gotta Golf Monday
DESCRIPTION:Join Val and fellow IWC golfers for 18 holes every Monday!The cost is $50 (BHGC members pay the cart fee only) and includes either a shared cart or a push cart. Some of us walk the front nine and ride the back nine. The price is the same no matter how you get around the course. \nIt’s the best golf deal in Bermy — and it’s exclusively for IWC members!
URL:https://iwcbda.com/event/gotta-golf-monday/2029-02-12/
LOCATION:Belmont Hills Golf Course\, Warwick\, WK06\, Bermuda
CATEGORIES:golf,weekly
ORGANIZER;CN="Val Platt":MAILTO:val@transact.bm
END:VEVENT
BEGIN:VEVENT
DTSTART;TZID=Atlantic/Bermuda:20290213T120000
DTEND;TZID=Atlantic/Bermuda:20290213T150000
DTSTAMP:20260425T182433
CREATED:20250618T164705Z
LAST-MODIFIED:20250618T164705Z
UID:10006086-1865678400-1865689200@iwcbda.com
SUMMARY:Mahjong
DESCRIPTION:
URL:https://iwcbda.com/event/mahjong/2029-02-13/
LOCATION:Dinghy Club\, 26 Pomander Rd\, Hamilton\, Bermuda
CATEGORIES:weekly
END:VEVENT
BEGIN:VEVENT
DTSTART;TZID=Atlantic/Bermuda:20290215T080000
DTEND;TZID=Atlantic/Bermuda:20290215T093000
DTSTAMP:20260425T182433
CREATED:20250618T170618Z
LAST-MODIFIED:20250618T170618Z
UID:10006540-1865836800-1865842200@iwcbda.com
SUMMARY:IWC Tennis
DESCRIPTION:
URL:https://iwcbda.com/event/iwc-tennis/2029-02-15/
LOCATION:W.E.R. Joell Tennis Stadium\, 2 Marsh Folly Rd\, Pembroke\, Bermuda
CATEGORIES:sports,weekly
END:VEVENT
BEGIN:VEVENT
DTSTART;TZID=Atlantic/Bermuda:20290215T160000
DTEND;TZID=Atlantic/Bermuda:20290215T180000
DTSTAMP:20260425T182433
CREATED:20250618T164459Z
LAST-MODIFIED:20250618T164459Z
UID:10005749-1865865600-1865872800@iwcbda.com
SUMMARY:IWC Happy Hour
DESCRIPTION:
URL:https://iwcbda.com/event/iwc-happy-hour/2029-02-15/
CATEGORIES:social,weekly
END:VEVENT
BEGIN:VEVENT
DTSTART;TZID=Atlantic/Bermuda:20290216T083000
DTEND;TZID=Atlantic/Bermuda:20290216T103000
DTSTAMP:20260425T182433
CREATED:20250618T163933Z
LAST-MODIFIED:20250618T164315Z
UID:10005075-1865925000-1865932200@iwcbda.com
SUMMARY:Art Group
DESCRIPTION:
URL:https://iwcbda.com/event/art-group/2029-02-16/
CATEGORIES:weekly
END:VEVENT
BEGIN:VEVENT
DTSTART;TZID=Atlantic/Bermuda:20290219T083000
DTEND;TZID=Atlantic/Bermuda:20290219T103000
DTSTAMP:20260425T182433
CREATED:20260206T160646Z
LAST-MODIFIED:20260206T160647Z
UID:10006878-1866184200-1866191400@iwcbda.com
SUMMARY:IWC Bermuda Trekkers
DESCRIPTION:
URL:https://iwcbda.com/event/iwc-bermuda-trekkers-2/2029-02-19/
CATEGORIES:weekly
END:VEVENT
BEGIN:VEVENT
DTSTART;TZID=Atlantic/Bermuda:20290219T090000
DTEND;TZID=Atlantic/Bermuda:20290219T130000
DTSTAMP:20260425T182433
CREATED:20260205T144340Z
LAST-MODIFIED:20260205T144340Z
UID:10007487-1866186000-1866200400@iwcbda.com
SUMMARY:Gotta Golf Monday
DESCRIPTION:Join Val and fellow IWC golfers for 18 holes every Monday!The cost is $50 (BHGC members pay the cart fee only) and includes either a shared cart or a push cart. Some of us walk the front nine and ride the back nine. The price is the same no matter how you get around the course. \nIt’s the best golf deal in Bermy — and it’s exclusively for IWC members!
URL:https://iwcbda.com/event/gotta-golf-monday/2029-02-19/
LOCATION:Belmont Hills Golf Course\, Warwick\, WK06\, Bermuda
CATEGORIES:golf,weekly
ORGANIZER;CN="Val Platt":MAILTO:val@transact.bm
END:VEVENT
BEGIN:VEVENT
DTSTART;TZID=Atlantic/Bermuda:20290220T120000
DTEND;TZID=Atlantic/Bermuda:20290220T150000
DTSTAMP:20260425T182433
CREATED:20250618T164705Z
LAST-MODIFIED:20250618T164705Z
UID:10006087-1866283200-1866294000@iwcbda.com
SUMMARY:Mahjong
DESCRIPTION:
URL:https://iwcbda.com/event/mahjong/2029-02-20/
LOCATION:Dinghy Club\, 26 Pomander Rd\, Hamilton\, Bermuda
CATEGORIES:weekly
END:VEVENT
BEGIN:VEVENT
DTSTART;TZID=Atlantic/Bermuda:20290222T080000
DTEND;TZID=Atlantic/Bermuda:20290222T093000
DTSTAMP:20260425T182433
CREATED:20250618T170618Z
LAST-MODIFIED:20250618T170618Z
UID:10006541-1866441600-1866447000@iwcbda.com
SUMMARY:IWC Tennis
DESCRIPTION:
URL:https://iwcbda.com/event/iwc-tennis/2029-02-22/
LOCATION:W.E.R. Joell Tennis Stadium\, 2 Marsh Folly Rd\, Pembroke\, Bermuda
CATEGORIES:sports,weekly
END:VEVENT
BEGIN:VEVENT
DTSTART;TZID=Atlantic/Bermuda:20290222T160000
DTEND;TZID=Atlantic/Bermuda:20290222T180000
DTSTAMP:20260425T182433
CREATED:20250618T164459Z
LAST-MODIFIED:20250618T164459Z
UID:10005750-1866470400-1866477600@iwcbda.com
SUMMARY:IWC Happy Hour
DESCRIPTION:
URL:https://iwcbda.com/event/iwc-happy-hour/2029-02-22/
CATEGORIES:social,weekly
END:VEVENT
BEGIN:VEVENT
DTSTART;TZID=Atlantic/Bermuda:20290223T083000
DTEND;TZID=Atlantic/Bermuda:20290223T103000
DTSTAMP:20260425T182433
CREATED:20250618T163933Z
LAST-MODIFIED:20250618T164315Z
UID:10005076-1866529800-1866537000@iwcbda.com
SUMMARY:Art Group
DESCRIPTION:
URL:https://iwcbda.com/event/art-group/2029-02-23/
CATEGORIES:weekly
END:VEVENT
BEGIN:VEVENT
DTSTART;TZID=Atlantic/Bermuda:20290226T083000
DTEND;TZID=Atlantic/Bermuda:20290226T103000
DTSTAMP:20260425T182433
CREATED:20260206T160646Z
LAST-MODIFIED:20260206T160647Z
UID:10006879-1866789000-1866796200@iwcbda.com
SUMMARY:IWC Bermuda Trekkers
DESCRIPTION:
URL:https://iwcbda.com/event/iwc-bermuda-trekkers-2/2029-02-26/
CATEGORIES:weekly
END:VEVENT
END:VCALENDAR