BEGIN:VCALENDAR
VERSION:2.0
PRODID:-// - ECPv6.15.20//NONSGML v1.0//EN
CALSCALE:GREGORIAN
METHOD:PUBLISH
X-ORIGINAL-URL:https://iwcbda.com
X-WR-CALDESC:Events for 
REFRESH-INTERVAL;VALUE=DURATION:PT1H
X-Robots-Tag:noindex
X-PUBLISHED-TTL:PT1H
BEGIN:VTIMEZONE
TZID:Atlantic/Bermuda
BEGIN:DAYLIGHT
TZOFFSETFROM:-0400
TZOFFSETTO:-0300
TZNAME:ADT
DTSTART:20280312T060000
END:DAYLIGHT
BEGIN:STANDARD
TZOFFSETFROM:-0300
TZOFFSETTO:-0400
TZNAME:AST
DTSTART:20281105T050000
END:STANDARD
BEGIN:DAYLIGHT
TZOFFSETFROM:-0400
TZOFFSETTO:-0300
TZNAME:ADT
DTSTART:20290311T060000
END:DAYLIGHT
BEGIN:STANDARD
TZOFFSETFROM:-0300
TZOFFSETTO:-0400
TZNAME:AST
DTSTART:20291104T050000
END:STANDARD
BEGIN:DAYLIGHT
TZOFFSETFROM:-0400
TZOFFSETTO:-0300
TZNAME:ADT
DTSTART:20300310T060000
END:DAYLIGHT
BEGIN:STANDARD
TZOFFSETFROM:-0300
TZOFFSETTO:-0400
TZNAME:AST
DTSTART:20301103T050000
END:STANDARD
END:VTIMEZONE
BEGIN:VEVENT
DTSTART;TZID=Atlantic/Bermuda:20290219T090000
DTEND;TZID=Atlantic/Bermuda:20290219T130000
DTSTAMP:20260425T212901
CREATED:20260205T144340Z
LAST-MODIFIED:20260205T144340Z
UID:10007487-1866186000-1866200400@iwcbda.com
SUMMARY:Gotta Golf Monday
DESCRIPTION:Join Val and fellow IWC golfers for 18 holes every Monday!The cost is $50 (BHGC members pay the cart fee only) and includes either a shared cart or a push cart. Some of us walk the front nine and ride the back nine. The price is the same no matter how you get around the course. \nIt’s the best golf deal in Bermy — and it’s exclusively for IWC members!
URL:https://iwcbda.com/event/gotta-golf-monday/2029-02-19/
LOCATION:Belmont Hills Golf Course\, Warwick\, WK06\, Bermuda
CATEGORIES:golf,weekly
ORGANIZER;CN="Val Platt":MAILTO:val@transact.bm
END:VEVENT
BEGIN:VEVENT
DTSTART;TZID=Atlantic/Bermuda:20290220T120000
DTEND;TZID=Atlantic/Bermuda:20290220T150000
DTSTAMP:20260425T212901
CREATED:20250618T164705Z
LAST-MODIFIED:20250618T164705Z
UID:10006087-1866283200-1866294000@iwcbda.com
SUMMARY:Mahjong
DESCRIPTION:
URL:https://iwcbda.com/event/mahjong/2029-02-20/
LOCATION:Dinghy Club\, 26 Pomander Rd\, Hamilton\, Bermuda
CATEGORIES:weekly
END:VEVENT
BEGIN:VEVENT
DTSTART;TZID=Atlantic/Bermuda:20290222T080000
DTEND;TZID=Atlantic/Bermuda:20290222T093000
DTSTAMP:20260425T212901
CREATED:20250618T170618Z
LAST-MODIFIED:20250618T170618Z
UID:10006541-1866441600-1866447000@iwcbda.com
SUMMARY:IWC Tennis
DESCRIPTION:
URL:https://iwcbda.com/event/iwc-tennis/2029-02-22/
LOCATION:W.E.R. Joell Tennis Stadium\, 2 Marsh Folly Rd\, Pembroke\, Bermuda
CATEGORIES:sports,weekly
END:VEVENT
BEGIN:VEVENT
DTSTART;TZID=Atlantic/Bermuda:20290222T160000
DTEND;TZID=Atlantic/Bermuda:20290222T180000
DTSTAMP:20260425T212901
CREATED:20250618T164459Z
LAST-MODIFIED:20250618T164459Z
UID:10005750-1866470400-1866477600@iwcbda.com
SUMMARY:IWC Happy Hour
DESCRIPTION:
URL:https://iwcbda.com/event/iwc-happy-hour/2029-02-22/
CATEGORIES:social,weekly
END:VEVENT
BEGIN:VEVENT
DTSTART;TZID=Atlantic/Bermuda:20290223T083000
DTEND;TZID=Atlantic/Bermuda:20290223T103000
DTSTAMP:20260425T212901
CREATED:20250618T163933Z
LAST-MODIFIED:20250618T164315Z
UID:10005076-1866529800-1866537000@iwcbda.com
SUMMARY:Art Group
DESCRIPTION:
URL:https://iwcbda.com/event/art-group/2029-02-23/
CATEGORIES:weekly
END:VEVENT
BEGIN:VEVENT
DTSTART;TZID=Atlantic/Bermuda:20290226T083000
DTEND;TZID=Atlantic/Bermuda:20290226T103000
DTSTAMP:20260425T212901
CREATED:20260206T160646Z
LAST-MODIFIED:20260206T160647Z
UID:10006879-1866789000-1866796200@iwcbda.com
SUMMARY:IWC Bermuda Trekkers
DESCRIPTION:
URL:https://iwcbda.com/event/iwc-bermuda-trekkers-2/2029-02-26/
CATEGORIES:weekly
END:VEVENT
BEGIN:VEVENT
DTSTART;TZID=Atlantic/Bermuda:20290226T090000
DTEND;TZID=Atlantic/Bermuda:20290226T130000
DTSTAMP:20260425T212901
CREATED:20260205T144340Z
LAST-MODIFIED:20260205T144340Z
UID:10007488-1866790800-1866805200@iwcbda.com
SUMMARY:Gotta Golf Monday
DESCRIPTION:Join Val and fellow IWC golfers for 18 holes every Monday!The cost is $50 (BHGC members pay the cart fee only) and includes either a shared cart or a push cart. Some of us walk the front nine and ride the back nine. The price is the same no matter how you get around the course. \nIt’s the best golf deal in Bermy — and it’s exclusively for IWC members!
URL:https://iwcbda.com/event/gotta-golf-monday/2029-02-26/
LOCATION:Belmont Hills Golf Course\, Warwick\, WK06\, Bermuda
CATEGORIES:golf,weekly
ORGANIZER;CN="Val Platt":MAILTO:val@transact.bm
END:VEVENT
BEGIN:VEVENT
DTSTART;TZID=Atlantic/Bermuda:20290227T120000
DTEND;TZID=Atlantic/Bermuda:20290227T150000
DTSTAMP:20260425T212901
CREATED:20250618T164705Z
LAST-MODIFIED:20250618T164705Z
UID:10006088-1866888000-1866898800@iwcbda.com
SUMMARY:Mahjong
DESCRIPTION:
URL:https://iwcbda.com/event/mahjong/2029-02-27/
LOCATION:Dinghy Club\, 26 Pomander Rd\, Hamilton\, Bermuda
CATEGORIES:weekly
END:VEVENT
BEGIN:VEVENT
DTSTART;TZID=Atlantic/Bermuda:20290301T080000
DTEND;TZID=Atlantic/Bermuda:20290301T093000
DTSTAMP:20260425T212901
CREATED:20250618T170618Z
LAST-MODIFIED:20250618T170618Z
UID:10006542-1867046400-1867051800@iwcbda.com
SUMMARY:IWC Tennis
DESCRIPTION:
URL:https://iwcbda.com/event/iwc-tennis/2029-03-01/
LOCATION:W.E.R. Joell Tennis Stadium\, 2 Marsh Folly Rd\, Pembroke\, Bermuda
CATEGORIES:sports,weekly
END:VEVENT
BEGIN:VEVENT
DTSTART;TZID=Atlantic/Bermuda:20290301T160000
DTEND;TZID=Atlantic/Bermuda:20290301T180000
DTSTAMP:20260425T212901
CREATED:20250618T164459Z
LAST-MODIFIED:20250618T164459Z
UID:10005751-1867075200-1867082400@iwcbda.com
SUMMARY:IWC Happy Hour
DESCRIPTION:
URL:https://iwcbda.com/event/iwc-happy-hour/2029-03-01/
CATEGORIES:social,weekly
END:VEVENT
BEGIN:VEVENT
DTSTART;TZID=Atlantic/Bermuda:20290302T083000
DTEND;TZID=Atlantic/Bermuda:20290302T103000
DTSTAMP:20260425T212901
CREATED:20250618T163933Z
LAST-MODIFIED:20250618T164315Z
UID:10005077-1867134600-1867141800@iwcbda.com
SUMMARY:Art Group
DESCRIPTION:
URL:https://iwcbda.com/event/art-group/2029-03-02/
CATEGORIES:weekly
END:VEVENT
BEGIN:VEVENT
DTSTART;TZID=Atlantic/Bermuda:20290305T083000
DTEND;TZID=Atlantic/Bermuda:20290305T103000
DTSTAMP:20260425T212901
CREATED:20260206T160646Z
LAST-MODIFIED:20260206T160647Z
UID:10006880-1867393800-1867401000@iwcbda.com
SUMMARY:IWC Bermuda Trekkers
DESCRIPTION:
URL:https://iwcbda.com/event/iwc-bermuda-trekkers-2/2029-03-05/
CATEGORIES:weekly
END:VEVENT
BEGIN:VEVENT
DTSTART;TZID=Atlantic/Bermuda:20290305T090000
DTEND;TZID=Atlantic/Bermuda:20290305T130000
DTSTAMP:20260425T212901
CREATED:20260205T144340Z
LAST-MODIFIED:20260205T144340Z
UID:10007489-1867395600-1867410000@iwcbda.com
SUMMARY:Gotta Golf Monday
DESCRIPTION:Join Val and fellow IWC golfers for 18 holes every Monday!The cost is $50 (BHGC members pay the cart fee only) and includes either a shared cart or a push cart. Some of us walk the front nine and ride the back nine. The price is the same no matter how you get around the course. \nIt’s the best golf deal in Bermy — and it’s exclusively for IWC members!
URL:https://iwcbda.com/event/gotta-golf-monday/2029-03-05/
LOCATION:Belmont Hills Golf Course\, Warwick\, WK06\, Bermuda
CATEGORIES:golf,weekly
ORGANIZER;CN="Val Platt":MAILTO:val@transact.bm
END:VEVENT
BEGIN:VEVENT
DTSTART;TZID=Atlantic/Bermuda:20290306T120000
DTEND;TZID=Atlantic/Bermuda:20290306T150000
DTSTAMP:20260425T212901
CREATED:20250618T164705Z
LAST-MODIFIED:20250618T164705Z
UID:10006089-1867492800-1867503600@iwcbda.com
SUMMARY:Mahjong
DESCRIPTION:
URL:https://iwcbda.com/event/mahjong/2029-03-06/
LOCATION:Dinghy Club\, 26 Pomander Rd\, Hamilton\, Bermuda
CATEGORIES:weekly
END:VEVENT
BEGIN:VEVENT
DTSTART;TZID=Atlantic/Bermuda:20290308T080000
DTEND;TZID=Atlantic/Bermuda:20290308T093000
DTSTAMP:20260425T212901
CREATED:20250618T170618Z
LAST-MODIFIED:20250618T170618Z
UID:10006543-1867651200-1867656600@iwcbda.com
SUMMARY:IWC Tennis
DESCRIPTION:
URL:https://iwcbda.com/event/iwc-tennis/2029-03-08/
LOCATION:W.E.R. Joell Tennis Stadium\, 2 Marsh Folly Rd\, Pembroke\, Bermuda
CATEGORIES:sports,weekly
END:VEVENT
BEGIN:VEVENT
DTSTART;TZID=Atlantic/Bermuda:20290308T160000
DTEND;TZID=Atlantic/Bermuda:20290308T180000
DTSTAMP:20260425T212901
CREATED:20250618T164459Z
LAST-MODIFIED:20250618T164459Z
UID:10005752-1867680000-1867687200@iwcbda.com
SUMMARY:IWC Happy Hour
DESCRIPTION:
URL:https://iwcbda.com/event/iwc-happy-hour/2029-03-08/
CATEGORIES:social,weekly
END:VEVENT
BEGIN:VEVENT
DTSTART;TZID=Atlantic/Bermuda:20290309T083000
DTEND;TZID=Atlantic/Bermuda:20290309T103000
DTSTAMP:20260425T212901
CREATED:20250618T163933Z
LAST-MODIFIED:20250618T164315Z
UID:10005078-1867739400-1867746600@iwcbda.com
SUMMARY:Art Group
DESCRIPTION:
URL:https://iwcbda.com/event/art-group/2029-03-09/
CATEGORIES:weekly
END:VEVENT
BEGIN:VEVENT
DTSTART;TZID=Atlantic/Bermuda:20290312T090000
DTEND;TZID=Atlantic/Bermuda:20290312T130000
DTSTAMP:20260425T212901
CREATED:20260205T144340Z
LAST-MODIFIED:20260205T144340Z
UID:10007490-1868000400-1868014800@iwcbda.com
SUMMARY:Gotta Golf Monday
DESCRIPTION:Join Val and fellow IWC golfers for 18 holes every Monday!The cost is $50 (BHGC members pay the cart fee only) and includes either a shared cart or a push cart. Some of us walk the front nine and ride the back nine. The price is the same no matter how you get around the course. \nIt’s the best golf deal in Bermy — and it’s exclusively for IWC members!
URL:https://iwcbda.com/event/gotta-golf-monday/2029-03-12/
LOCATION:Belmont Hills Golf Course\, Warwick\, WK06\, Bermuda
CATEGORIES:golf,weekly
ORGANIZER;CN="Val Platt":MAILTO:val@transact.bm
END:VEVENT
BEGIN:VEVENT
DTSTART;TZID=Atlantic/Bermuda:20290312T093000
DTEND;TZID=Atlantic/Bermuda:20290312T113000
DTSTAMP:20260425T212901
CREATED:20260206T160646Z
LAST-MODIFIED:20260206T160647Z
UID:10006881-1868002200-1868009400@iwcbda.com
SUMMARY:IWC Bermuda Trekkers
DESCRIPTION:
URL:https://iwcbda.com/event/iwc-bermuda-trekkers-2/2029-03-12/
CATEGORIES:weekly
END:VEVENT
BEGIN:VEVENT
DTSTART;TZID=Atlantic/Bermuda:20290313T130000
DTEND;TZID=Atlantic/Bermuda:20290313T160000
DTSTAMP:20260425T212901
CREATED:20250618T164705Z
LAST-MODIFIED:20250618T164705Z
UID:10006090-1868101200-1868112000@iwcbda.com
SUMMARY:Mahjong
DESCRIPTION:
URL:https://iwcbda.com/event/mahjong/2029-03-13/
LOCATION:Dinghy Club\, 26 Pomander Rd\, Hamilton\, Bermuda
CATEGORIES:weekly
END:VEVENT
BEGIN:VEVENT
DTSTART;TZID=Atlantic/Bermuda:20290315T090000
DTEND;TZID=Atlantic/Bermuda:20290315T103000
DTSTAMP:20260425T212901
CREATED:20250618T170618Z
LAST-MODIFIED:20250618T170618Z
UID:10006544-1868259600-1868265000@iwcbda.com
SUMMARY:IWC Tennis
DESCRIPTION:
URL:https://iwcbda.com/event/iwc-tennis/2029-03-15/
LOCATION:W.E.R. Joell Tennis Stadium\, 2 Marsh Folly Rd\, Pembroke\, Bermuda
CATEGORIES:sports,weekly
END:VEVENT
BEGIN:VEVENT
DTSTART;TZID=Atlantic/Bermuda:20290315T170000
DTEND;TZID=Atlantic/Bermuda:20290315T190000
DTSTAMP:20260425T212901
CREATED:20250618T164459Z
LAST-MODIFIED:20250618T164459Z
UID:10005753-1868288400-1868295600@iwcbda.com
SUMMARY:IWC Happy Hour
DESCRIPTION:
URL:https://iwcbda.com/event/iwc-happy-hour/2029-03-15/
CATEGORIES:social,weekly
END:VEVENT
BEGIN:VEVENT
DTSTART;TZID=Atlantic/Bermuda:20290316T093000
DTEND;TZID=Atlantic/Bermuda:20290316T113000
DTSTAMP:20260425T212901
CREATED:20250618T163933Z
LAST-MODIFIED:20250618T164315Z
UID:10005079-1868347800-1868355000@iwcbda.com
SUMMARY:Art Group
DESCRIPTION:
URL:https://iwcbda.com/event/art-group/2029-03-16/
CATEGORIES:weekly
END:VEVENT
BEGIN:VEVENT
DTSTART;TZID=Atlantic/Bermuda:20290319T090000
DTEND;TZID=Atlantic/Bermuda:20290319T130000
DTSTAMP:20260425T212901
CREATED:20260205T144340Z
LAST-MODIFIED:20260205T144340Z
UID:10007491-1868605200-1868619600@iwcbda.com
SUMMARY:Gotta Golf Monday
DESCRIPTION:Join Val and fellow IWC golfers for 18 holes every Monday!The cost is $50 (BHGC members pay the cart fee only) and includes either a shared cart or a push cart. Some of us walk the front nine and ride the back nine. The price is the same no matter how you get around the course. \nIt’s the best golf deal in Bermy — and it’s exclusively for IWC members!
URL:https://iwcbda.com/event/gotta-golf-monday/2029-03-19/
LOCATION:Belmont Hills Golf Course\, Warwick\, WK06\, Bermuda
CATEGORIES:golf,weekly
ORGANIZER;CN="Val Platt":MAILTO:val@transact.bm
END:VEVENT
BEGIN:VEVENT
DTSTART;TZID=Atlantic/Bermuda:20290319T093000
DTEND;TZID=Atlantic/Bermuda:20290319T113000
DTSTAMP:20260425T212901
CREATED:20260206T160646Z
LAST-MODIFIED:20260206T160647Z
UID:10006882-1868607000-1868614200@iwcbda.com
SUMMARY:IWC Bermuda Trekkers
DESCRIPTION:
URL:https://iwcbda.com/event/iwc-bermuda-trekkers-2/2029-03-19/
CATEGORIES:weekly
END:VEVENT
BEGIN:VEVENT
DTSTART;TZID=Atlantic/Bermuda:20290320T130000
DTEND;TZID=Atlantic/Bermuda:20290320T160000
DTSTAMP:20260425T212901
CREATED:20250618T164705Z
LAST-MODIFIED:20250618T164705Z
UID:10006091-1868706000-1868716800@iwcbda.com
SUMMARY:Mahjong
DESCRIPTION:
URL:https://iwcbda.com/event/mahjong/2029-03-20/
LOCATION:Dinghy Club\, 26 Pomander Rd\, Hamilton\, Bermuda
CATEGORIES:weekly
END:VEVENT
BEGIN:VEVENT
DTSTART;TZID=Atlantic/Bermuda:20290322T090000
DTEND;TZID=Atlantic/Bermuda:20290322T103000
DTSTAMP:20260425T212901
CREATED:20250618T170618Z
LAST-MODIFIED:20250618T170618Z
UID:10006545-1868864400-1868869800@iwcbda.com
SUMMARY:IWC Tennis
DESCRIPTION:
URL:https://iwcbda.com/event/iwc-tennis/2029-03-22/
LOCATION:W.E.R. Joell Tennis Stadium\, 2 Marsh Folly Rd\, Pembroke\, Bermuda
CATEGORIES:sports,weekly
END:VEVENT
BEGIN:VEVENT
DTSTART;TZID=Atlantic/Bermuda:20290322T170000
DTEND;TZID=Atlantic/Bermuda:20290322T190000
DTSTAMP:20260425T212901
CREATED:20250618T164459Z
LAST-MODIFIED:20250618T164459Z
UID:10005754-1868893200-1868900400@iwcbda.com
SUMMARY:IWC Happy Hour
DESCRIPTION:
URL:https://iwcbda.com/event/iwc-happy-hour/2029-03-22/
CATEGORIES:social,weekly
END:VEVENT
BEGIN:VEVENT
DTSTART;TZID=Atlantic/Bermuda:20290323T093000
DTEND;TZID=Atlantic/Bermuda:20290323T113000
DTSTAMP:20260425T212901
CREATED:20250618T163933Z
LAST-MODIFIED:20250618T164315Z
UID:10005080-1868952600-1868959800@iwcbda.com
SUMMARY:Art Group
DESCRIPTION:
URL:https://iwcbda.com/event/art-group/2029-03-23/
CATEGORIES:weekly
END:VEVENT
BEGIN:VEVENT
DTSTART;TZID=Atlantic/Bermuda:20290326T090000
DTEND;TZID=Atlantic/Bermuda:20290326T130000
DTSTAMP:20260425T212901
CREATED:20260205T144340Z
LAST-MODIFIED:20260205T144340Z
UID:10007492-1869210000-1869224400@iwcbda.com
SUMMARY:Gotta Golf Monday
DESCRIPTION:Join Val and fellow IWC golfers for 18 holes every Monday!The cost is $50 (BHGC members pay the cart fee only) and includes either a shared cart or a push cart. Some of us walk the front nine and ride the back nine. The price is the same no matter how you get around the course. \nIt’s the best golf deal in Bermy — and it’s exclusively for IWC members!
URL:https://iwcbda.com/event/gotta-golf-monday/2029-03-26/
LOCATION:Belmont Hills Golf Course\, Warwick\, WK06\, Bermuda
CATEGORIES:golf,weekly
ORGANIZER;CN="Val Platt":MAILTO:val@transact.bm
END:VEVENT
END:VCALENDAR