BEGIN:VCALENDAR
VERSION:2.0
PRODID:-// - ECPv6.15.20//NONSGML v1.0//EN
CALSCALE:GREGORIAN
METHOD:PUBLISH
X-ORIGINAL-URL:https://iwcbda.com
X-WR-CALDESC:Events for 
REFRESH-INTERVAL;VALUE=DURATION:PT1H
X-Robots-Tag:noindex
X-PUBLISHED-TTL:PT1H
BEGIN:VTIMEZONE
TZID:Atlantic/Bermuda
BEGIN:DAYLIGHT
TZOFFSETFROM:-0400
TZOFFSETTO:-0300
TZNAME:ADT
DTSTART:20260308T060000
END:DAYLIGHT
BEGIN:STANDARD
TZOFFSETFROM:-0300
TZOFFSETTO:-0400
TZNAME:AST
DTSTART:20261101T050000
END:STANDARD
BEGIN:DAYLIGHT
TZOFFSETFROM:-0400
TZOFFSETTO:-0300
TZNAME:ADT
DTSTART:20270314T060000
END:DAYLIGHT
BEGIN:STANDARD
TZOFFSETFROM:-0300
TZOFFSETTO:-0400
TZNAME:AST
DTSTART:20271107T050000
END:STANDARD
BEGIN:DAYLIGHT
TZOFFSETFROM:-0400
TZOFFSETTO:-0300
TZNAME:ADT
DTSTART:20280312T060000
END:DAYLIGHT
BEGIN:STANDARD
TZOFFSETFROM:-0300
TZOFFSETTO:-0400
TZNAME:AST
DTSTART:20281105T050000
END:STANDARD
END:VTIMEZONE
BEGIN:VEVENT
DTSTART;TZID=Atlantic/Bermuda:20270114T080000
DTEND;TZID=Atlantic/Bermuda:20270114T093000
DTSTAMP:20260422T152750
CREATED:20250618T170618Z
LAST-MODIFIED:20250618T170618Z
UID:10006431-1799913600-1799919000@iwcbda.com
SUMMARY:IWC Tennis
DESCRIPTION:
URL:https://iwcbda.com/event/iwc-tennis/2027-01-14/
LOCATION:W.E.R. Joell Tennis Stadium\, 2 Marsh Folly Rd\, Pembroke\, Bermuda
CATEGORIES:sports,weekly
END:VEVENT
BEGIN:VEVENT
DTSTART;TZID=Atlantic/Bermuda:20270114T160000
DTEND;TZID=Atlantic/Bermuda:20270114T180000
DTSTAMP:20260422T152750
CREATED:20250618T164459Z
LAST-MODIFIED:20250618T164459Z
UID:10005640-1799942400-1799949600@iwcbda.com
SUMMARY:IWC Happy Hour
DESCRIPTION:
URL:https://iwcbda.com/event/iwc-happy-hour/2027-01-14/
CATEGORIES:social,weekly
END:VEVENT
BEGIN:VEVENT
DTSTART;TZID=Atlantic/Bermuda:20270115T083000
DTEND;TZID=Atlantic/Bermuda:20270115T103000
DTSTAMP:20260422T152750
CREATED:20250618T163933Z
LAST-MODIFIED:20250618T164315Z
UID:10004966-1800001800-1800009000@iwcbda.com
SUMMARY:Art Group
DESCRIPTION:
URL:https://iwcbda.com/event/art-group/2027-01-15/
CATEGORIES:weekly
END:VEVENT
BEGIN:VEVENT
DTSTART;TZID=Atlantic/Bermuda:20270118T083000
DTEND;TZID=Atlantic/Bermuda:20270118T103000
DTSTAMP:20260422T152750
CREATED:20260206T160646Z
LAST-MODIFIED:20260206T160647Z
UID:10006769-1800261000-1800268200@iwcbda.com
SUMMARY:IWC Bermuda Trekkers
DESCRIPTION:
URL:https://iwcbda.com/event/iwc-bermuda-trekkers-2/2027-01-18/
CATEGORIES:weekly
END:VEVENT
BEGIN:VEVENT
DTSTART;TZID=Atlantic/Bermuda:20270118T090000
DTEND;TZID=Atlantic/Bermuda:20270118T130000
DTSTAMP:20260422T152750
CREATED:20260205T144340Z
LAST-MODIFIED:20260205T144340Z
UID:10007378-1800262800-1800277200@iwcbda.com
SUMMARY:Gotta Golf Monday
DESCRIPTION:Join Val and fellow IWC golfers for 18 holes every Monday!The cost is $50 (BHGC members pay the cart fee only) and includes either a shared cart or a push cart. Some of us walk the front nine and ride the back nine. The price is the same no matter how you get around the course. \nIt’s the best golf deal in Bermy — and it’s exclusively for IWC members!
URL:https://iwcbda.com/event/gotta-golf-monday/2027-01-18/
LOCATION:Belmont Hills Golf Course\, Warwick\, WK06\, Bermuda
CATEGORIES:golf,weekly
ORGANIZER;CN="Val Platt":MAILTO:val@transact.bm
END:VEVENT
BEGIN:VEVENT
DTSTART;TZID=Atlantic/Bermuda:20270119T120000
DTEND;TZID=Atlantic/Bermuda:20270119T150000
DTSTAMP:20260422T152750
CREATED:20250618T164705Z
LAST-MODIFIED:20250618T164705Z
UID:10005978-1800360000-1800370800@iwcbda.com
SUMMARY:Mahjong
DESCRIPTION:
URL:https://iwcbda.com/event/mahjong/2027-01-19/
LOCATION:Dinghy Club\, 26 Pomander Rd\, Hamilton\, Bermuda
CATEGORIES:weekly
END:VEVENT
BEGIN:VEVENT
DTSTART;TZID=Atlantic/Bermuda:20270119T180000
DTEND;TZID=Atlantic/Bermuda:20270119T200000
DTSTAMP:20260422T152750
CREATED:20250618T162907Z
LAST-MODIFIED:20260402T174227Z
UID:10004291-1800381600-1800388800@iwcbda.com
SUMMARY:IWC BDA Cook Club Challenge
DESCRIPTION:
URL:https://iwcbda.com/event/iwc-bda-cook-club-challenge/2027-01-19/
CATEGORIES:monthly
END:VEVENT
BEGIN:VEVENT
DTSTART;TZID=Atlantic/Bermuda:20270121T080000
DTEND;TZID=Atlantic/Bermuda:20270121T093000
DTSTAMP:20260422T152750
CREATED:20250618T170618Z
LAST-MODIFIED:20250618T170618Z
UID:10006432-1800518400-1800523800@iwcbda.com
SUMMARY:IWC Tennis
DESCRIPTION:
URL:https://iwcbda.com/event/iwc-tennis/2027-01-21/
LOCATION:W.E.R. Joell Tennis Stadium\, 2 Marsh Folly Rd\, Pembroke\, Bermuda
CATEGORIES:sports,weekly
END:VEVENT
BEGIN:VEVENT
DTSTART;TZID=Atlantic/Bermuda:20270121T160000
DTEND;TZID=Atlantic/Bermuda:20270121T180000
DTSTAMP:20260422T152750
CREATED:20250618T164459Z
LAST-MODIFIED:20250618T164459Z
UID:10005641-1800547200-1800554400@iwcbda.com
SUMMARY:IWC Happy Hour
DESCRIPTION:
URL:https://iwcbda.com/event/iwc-happy-hour/2027-01-21/
CATEGORIES:social,weekly
END:VEVENT
BEGIN:VEVENT
DTSTART;TZID=Atlantic/Bermuda:20270122T083000
DTEND;TZID=Atlantic/Bermuda:20270122T103000
DTSTAMP:20260422T152750
CREATED:20250618T163933Z
LAST-MODIFIED:20250618T164315Z
UID:10004967-1800606600-1800613800@iwcbda.com
SUMMARY:Art Group
DESCRIPTION:
URL:https://iwcbda.com/event/art-group/2027-01-22/
CATEGORIES:weekly
END:VEVENT
BEGIN:VEVENT
DTSTART;TZID=Atlantic/Bermuda:20270125T083000
DTEND;TZID=Atlantic/Bermuda:20270125T103000
DTSTAMP:20260422T152750
CREATED:20260206T160646Z
LAST-MODIFIED:20260206T160647Z
UID:10006770-1800865800-1800873000@iwcbda.com
SUMMARY:IWC Bermuda Trekkers
DESCRIPTION:
URL:https://iwcbda.com/event/iwc-bermuda-trekkers-2/2027-01-25/
CATEGORIES:weekly
END:VEVENT
BEGIN:VEVENT
DTSTART;TZID=Atlantic/Bermuda:20270125T090000
DTEND;TZID=Atlantic/Bermuda:20270125T130000
DTSTAMP:20260422T152750
CREATED:20260205T144340Z
LAST-MODIFIED:20260205T144340Z
UID:10007379-1800867600-1800882000@iwcbda.com
SUMMARY:Gotta Golf Monday
DESCRIPTION:Join Val and fellow IWC golfers for 18 holes every Monday!The cost is $50 (BHGC members pay the cart fee only) and includes either a shared cart or a push cart. Some of us walk the front nine and ride the back nine. The price is the same no matter how you get around the course. \nIt’s the best golf deal in Bermy — and it’s exclusively for IWC members!
URL:https://iwcbda.com/event/gotta-golf-monday/2027-01-25/
LOCATION:Belmont Hills Golf Course\, Warwick\, WK06\, Bermuda
CATEGORIES:golf,weekly
ORGANIZER;CN="Val Platt":MAILTO:val@transact.bm
END:VEVENT
BEGIN:VEVENT
DTSTART;TZID=Atlantic/Bermuda:20270126T120000
DTEND;TZID=Atlantic/Bermuda:20270126T150000
DTSTAMP:20260422T152750
CREATED:20250618T164705Z
LAST-MODIFIED:20250618T164705Z
UID:10005979-1800964800-1800975600@iwcbda.com
SUMMARY:Mahjong
DESCRIPTION:
URL:https://iwcbda.com/event/mahjong/2027-01-26/
LOCATION:Dinghy Club\, 26 Pomander Rd\, Hamilton\, Bermuda
CATEGORIES:weekly
END:VEVENT
BEGIN:VEVENT
DTSTART;TZID=Atlantic/Bermuda:20270128T080000
DTEND;TZID=Atlantic/Bermuda:20270128T093000
DTSTAMP:20260422T152750
CREATED:20250618T170618Z
LAST-MODIFIED:20250618T170618Z
UID:10006433-1801123200-1801128600@iwcbda.com
SUMMARY:IWC Tennis
DESCRIPTION:
URL:https://iwcbda.com/event/iwc-tennis/2027-01-28/
LOCATION:W.E.R. Joell Tennis Stadium\, 2 Marsh Folly Rd\, Pembroke\, Bermuda
CATEGORIES:sports,weekly
END:VEVENT
BEGIN:VEVENT
DTSTART;TZID=Atlantic/Bermuda:20270128T110000
DTEND;TZID=Atlantic/Bermuda:20270128T140000
DTSTAMP:20260422T152750
CREATED:20250317T140018Z
LAST-MODIFIED:20250317T140018Z
UID:10003524-1801134000-1801144800@iwcbda.com
SUMMARY:IWC Vegetarian Cook Club
DESCRIPTION:
URL:https://iwcbda.com/event/iwc-vegetarian-cook-club-2/2027-01-28/
CATEGORIES:monthly
END:VEVENT
BEGIN:VEVENT
DTSTART;TZID=Atlantic/Bermuda:20270128T160000
DTEND;TZID=Atlantic/Bermuda:20270128T180000
DTSTAMP:20260422T152750
CREATED:20250618T164459Z
LAST-MODIFIED:20250618T164459Z
UID:10005642-1801152000-1801159200@iwcbda.com
SUMMARY:IWC Happy Hour
DESCRIPTION:
URL:https://iwcbda.com/event/iwc-happy-hour/2027-01-28/
CATEGORIES:social,weekly
END:VEVENT
BEGIN:VEVENT
DTSTART;TZID=Atlantic/Bermuda:20270129T083000
DTEND;TZID=Atlantic/Bermuda:20270129T103000
DTSTAMP:20260422T152750
CREATED:20250618T163933Z
LAST-MODIFIED:20250618T164315Z
UID:10004968-1801211400-1801218600@iwcbda.com
SUMMARY:Art Group
DESCRIPTION:
URL:https://iwcbda.com/event/art-group/2027-01-29/
CATEGORIES:weekly
END:VEVENT
BEGIN:VEVENT
DTSTART;TZID=Atlantic/Bermuda:20270201T083000
DTEND;TZID=Atlantic/Bermuda:20270201T103000
DTSTAMP:20260422T152750
CREATED:20260206T160646Z
LAST-MODIFIED:20260206T160647Z
UID:10006771-1801470600-1801477800@iwcbda.com
SUMMARY:IWC Bermuda Trekkers
DESCRIPTION:
URL:https://iwcbda.com/event/iwc-bermuda-trekkers-2/2027-02-01/
CATEGORIES:weekly
END:VEVENT
BEGIN:VEVENT
DTSTART;TZID=Atlantic/Bermuda:20270201T090000
DTEND;TZID=Atlantic/Bermuda:20270201T130000
DTSTAMP:20260422T152750
CREATED:20260205T144340Z
LAST-MODIFIED:20260205T144340Z
UID:10007380-1801472400-1801486800@iwcbda.com
SUMMARY:Gotta Golf Monday
DESCRIPTION:Join Val and fellow IWC golfers for 18 holes every Monday!The cost is $50 (BHGC members pay the cart fee only) and includes either a shared cart or a push cart. Some of us walk the front nine and ride the back nine. The price is the same no matter how you get around the course. \nIt’s the best golf deal in Bermy — and it’s exclusively for IWC members!
URL:https://iwcbda.com/event/gotta-golf-monday/2027-02-01/
LOCATION:Belmont Hills Golf Course\, Warwick\, WK06\, Bermuda
CATEGORIES:golf,weekly
ORGANIZER;CN="Val Platt":MAILTO:val@transact.bm
END:VEVENT
BEGIN:VEVENT
DTSTART;TZID=Atlantic/Bermuda:20270202T120000
DTEND;TZID=Atlantic/Bermuda:20270202T150000
DTSTAMP:20260422T152750
CREATED:20250618T164705Z
LAST-MODIFIED:20250618T164705Z
UID:10005980-1801569600-1801580400@iwcbda.com
SUMMARY:Mahjong
DESCRIPTION:
URL:https://iwcbda.com/event/mahjong/2027-02-02/
LOCATION:Dinghy Club\, 26 Pomander Rd\, Hamilton\, Bermuda
CATEGORIES:weekly
END:VEVENT
BEGIN:VEVENT
DTSTART;TZID=Atlantic/Bermuda:20270202T180000
DTEND;TZID=Atlantic/Bermuda:20270202T200000
DTSTAMP:20260422T152750
CREATED:20250618T163215Z
LAST-MODIFIED:20260402T173956Z
UID:10004136-1801591200-1801598400@iwcbda.com
SUMMARY:Coolest Book Club Ever
DESCRIPTION:
URL:https://iwcbda.com/event/coolest-book-club-ever/2027-02-02/
CATEGORIES:monthly
END:VEVENT
BEGIN:VEVENT
DTSTART;TZID=Atlantic/Bermuda:20270204T080000
DTEND;TZID=Atlantic/Bermuda:20270204T093000
DTSTAMP:20260422T152750
CREATED:20250618T170618Z
LAST-MODIFIED:20250618T170618Z
UID:10006434-1801728000-1801733400@iwcbda.com
SUMMARY:IWC Tennis
DESCRIPTION:
URL:https://iwcbda.com/event/iwc-tennis/2027-02-04/
LOCATION:W.E.R. Joell Tennis Stadium\, 2 Marsh Folly Rd\, Pembroke\, Bermuda
CATEGORIES:sports,weekly
END:VEVENT
BEGIN:VEVENT
DTSTART;TZID=Atlantic/Bermuda:20270204T110000
DTEND;TZID=Atlantic/Bermuda:20270204T140000
DTSTAMP:20260422T152750
CREATED:20250618T161717Z
LAST-MODIFIED:20250618T163601Z
UID:10004352-1801738800-1801749600@iwcbda.com
SUMMARY:Cooking Thyme
DESCRIPTION:
URL:https://iwcbda.com/event/cooking-thyme-2/2027-02-04/
CATEGORIES:monthly
END:VEVENT
BEGIN:VEVENT
DTSTART;TZID=Atlantic/Bermuda:20270204T160000
DTEND;TZID=Atlantic/Bermuda:20270204T180000
DTSTAMP:20260422T152750
CREATED:20250618T164459Z
LAST-MODIFIED:20250618T164459Z
UID:10005643-1801756800-1801764000@iwcbda.com
SUMMARY:IWC Happy Hour
DESCRIPTION:
URL:https://iwcbda.com/event/iwc-happy-hour/2027-02-04/
CATEGORIES:social,weekly
END:VEVENT
BEGIN:VEVENT
DTSTART;TZID=Atlantic/Bermuda:20270205T083000
DTEND;TZID=Atlantic/Bermuda:20270205T103000
DTSTAMP:20260422T152750
CREATED:20250618T163933Z
LAST-MODIFIED:20250618T164315Z
UID:10004969-1801816200-1801823400@iwcbda.com
SUMMARY:Art Group
DESCRIPTION:
URL:https://iwcbda.com/event/art-group/2027-02-05/
CATEGORIES:weekly
END:VEVENT
BEGIN:VEVENT
DTSTART;TZID=Atlantic/Bermuda:20270208T083000
DTEND;TZID=Atlantic/Bermuda:20270208T103000
DTSTAMP:20260422T152750
CREATED:20260206T160646Z
LAST-MODIFIED:20260206T160647Z
UID:10006772-1802075400-1802082600@iwcbda.com
SUMMARY:IWC Bermuda Trekkers
DESCRIPTION:
URL:https://iwcbda.com/event/iwc-bermuda-trekkers-2/2027-02-08/
CATEGORIES:weekly
END:VEVENT
BEGIN:VEVENT
DTSTART;TZID=Atlantic/Bermuda:20270208T090000
DTEND;TZID=Atlantic/Bermuda:20270208T130000
DTSTAMP:20260422T152750
CREATED:20260205T144340Z
LAST-MODIFIED:20260205T144340Z
UID:10007381-1802077200-1802091600@iwcbda.com
SUMMARY:Gotta Golf Monday
DESCRIPTION:Join Val and fellow IWC golfers for 18 holes every Monday!The cost is $50 (BHGC members pay the cart fee only) and includes either a shared cart or a push cart. Some of us walk the front nine and ride the back nine. The price is the same no matter how you get around the course. \nIt’s the best golf deal in Bermy — and it’s exclusively for IWC members!
URL:https://iwcbda.com/event/gotta-golf-monday/2027-02-08/
LOCATION:Belmont Hills Golf Course\, Warwick\, WK06\, Bermuda
CATEGORIES:golf,weekly
ORGANIZER;CN="Val Platt":MAILTO:val@transact.bm
END:VEVENT
BEGIN:VEVENT
DTSTART;TZID=Atlantic/Bermuda:20270208T183000
DTEND;TZID=Atlantic/Bermuda:20270208T203000
DTSTAMP:20260422T152750
CREATED:20250618T163751Z
LAST-MODIFIED:20250618T163751Z
UID:10004430-1802111400-1802118600@iwcbda.com
SUMMARY:Rougish Readers
DESCRIPTION:
URL:https://iwcbda.com/event/rougish-readers/2027-02-08/
CATEGORIES:monthly
END:VEVENT
BEGIN:VEVENT
DTSTART;TZID=Atlantic/Bermuda:20270209T120000
DTEND;TZID=Atlantic/Bermuda:20270209T150000
DTSTAMP:20260422T152750
CREATED:20250618T164705Z
LAST-MODIFIED:20250618T164705Z
UID:10005981-1802174400-1802185200@iwcbda.com
SUMMARY:Mahjong
DESCRIPTION:
URL:https://iwcbda.com/event/mahjong/2027-02-09/
LOCATION:Dinghy Club\, 26 Pomander Rd\, Hamilton\, Bermuda
CATEGORIES:weekly
END:VEVENT
BEGIN:VEVENT
DTSTART;TZID=Atlantic/Bermuda:20270209T123000
DTEND;TZID=Atlantic/Bermuda:20270209T133000
DTSTAMP:20260422T152750
CREATED:20250618T163351Z
LAST-MODIFIED:20250618T163351Z
UID:10004214-1802176200-1802179800@iwcbda.com
SUMMARY:Page Against the Machine
DESCRIPTION:
URL:https://iwcbda.com/event/page-against-the-machine/2027-02-09/
LOCATION:Botanical Gardens\, 169 South Rd\, Devonshire\, Bermuda
CATEGORIES:monthly
END:VEVENT
END:VCALENDAR